Config-IniFiles v2.96 Perl 5 v5.8.9 x86_64-gnukfreebsd

Status
Pass
From
Chris Williams (BINGOS)
Dist
Config-IniFiles v2.96
Platform
Perl 5 v5.8.9 x86_64-gnukfreebsd
Date
2018-04-08 07:02:01
ID
bc5e1cb8-3afa-11e8-a1cf-bb670eaac09d
This distribution has been tested as part of the CPAN Testers
project, supporting the Perl programming language.  See
http://wiki.cpantesters.org/ for more information or email
questions to cpan-testers-discuss@perl.org


--

Dear SHLOMIF,

This is a computer-generated error report created automatically by
CPANPLUS, version 0.9172. Testers personal comments may appear
at the end of this report.


Thank you for uploading your work to CPAN.  Congratulations!
All tests were successful.

TEST RESULTS:

Below is the error stack from stage 'make test':

t/00-compile.t ................................ ok
t/00load.t .................................... ok
t/01basic.t ................................... ok
t/02weird.t ................................... ok
t/03comments.t ................................ ok
t/04import.t .................................. ok
t/05hash.t .................................... ok
t/06oo.t ...................................... ok
t/07misc.t .................................... ok
t/08group.t ................................... ok
t/09case.t .................................... ok
t/10delta.t ................................... ok
t/11copy-ties-with-array-vals.t ............... ok
t/12open-empty-file.t ......................... ok
t/13val-in-list-context.t ..................... ok
t/14brackets-within-values.t .................. ok
t/15store-and-retrieve-here-doc-terminator.t .. ok
t/16case-sensitive-default.t .................. ok
t/17untainted-multiline-values.t .............. ok
t/18non-contiguous-groups.t ................... ok
t/19param-found-outside-section.t ............. ok
t/20allowedcommentchars.t ..................... ok
t/22trailing-comment-lines.t .................. ok
t/23scalar-ref.t .............................. ok
t/24case-sensitive-exists.t ................... ok
t/25line-endings.t ............................ ok
t/26scalar-filehandle.t ....................... ok
t/27empty-ini.t ............................... ok
t/28nomultiline.t ............................. ok
t/29end-of-line-comment.t ..................... ok
t/30parameters-with-empty-values.t ............ ok
t/31comments_with_spaces.t .................... ok
t/32mswin-outputs-contain-crs.t ............... skipped: Test is only relevant for Microsoft Windows
untie attempted while 1 inner references still exist at t/33update-using-tied-fh-w-shorter-names.t line 52.
t/33update-using-tied-fh-w-shorter-names.t .... ok
t/34trailing-comments-double-delimeter.t ...... ok
t/35reload-config-no-file.t ................... ok
t/35section-iterators.t ....................... ok
t/author-pod-coverage.t ....................... skipped: these tests are for testing by the author
t/author-pod-syntax.t ......................... skipped: these tests are for testing by the author
t/author-tidyall.t ............................ skipped: these tests are for testing by the author
t/cpan-changes.t .............................. skipped: Test::CPAN::Changes required for this test
t/pod-coverage.t .............................. skipped: Test::Pod::Coverage 1.04 required for testing POD coverage
t/pod.t ....................................... skipped: Test::Pod 1.14 required for testing POD
t/release-cpan-changes.t ...................... skipped: these tests are for release candidate testing
t/style-trailing-space.t ...................... skipped: Test::TrailingSpace required for trailing space test.
All tests successful.
Files=45, Tests=199,  3 wallclock secs ( 0.07 usr  0.10 sys +  1.78 cusr  0.72 csys =  2.67 CPU)
Result: PASS


PREREQUISITES:

Here is a list of prerequisites you specified and versions we
managed to load:

	  Module Name                        Have     Want
	  Carp                               1.10        0
	  English                            1.03        0
	  Exporter                           5.63        0
	  Fcntl                              1.06        0
	  File::Basename                     2.77        0
	  File::Spec                         3.74        0
	  File::Temp                       0.2304        0
	  IO::File                           1.14        0
	  IO::Handle                         1.27        0
	  IO::Scalar                        2.111        0
	  IPC::Open3                         1.03        0
	  List::Util                         1.50     1.33
	  Module::Build                    0.4224     0.28
	  Scalar::Util                       1.50        0
	  Symbol                             1.06        0
	  Test::More                     1.302135        0
	  base                               2.13        0
	  lib                                0.61        0
	  parent                            0.234        0
	  strict                             1.03        0
	  vars                               1.01        0
	  warnings                        1.05_01        0

Perl module toolchain versions installed:
	Module Name                        Have
	CPANPLUS                         0.9172
	CPANPLUS::Dist::Build              0.88
	Cwd                                3.74
	ExtUtils::CBuilder             0.280230
	ExtUtils::Command                  7.34
	ExtUtils::Install                  2.14
	ExtUtils::MakeMaker                7.34
	ExtUtils::Manifest                 1.70
	ExtUtils::ParseXS                  3.35
	File::Spec                         3.74
	Module::Build                    0.4224
	Pod::Parser                        1.35
	Pod::Simple                        3.32
	Test2                          1.302135
	Test::Harness                      3.42
	Test::More                     1.302135
	version                          0.9918

******************************** NOTE ********************************
The comments above are created mechanically, possibly without manual
checking by the sender.  As there are many people performing automatic
tests on each upload to CPAN, it is likely that you will receive
identical messages about the same problem.

If you believe that the message is mistaken, please reply to the first
one with correction and/or additional informations, and do not take
it personally.  We appreciate your patience. :)
**********************************************************************

Additional comments:


This report was machine-generated by CPANPLUS::Dist::YACSmoke 1.02.
Powered by minismokebox version 0.68

------------------------------
ENVIRONMENT AND OTHER CONTEXT
------------------------------

Environment variables:

    AUTOMATED_TESTING = 1
    LANG = en_GB.UTF-8
    LANGUAGE = en_GB:en
    NONINTERACTIVE_TESTING = 1
    PATH = /usr/local/bin:/usr/bin:/bin:/usr/local/games:/usr/games
    PERL5LIB = :/home/cpan/pit/bare/conf/perl-5.8.9/.cpanplus/5.8.9/build/yR0QVQPami/IO-stringy-2.111/blib/lib:/home/cpan/pit/bare/conf/perl-5.8.9/.cpanplus/5.8.9/build/yR0QVQPami/IO-stringy-2.111/blib/arch:/home/cpan/pit/bare/conf/perl-5.8.9/.cpanplus/5.8.9/build/yXDgZGB02g/Scalar-List-Utils-1.50/blib/lib:/home/cpan/pit/bare/conf/perl-5.8.9/.cpanplus/5.8.9/build/yXDgZGB02g/Scalar-List-Utils-1.50/blib/arch:/home/cpan/pit/bare/conf/perl-5.8.9/.cpanplus/5.8.9/build/J5x95rQH2p/Config-IniFiles-2.96/blib/lib:/home/cpan/pit/bare/conf/perl-5.8.9/.cpanplus/5.8.9/build/J5x95rQH2p/Config-IniFiles-2.96/blib/arch
    PERL5_CPANPLUS_IS_RUNNING = 23669
    PERL5_CPANPLUS_IS_VERSION = 0.9172
    PERL5_MINISMOKEBOX = 0.68
    PERL5_YACSMOKE_BASE = /home/cpan/pit/bare/conf/perl-5.8.9
    PERL_EXTUTILS_AUTOINSTALL = --defaultdeps
    PERL_MM_USE_DEFAULT = 1
    SHELL = /bin/bash
    TERM = screen

Perl special variables (and OS-specific diagnostics, for MSWin32):

    Perl: $^X = /home/cpan/pit/bare/perl-5.8.9/bin/perl
    UID:  $<  = 1001
    EUID: $>  = 1001
    GID:  $(  = 1001 1001
    EGID: $)  = 1001 1001


-------------------------------


--

Summary of my perl5 (revision 5 version 8 subversion 9) configuration:
  Platform:
    osname=gnukfreebsd, osvers=10.1-0-amd64, archname=x86_64-gnukfreebsd
    uname='gnukfreebsd kondor 10.1-0-amd64 #0 wed, 16 mar 2016 23:16:33 +0000 x86_64 amd64 qemu virtual cpu version 2.0.0 gnukfreebsd '
    config_args='-des -Dprefix=/home/cpan/pit/bare/perl-5.8.9'
    hint=recommended, useposix=true, d_sigaction=define
    usethreads=undef use5005threads=undef useithreads=undef usemultiplicity=undef
    useperlio=define d_sfio=undef uselargefiles=define usesocks=undef
    use64bitint=define use64bitall=define uselongdouble=undef
    usemymalloc=n, bincompat5005=undef
  Compiler:
    cc='cc', ccflags ='-fno-strict-aliasing -pipe -I/usr/local/include -D_LARGEFILE_SOURCE -D_FILE_OFFSET_BITS=64',
    optimize='-O2',
    cppflags='-fno-strict-aliasing -pipe -I/usr/local/include'
    ccversion='', gccversion='4.9.2', gccosandvers=''
    intsize=4, longsize=8, ptrsize=8, doublesize=8, byteorder=12345678
    d_longlong=define, longlongsize=8, d_longdbl=define, longdblsize=16
    ivtype='long', ivsize=8, nvtype='double', nvsize=8, Off_t='off_t', lseeksize=8
    alignbytes=8, prototype=define
  Linker and Libraries:
    ld='cc', ldflags =' -L/usr/local/lib'
    libpth=/usr/local/lib /lib/x86_64-kfreebsd-gnu /lib/../lib /usr/lib/x86_64-kfreebsd-gnu /usr/lib/../lib /lib /usr/lib
    libs=-lnsl -lgdbm -ldl -lm -lcrypt -lutil -lc -lgdbm_compat
    perllibs=-lnsl -ldl -lm -lcrypt -lutil -lc -lgdbm_compat
    libc=/usr/lib/x86_64-kfreebsd-gnu/libc.so, so=so, useshrplib=false, libperl=libperl.a
    gnulibc_version='2.19'
  Dynamic Linking:
    dlsrc=dl_dlopen.xs, dlext=so, d_dlsymun=undef, ccdlflags='-Wl,-E'
    cccdlflags='-fpic', lddlflags='-shared -O2 -L/usr/local/lib'


Characteristics of this binary (from libperl): 
  Compile-time options: PERL_MALLOC_WRAP USE_64_BIT_ALL USE_64_BIT_INT
                        USE_FAST_STDIO USE_LARGE_FILES USE_PERLIO
  Locally applied patches:
	Devel::PatchPerl 1.42
  Built under gnukfreebsd
  Compiled at May  6 2016 22:18:18
  %ENV:
    PERL5LIB=":/home/cpan/pit/bare/conf/perl-5.8.9/.cpanplus/5.8.9/build/yR0QVQPami/IO-stringy-2.111/blib/lib:/home/cpan/pit/bare/conf/perl-5.8.9/.cpanplus/5.8.9/build/yR0QVQPami/IO-stringy-2.111/blib/arch:/home/cpan/pit/bare/conf/perl-5.8.9/.cpanplus/5.8.9/build/yXDgZGB02g/Scalar-List-Utils-1.50/blib/lib:/home/cpan/pit/bare/conf/perl-5.8.9/.cpanplus/5.8.9/build/yXDgZGB02g/Scalar-List-Utils-1.50/blib/arch:/home/cpan/pit/bare/conf/perl-5.8.9/.cpanplus/5.8.9/build/J5x95rQH2p/Config-IniFiles-2.96/blib/lib:/home/cpan/pit/bare/conf/perl-5.8.9/.cpanplus/5.8.9/build/J5x95rQH2p/Config-IniFiles-2.96/blib/arch"
    PERL5_CPANPLUS_IS_RUNNING="23669"
    PERL5_CPANPLUS_IS_VERSION="0.9172"
    PERL5_MINISMOKEBOX="0.68"
    PERL5_YACSMOKE_BASE="/home/cpan/pit/bare/conf/perl-5.8.9"
    PERL_EXTUTILS_AUTOINSTALL="--defaultdeps"
    PERL_MM_USE_DEFAULT="1"
  @INC:
    /home/cpan/pit/bare/conf/perl-5.8.9/.cpanplus/5.8.9/build/yR0QVQPami/IO-stringy-2.111/blib/lib
    /home/cpan/pit/bare/conf/perl-5.8.9/.cpanplus/5.8.9/build/yR0QVQPami/IO-stringy-2.111/blib/arch
    /home/cpan/pit/bare/conf/perl-5.8.9/.cpanplus/5.8.9/build/yXDgZGB02g/Scalar-List-Utils-1.50/blib/lib
    /home/cpan/pit/bare/conf/perl-5.8.9/.cpanplus/5.8.9/build/yXDgZGB02g/Scalar-List-Utils-1.50/blib/arch
    /home/cpan/pit/bare/conf/perl-5.8.9/.cpanplus/5.8.9/build/J5x95rQH2p/Config-IniFiles-2.96/blib/lib
    /home/cpan/pit/bare/conf/perl-5.8.9/.cpanplus/5.8.9/build/J5x95rQH2p/Config-IniFiles-2.96/blib/arch
    /home/cpan/pit/bare/perl-5.8.9/lib/5.8.9/x86_64-gnukfreebsd
    /home/cpan/pit/bare/perl-5.8.9/lib/5.8.9
    /home/cpan/pit/bare/perl-5.8.9/lib/site_perl/5.8.9/x86_64-gnukfreebsd
    /home/cpan/pit/bare/perl-5.8.9/lib/site_perl/5.8.9
    .