Search-Elasticsearch-Async v6.00 Perl 5 v5.28.1 amd64-freebsd

Status
Pass
From
Slaven Rezić (SREZIC)
Dist
Search-Elasticsearch-Async v6.00
Platform
Perl 5 v5.28.1 amd64-freebsd
Date
2020-03-12 12:26:44
ID
bc67eb02-645c-11ea-bf16-bb501f24ea8f
This distribution has been tested as part of the CPAN Testers
project, supporting the Perl programming language.  See
http://wiki.cpantesters.org/ for more information or email
questions to cpan-testers-discuss@perl.org


--
Dear Clinton Gormley,

This is a computer-generated report for Search-Elasticsearch-Async-6.00
on perl 5.28.1, created by CPAN-Reporter-1.2018.

Thank you for uploading your work to CPAN.  Congratulations!
All tests were successful.

Sections of this report:

    * Tester comments
    * Program output
    * Prerequisites
    * Environment and other context

------------------------------
TESTER COMMENTS
------------------------------

Additional comments from tester:

none provided

------------------------------
PROGRAM OUTPUT
------------------------------

Output from '/usr/bin/make test':

PERL_DL_NONLAZY=1 "/usr/perl5.28.1p/bin/perl" "-MExtUtils::Command::MM" "-MTest::Harness" "-e" "undef *Test::Harness::Switches; test_harness(0, 'blib/lib', 'blib/arch')" t/*.t t/10_Basic_Async/*.t t/20_Serializer_Async/*.t t/30_Logger_Async/*.t t/40_Transport_Async/*.t t/50_Cxn_Pool_Async/*.t t/60_Cxn_Async/*.t t/Client_6_0_Async/*.t
t/10_Basic_Async/10_load.t .......................... ok
t/20_Serializer_Async/10_load_cpanel.t .............. ok
t/20_Serializer_Async/11_load_xs.t .................. ok
t/20_Serializer_Async/12_load_pp.t .................. ok
t/20_Serializer_Async/13_preload_cpanel.t ........... ok
t/20_Serializer_Async/14_preload_xs.t ............... ok
t/20_Serializer_Async/20_xs_encode_decode.t ......... ok
t/20_Serializer_Async/21_xs_encode_bulk.t ........... ok
t/20_Serializer_Async/22_xs_encode_pretty.t ......... ok
t/20_Serializer_Async/30_cpanel_encode_decode.t ..... ok
t/20_Serializer_Async/31_cpanel_encode_bulk.t ....... ok
t/20_Serializer_Async/32_cpanel_encode_pretty.t ..... ok
t/20_Serializer_Async/40_pp_encode_decode.t ......... ok
t/20_Serializer_Async/41_pp_encode_bulk.t ........... ok
t/20_Serializer_Async/42_pp_encode_pretty.t ......... ok
Current cxns: ["http://localhost:9200"]
Forcing ping before next use on all live cxns
Ping [http://localhost:9200] before next request
t/30_Logger_Async/10_explicit.t ..................... ok
Current cxns: ["http://localhost:9200"]
Forcing ping before next use on all live cxns
Ping [http://localhost:9200] before next request
t/30_Logger_Async/20_implicit.t ..................... ok
t/30_Logger_Async/30_log_methods.t .................. ok
t/30_Logger_Async/40_trace_request.t ................ ok
t/30_Logger_Async/50_trace_response.t ............... ok
t/30_Logger_Async/60_trace_error.t .................. ok
t/30_Logger_Async/70_trace_comment.t ................ ok
t/30_Logger_Async/80_deprecation_methods.t .......... ok
t/40_Transport_Async/10_tidy_request.t .............. ok
t/40_Transport_Async/20_send_body_as.t .............. ok
t/40_Transport_Async/30_perform_request.t ........... ok
t/50_Cxn_Pool_Async/10_static_normal.t .............. ok
t/50_Cxn_Pool_Async/11_static_node_missing.t ........ ok
t/50_Cxn_Pool_Async/12_static_node_fails.t .......... ok
t/50_Cxn_Pool_Async/13_static_node_timesout.t ....... ok
t/50_Cxn_Pool_Async/14_static_both_nodes_timeout.t .. ok
t/50_Cxn_Pool_Async/15_static_both_nodes_fail.t ..... ok
t/50_Cxn_Pool_Async/16_static_nodes_starting.t ...... ok
t/50_Cxn_Pool_Async/17_static_runaway_nodes.t ....... ok
t/50_Cxn_Pool_Async/30_sniff_normal.t ............... ok
t/50_Cxn_Pool_Async/31_sniff_new_nodes.t ............ ok
t/50_Cxn_Pool_Async/32_sniff_node_fails.t ........... ok
t/50_Cxn_Pool_Async/33_sniff_both_nodes_fail.t ...... ok
t/50_Cxn_Pool_Async/34_sniff_node_timeout.t ......... ok
t/50_Cxn_Pool_Async/35_sniff_both_nodes_timeout.t ... ok
t/50_Cxn_Pool_Async/36_sniff_nodes_starting.t ....... ok
t/50_Cxn_Pool_Async/37_sniff_runaway_nodes.t ........ ok
t/50_Cxn_Pool_Async/38_bad_sniff.t .................. ok
t/50_Cxn_Pool_Async/39_sniff_max_content.t .......... ok
t/50_Cxn_Pool_Async/40_sniff_extract_host.t ......... ok
t/50_Cxn_Pool_Async/50_noping_normal.t .............. ok
t/50_Cxn_Pool_Async/51_noping_node_fails.t .......... ok
t/50_Cxn_Pool_Async/52_noping_node_timesout.t ....... ok
t/50_Cxn_Pool_Async/53_noping_all_nodes_fail.t ...... ok
t/50_Cxn_Pool_Async/54_noping_nodes_starting.t ...... ok
t/50_Cxn_Pool_Async/55_noping_runaway_nodes.t ....... ok
t/50_Cxn_Pool_Async/56_max_retries.t ................ ok
t/60_Cxn_Async/10_basic.t ........................... ok
t/60_Cxn_Async/20_process_response.t ................ ok
t/60_Cxn_Async/30_http.t ............................ ok
t/author-eol.t ...................................... skipped: these tests are for testing by the author
t/author-no-tabs.t .................................. skipped: these tests are for testing by the author
t/author-pod-syntax.t ............................... skipped: these tests are for testing by the author
t/Client_6_0_Async/00_print_version.t ............... skipped: No Elasticsearch test node available
t/Client_6_0_Async/10_live.t ........................ skipped: No Elasticsearch test node available
t/Client_6_0_Async/15_conflict.t .................... skipped: No Elasticsearch test node available
t/Client_6_0_Async/20_fork_aehttp.t ................. skipped: No Elasticsearch test node available
t/Client_6_0_Async/21_fork_mojo.t ................... skipped: No Elasticsearch test node available
t/Client_6_0_Async/30_bulk_add_action.t ............. skipped: No Elasticsearch test node available
t/Client_6_0_Async/31_bulk_helpers.t ................ skipped: No Elasticsearch test node available
t/Client_6_0_Async/32_bulk_flush.t .................. skipped: No Elasticsearch test node available
t/Client_6_0_Async/33_bulk_errors.t ................. skipped: No Elasticsearch test node available
t/Client_6_0_Async/34_bulk_cxn_errors.t ............. ok
t/Client_6_0_Async/40_scroll.t ...................... skipped: No Elasticsearch test node available
t/Client_6_0_Async/60_auth_aehttp.t ................. skipped: AEHTTP - No https server specified in ES_SSL
t/Client_6_0_Async/61_auth_mojo.t ................... skipped: Mojo - No https server specified in ES_SSL
All tests successful.
Files=71, Tests=486, 16 wallclock secs ( 0.02 usr  0.25 sys +  2.08 cusr 10.01 csys = 12.36 CPU)
Result: PASS

------------------------------
PREREQUISITES
------------------------------

Prerequisite modules loaded:

requires:

    Module                      Need Have    
    --------------------------- ---- --------
    AnyEvent::HTTP              0    2.24    
    AnyEvent::TLS               0    7.15    
    Moo                         0    2.003006
    Moo::Role                   0    2.003006
    namespace::clean            0    0.27    
    parent                      0    0.236   
    Promises                    0.93 1.03    
    Scalar::Util                0    1.54    
    Search::Elasticsearch       6.00 6.00    
    Sub::Exporter               0    0.987   
    Time::HiRes                 0    1.9759  
    Try::Tiny                   0    0.30    

build_requires:

    Module                      Need Have    
    --------------------------- ---- --------
    AE                          0    7.15    
    Cpanel::JSON::XS            0    4.18    
    Data::Dumper                0    2.173   
    EV                          0    4.27    
    File::Temp                  0    0.2309  
    JSON::PP                    0    4.03    
    JSON::XS                    0    4.02    
    lib                         0    0.64    
    Log::Any::Adapter           0    1.708   
    Log::Any::Adapter::Callback 0.09 0.09    
    POSIX                       0    1.84    
    strict                      0    1.11    
    Test::Deep                  0    1.130   
    Test::Exception             0    0.43    
    Test::More                  0.98 1.302170
    warnings                    0    1.42    


------------------------------
ENVIRONMENT AND OTHER CONTEXT
------------------------------

Environment variables:

    LC_ALL = de_DE.ISO8859-1
    PATH = /usr/local/bin:/usr/bin:/bin:/usr/local/sbin:/usr/sbin:/sbin:/home/cpansand/bin/freebsd10.3:/home/cpansand/bin/sh:/home/cpansand/bin:/usr/games:/home/cpansand/devel:/home/eserte/src/srezic-misc/scripts
    PERL5LIB = 
    PERL5OPT = 
    PERL5_CPANPLUS_IS_RUNNING = 82317
    PERL5_CPAN_IS_RUNNING = 82317
    PERL5_CPAN_IS_RUNNING_IN_RECURSION = 74305,82317
    PERLDOC = -MPod::Perldoc::ToTextOverstrike
    PERL_BATCH = yes
    PERL_CANARY_STABILITY_NOPROMPT = 1
    PERL_CPAN_REPORTER_CONFIG = /var/tmp/cpansmoker-1023/2020031213/cpanreporter_000_config.ini
    PERL_EXTUTILS_AUTOINSTALL = --defaultdeps
    PERL_USE_UNSAFE_INC = 1
    SHELL = /usr/local/bin/zsh
    TERM = screen
    TMPDIR = /var/tmp/cpansmoker-1023/2020031213

Perl special variables (and OS-specific diagnostics, for MSWin32):

    $^X = /usr/perl5.28.1p/bin/perl
    $UID/$EUID = 1023 / 1023
    $GID = 1023 1023
    $EGID = 1023 1023

Perl module toolchain versions installed:

    Module              Have    
    ------------------- --------
    CPAN                2.27    
    CPAN::Meta          2.150010
    Cwd                 3.75    
    ExtUtils::CBuilder  0.280231
    ExtUtils::Command   7.42    
    ExtUtils::Install   2.14    
    ExtUtils::MakeMaker 7.42    
    ExtUtils::Manifest  1.70    
    ExtUtils::ParseXS   3.39    
    File::Spec          3.75    
    JSON                4.02    
    JSON::PP            4.03    
    Module::Build       0.4229  
    Module::Signature   n/a     
    Parse::CPAN::Meta   2.150010
    Test::Harness       3.42    
    Test::More          1.302170
    YAML                1.29    
    YAML::Syck          1.31    
    version             0.9924  


--

Summary of my perl5 (revision 5 version 28 subversion 1) configuration:
   
  Platform:
    osname=freebsd
    osvers=10.3-release-p24
    archname=amd64-freebsd
    uname='freebsd cvrsnica-freebsd-101.herceg.de 10.3-release-p24 freebsd 10.3-release-p24 #0: wed nov 15 04:57:40 utc 2017 root@amd64-builder.daemonology.net:usrobjusrsrcsysgeneric amd64 '
    config_args='-ds -e -Dprefix=/usr/perl5.28.1p -Dcf_email=srezic@cpan.org -Doptimize=-O2 -pipe'
    hint=recommended
    useposix=true
    d_sigaction=define
    useithreads=undef
    usemultiplicity=undef
    use64bitint=define
    use64bitall=define
    uselongdouble=undef
    usemymalloc=n
    default_inc_excludes_dot=define
    bincompat5005=undef
  Compiler:
    cc='cc'
    ccflags ='-DHAS_FPSETMASK -DHAS_FLOATINGPOINT_H -fno-strict-aliasing -pipe -fstack-protector -I/usr/local/include -D_FORTIFY_SOURCE=2'
    optimize='-O2 -pipe'
    cppflags='-DHAS_FPSETMASK -DHAS_FLOATINGPOINT_H -fno-strict-aliasing -pipe -fstack-protector -I/usr/local/include'
    ccversion=''
    gccversion='4.2.1 Compatible FreeBSD Clang 3.4.1 (tags/RELEASE_34/dot1-final 208032)'
    gccosandvers=''
    intsize=4
    longsize=8
    ptrsize=8
    doublesize=8
    byteorder=12345678
    doublekind=3
    d_longlong=define
    longlongsize=8
    d_longdbl=define
    longdblsize=16
    longdblkind=3
    ivtype='long'
    ivsize=8
    nvtype='double'
    nvsize=8
    Off_t='off_t'
    lseeksize=8
    alignbytes=8
    prototype=define
  Linker and Libraries:
    ld='cc'
    ldflags ='-pthread -Wl,-E  -fstack-protector -L/usr/local/lib'
    libpth=/usr/lib /usr/local/lib /usr/include/clang/3.4.1 /usr/lib
    libs=-lpthread -lgdbm -lm -lcrypt -lutil -lc -lelf
    perllibs=-lpthread -lm -lcrypt -lutil -lc -lelf
    libc=
    so=so
    useshrplib=false
    libperl=libperl.a
    gnulibc_version=''
  Dynamic Linking:
    dlsrc=dl_dlopen.xs
    dlext=so
    d_dlsymun=undef
    ccdlflags=' '
    cccdlflags='-DPIC -fPIC'
    lddlflags='-shared  -L/usr/local/lib -fstack-protector'


Characteristics of this binary (from libperl): 
  Compile-time options:
    HAS_TIMES
    PERLIO_LAYERS
    PERL_COPY_ON_WRITE
    PERL_DONT_CREATE_GVSV
    PERL_MALLOC_WRAP
    PERL_OP_PARENT
    PERL_PRESERVE_IVUV
    USE_64_BIT_ALL
    USE_64_BIT_INT
    USE_LARGE_FILES
    USE_LOCALE
    USE_LOCALE_COLLATE
    USE_LOCALE_CTYPE
    USE_LOCALE_NUMERIC
    USE_LOCALE_TIME
    USE_PERLIO
    USE_PERL_ATOF
  Built under freebsd
  Compiled at Dec 12 2018 23:03:41
  %ENV:
    PERL5LIB=""
    PERL5OPT=""
    PERL5_CPANPLUS_IS_RUNNING="82317"
    PERL5_CPAN_IS_RUNNING="82317"
    PERL5_CPAN_IS_RUNNING_IN_RECURSION="74305,82317"
    PERLDOC="-MPod::Perldoc::ToTextOverstrike"
    PERL_BATCH="yes"
    PERL_CANARY_STABILITY_NOPROMPT="1"
    PERL_CPAN_REPORTER_CONFIG="/var/tmp/cpansmoker-1023/2020031213/cpanreporter_000_config.ini"
    PERL_EXTUTILS_AUTOINSTALL="--defaultdeps"
    PERL_USE_UNSAFE_INC="1"
  @INC:
    /usr/perl5.28.1p/lib/site_perl/5.28.1/amd64-freebsd
    /usr/perl5.28.1p/lib/site_perl/5.28.1
    /usr/perl5.28.1p/lib/5.28.1/amd64-freebsd
    /usr/perl5.28.1p/lib/5.28.1
    .