Catalyst-Authentication-Credential-HTTP v1.018 Perl 5 v5.31.1 amd64-netbsd
- Status
- Pass
- From
- Carlos Guevara
- Dist
-
Catalyst-Authentication-Credential-HTTP v1.018
- Platform
- Perl 5 v5.31.1 amd64-netbsd
- Date
- 2019-06-05 21:27:35
- ID
- bc89ed4e-87d8-11e9-8cae-a94d90f2ccbe
This distribution has been tested as part of the CPAN Testers
project, supporting the Perl programming language. See
http://wiki.cpantesters.org/ for more information or email
questions to cpan-testers-discuss@perl.org
--
Dear Karen Etheridge,
This is a computer-generated report for Catalyst-Authentication-Credential-HTTP-1.018
on perl 5.31.1, created by CPAN-Reporter-1.2018.
Thank you for uploading your work to CPAN. Congratulations!
All tests were successful.
Sections of this report:
* Tester comments
* Program output
* Prerequisites
* Environment and other context
------------------------------
TESTER COMMENTS
------------------------------
Additional comments from tester:
none provided
------------------------------
PROGRAM OUTPUT
------------------------------
Output from './Build test':
#
# Versions for all modules listed in MYMETA.json (including optional ones):
#
# === Configure Requires ===
#
# Module Want Have
# ------------------- ----- -----
# Module::Build::Tiny 0.034 0.039
#
# === Test Requires ===
#
# Module Want Have
# ------------------------- ---- ----------
# Catalyst::Controller any undef
# File::Spec any 3.78
# FindBin any 1.51
# HTTP::Headers any 6.18
# HTTP::Request any 6.18
# Module::Metadata any 1.000036
# Test::Exception any 0.43
# Test::MockObject any 1.20180705
# Test::MockObject::Extends any 1.20180705
# Test::More any 1.302164
# Test::Needs any 0.002006
# lib any 0.65
#
# === Test Recommends ===
#
# Module Want Have
# ---------- -------- --------
# CPAN::Meta 2.120900 2.150010
#
# === Runtime Requires ===
#
# Module Want Have
# ---------------------------------------------- ------- --------
# Catalyst any 5.90124
# Catalyst::Authentication::Credential::Password any undef
# Catalyst::Plugin::Authentication 0.10005 0.10023
# Class::Accessor::Fast any 0.51
# Data::UUID 0.11 1.224
# Digest::MD5 any 2.55
# String::Escape any 2010.002
# URI::Escape any 3.31
# base any 2.27
# strict any 1.11
# warnings any 1.45
#
# === Other Modules ===
#
# Module Have
# ------------- ----
# JSON::PP 4.02
# Pod::Coverage 0.23
# Sub::Name 0.21
# YAML 1.29
# autodie 2.29
#
t/00-report-prereqs.t ....... ok
# Catalyst 5.90124
# Catalyst::Plugin::Authentication 0.10023
# Catalyst::Authentication::Credential::HTTP 1.018
t/00use.t ................... ok
t/basic.t ................... ok
t/live_app.t ................ skipped: Need Test::WWW::Mechanize::Catalyst 0.51
t/live_app_digest.t ......... skipped: Need Catalyst::Plugin::Cache, Test::WWW::Mechanize::Catalyst 0.51
t/live_app_digest_dotnet.t .. skipped: Need Catalyst::Plugin::Cache, Test::WWW::Mechanize::Catalyst 0.51
All tests successful.
Files=6, Tests=39, 3 wallclock secs ( 0.01 usr 0.04 sys + 2.06 cusr 0.51 csys = 2.62 CPU)
Result: PASS
------------------------------
PREREQUISITES
------------------------------
Prerequisite modules loaded:
requires:
Module Need Have
---------------------------------------------- ------- ----------
base 0 2.27
Catalyst 0 5.90124
Catalyst::Authentication::Credential::Password 0 0
Catalyst::Plugin::Authentication 0.10005 0.10023
Class::Accessor::Fast 0 0.51
Data::UUID 0.11 1.224
Digest::MD5 0 2.55
perl 5.006 5.031001
strict 0 1.11
String::Escape 0 2010.002
URI::Escape 0 3.31
warnings 0 1.45
build_requires:
Module Need Have
---------------------------------------------- ------- ----------
Catalyst::Controller 0 0
File::Spec 0 3.78
FindBin 0 1.51
HTTP::Headers 0 6.18
HTTP::Request 0 6.18
lib 0 0.65
Module::Metadata 0 1.000036
perl 5.006 5.031001
Test::Exception 0 0.43
Test::MockObject 0 1.20180705
Test::MockObject::Extends 0 1.20180705
Test::More 0 1.302164
Test::Needs 0 0.002006
configure_requires:
Module Need Have
---------------------------------------------- ------- ----------
Module::Build::Tiny 0.034 0.039
perl 5.006 5.031001
------------------------------
ENVIRONMENT AND OTHER CONTEXT
------------------------------
Environment variables:
LC_ALL = C
NONINTERACTIVE_TESTING = 1
PATH = /home/cpan/bin/perl-blead/bin:/home/cpan/bin/perl-blead/bin:/home/cpan/bin:/home/cpan/bin:/bin:/sbin:/usr/bin:/usr/sbin:/usr/X11R7/bin:/usr/X11R6/bin:/usr/pkg/bin:/usr/pkg/sbin:/usr/games:/usr/local/bin:/usr/local/sbin
PERL5LIB =
PERL5OPT =
PERL5_CPANPLUS_IS_RUNNING = 14096
PERL5_CPAN_IS_RUNNING = 14096
PERL_MM_USE_DEFAULT = 1
PERL_USE_UNSAFE_INC = 1
PERL_VERSION = blead
SHELL = /usr/pkg/bin/bash
TERM = screen
TMPDIR = /home/cpan/tmp
Perl special variables (and OS-specific diagnostics, for MSWin32):
$^X = /home/cpan/bin/perl-blead/bin/perl5.31.1
$UID/$EUID = 1001 / 1001
$GID = 100 100
$EGID = 100 100
Perl module toolchain versions installed:
Module Have
------------------- --------
CPAN 2.26
CPAN::Meta 2.150010
Cwd 3.78
ExtUtils::CBuilder 0.280232
ExtUtils::Command 7.36
ExtUtils::Install 2.14
ExtUtils::MakeMaker 7.36
ExtUtils::Manifest 1.72
ExtUtils::ParseXS 3.40
File::Spec 3.78
JSON 4.02
JSON::PP 4.02
Module::Build 0.4229
Module::Signature n/a
Parse::CPAN::Meta 2.150010
Test::Harness 3.42
Test::More 1.302164
YAML 1.29
YAML::Syck 1.31
version 0.9924
--
Summary of my perl5 (revision 5 version 31 subversion 1) configuration:
Commit id: fb55ce6b7596b9e94f941cf83eac5ff84f760ea2
Platform:
osname=netbsd
osvers=7.2
archname=amd64-netbsd
uname='netbsd cjg-netbsd7 7.2 netbsd 7.2 (generic.201808291900z) amd64 '
config_args='-des -Dprefix=~/bin/perl-blead -Dscriptdir=~/bin/perl-blead/bin -Dusedevel -Duse64bitall'
hint=recommended
useposix=true
d_sigaction=define
useithreads=undef
usemultiplicity=undef
use64bitint=define
use64bitall=define
uselongdouble=undef
usemymalloc=n
default_inc_excludes_dot=define
bincompat5005=undef
Compiler:
cc='cc'
ccflags ='-fwrapv -fno-strict-aliasing -pipe -fstack-protector -I/usr/pkg/include -D_FORTIFY_SOURCE=2'
optimize='-O'
cppflags='-fwrapv -fno-strict-aliasing -pipe -fstack-protector -I/usr/pkg/include'
ccversion=''
gccversion='4.8.5'
gccosandvers=''
intsize=4
longsize=8
ptrsize=8
doublesize=8
byteorder=12345678
doublekind=3
d_longlong=define
longlongsize=8
d_longdbl=define
longdblsize=16
longdblkind=3
ivtype='long'
ivsize=8
nvtype='double'
nvsize=8
Off_t='off_t'
lseeksize=8
alignbytes=8
prototype=define
Linker and Libraries:
ld='cc'
ldflags =' -Wl,-rpath,/usr/pkg/lib -Wl,-rpath,/usr/local/lib -fstack-protector -L/usr/pkg/lib'
libpth=/usr/include/gcc-4.8 /usr/lib /usr/pkg/lib /lib
libs=-lpthread -lm -lcrypt -lutil -lc -lposix
perllibs=-lpthread -lm -lcrypt -lutil -lc -lposix
libc=/lib/libc.so
so=so
useshrplib=false
libperl=libperl.a
gnulibc_version=''
Dynamic Linking:
dlsrc=dl_dlopen.xs
dlext=so
d_dlsymun=undef
ccdlflags='-Wl,-E '
cccdlflags='-DPIC -fPIC '
lddlflags='-shared -L/usr/pkg/lib -fstack-protector'
Characteristics of this binary (from libperl):
Compile-time options:
HAS_TIMES
PERLIO_LAYERS
PERL_COPY_ON_WRITE
PERL_DONT_CREATE_GVSV
PERL_MALLOC_WRAP
PERL_OP_PARENT
PERL_PRESERVE_IVUV
PERL_USE_DEVEL
USE_64_BIT_ALL
USE_64_BIT_INT
USE_LARGE_FILES
USE_LOCALE
USE_LOCALE_COLLATE
USE_LOCALE_CTYPE
USE_LOCALE_NUMERIC
USE_LOCALE_TIME
USE_PERLIO
USE_PERL_ATOF
Built under netbsd
Compiled at Jun 5 2019 11:15:15
%ENV:
PERL5LIB=""
PERL5OPT=""
PERL5_CPANPLUS_IS_RUNNING="14096"
PERL5_CPAN_IS_RUNNING="14096"
PERL_MM_USE_DEFAULT="1"
PERL_USE_UNSAFE_INC="1"
PERL_VERSION="blead"
@INC:
/home/cpan/bin/perl-blead/lib/site_perl/5.31.1/amd64-netbsd
/home/cpan/bin/perl-blead/lib/site_perl/5.31.1
/home/cpan/bin/perl-blead/lib/5.31.1/amd64-netbsd
/home/cpan/bin/perl-blead/lib/5.31.1
.