Report for Test-AutoBuild-1.2.4

Back
From: metabase:user:320bfe00-2aae-11df-837a-5e0a49663a4f
Subject: PASS Test-AutoBuild-1.2.4 v5.14.2 GNU/Linux
Date: 2011-12-09T10:29:55Z

This distribution has been tested as part of the CPAN Testers
project, supporting the Perl programming language.  See
http://wiki.cpantesters.org/ for more information or email
questions to cpan-testers-discuss@perl.org


--
Dear Daniel P. Berrange,

This is a computer-generated report for Test-AutoBuild-1.2.4
on perl 5.14.2, created by CPAN-Reporter-1.2003.

Thank you for uploading your work to CPAN.  Congratulations!
All tests were successful.

Sections of this report:

    * Tester comments
    * Program output
    * Prerequisites
    * Environment and other context

------------------------------
TESTER COMMENTS
------------------------------

Additional comments from tester:

this report is from an automated smoke testing program
and was not reviewed by a human for accuracy

------------------------------
PROGRAM OUTPUT
------------------------------

Output from '/usr/bin/make test':

if [ -d "/usr/share/selinux/devel" -a "0" = "1" ] ; then make -C conf/selinux ; fi
PERL_DL_NONLAZY=1 /home/sand/src/perl/repoperls/installed-perls/perl/v5.14.2/165a/bin/perl "-MExtUtils::Command::MM" "-e" "test_harness(0, 'blib/lib', 'blib/arch')" t/*.t
t/005-pod.t .................... ok
t/008-meta.t ................... ok
t/010-pod-coverage.t ........... skipped: Disable coverage testing until POD is more complete
t/030-Platform.t ............... ok
t/040-Monitor.t ................ ok
t/050-Runtime.t ................ ok
t/060-Result.t ................. ok
t/061-Archive.t ................ ok
t/062-ArchiveManager.t ......... ok
t/063-Archive-File.t ........... ok
t/064-ArchiveManager-File.t .... ok
t/070-Lib.t .................... ok
t/080-PackageType.t ............ ok
t/090-Package.t ................ ok
t/100-Module.t ................. ok
t/105-Module-Archiving.t ....... ok
t/107-Module-Build.t ........... ok
t/110-Repository-Bzr.t ......... ok
t/110-Repository-CVS.t ......... ok
t/110-Repository-Darcs.t ....... ok
t/110-Repository-Disk.t ........ ok
t/110-Repository-Git.t ......... ok
t/110-Repository-GNUArch.t ..... ok
t/110-Repository-Mercurial.t ... ok
t/110-Repository-Monotone.t .... ok
t/110-Repository-Perforce.t .... ok
t/110-Repository-SVN.t ......... ok
t/110-Repository.t ............. ok
t/120-Monitor-Command.t ........ ok
t/120-Monitor-Log4perl.t ....... ok
t/120-Monitor-Pipe.t ........... ok
t/130-Publisher.t .............. ok
t/131-Publisher-Copy.t ......... ok
t/140-Lock.t ................... ok
t/145-Stage.t .................. ok
t/150-Stage-Apt.t .............. ok
t/150-Stage-ArtifactCopier.t ... ok
t/150-Stage-Build.t ............ ok
t/150-Stage-CleanBuildRoots.t .. ok
t/150-Stage-CleanPackages.t .... ok
# Test zero
# Global one
# Global two
# Global three
# Global four
# Global five
# Global six
# Global seven
# Module one
# Module two
# Module three
# Module four
# Module five
# Module six
# Module seven
t/150-Stage-EmailAlert.t ....... ok
t/150-Stage-GetSource.t ........ ok
t/150-Stage-Group.t ............ ok
t/150-Stage-HTMLStatus.t ....... ok
t/150-Stage-ISOBuilder.t ....... ok
t/150-Stage-Iterator.t ......... ok
t/150-Stage-LogCopier.t ........ ok
t/150-Stage-PackageCopier.t .... ok
t/150-Stage-SetNice.t .......... ok
t/150-Stage-Test.t ............. ok
t/200-AutoBuild.t .............. ok
All tests successful.
Files=51, Tests=956, 22 wallclock secs ( 0.26 usr  0.06 sys + 10.10 cusr  1.63 csys = 12.05 CPU)
Result: PASS

------------------------------
PREREQUISITES
------------------------------

Prerequisite modules loaded:

requires:

    Module              Need   Have        
    ------------------- ------ ------------
    BSD::Resource       1.10   1.2904      
    Carp                0      1.20        
    Class::MethodMaker  0      2.18        
    Config              0      0           
    Config::Record      v1.1.0 1.1.2       
    Cwd                 0      3.36        
    Data::Dumper        0      2.131       
    Date::Manip         0      6.25        
    Digest::MD5         0      2.51        
    Fcntl               0      1.11        
    File::Copy          0      2.21        
    File::Find          0      1.19        
    File::Glob          0      1.13        
    File::Path          0      2.08_01     
    File::ReadBackwards 0      1.05        
    File::Spec          0      3.33        
    File::stat          0      1.05        
    IO::File            0      1.14        
    IO::Scalar          0      2.110       
    List::Util          0      1.23        
    Log::Log4perl       0      1.34        
    Net::SMTP           2.15   2.31_1      
    POSIX               0      1.24        
    Storable            0      2.27        
    Symbol              0      1.07        
    Sys::Hostname       0      1.16        
    Template            0      2.22        
    Test::More          0      1.005000_002
    XML::Simple         0      2.18        

build_requires:

    Module              Need   Have        
    ------------------- ------ ------------
    ExtUtils::MakeMaker 0      6.63_02     


------------------------------
ENVIRONMENT AND OTHER CONTEXT
------------------------------

Environment variables:

    AUTOMATED_TESTING = 1
    LANG = en_US.UTF-8
    LANGUAGE = en_US:en
    PATH = /home/sand/bin:/usr/local/bin:/usr/bin:/bin:/usr/bin/X11:/usr/games:/usr/local/perl/bin:/usr/X11/bin:/sbin:/usr/sbin
    PERL5LIB = 
    PERL5OPT = 
    PERL5_CPANPLUS_IS_RUNNING = 954
    PERL5_CPAN_IS_RUNNING = 954
    PERL_MM_USE_DEFAULT = 1
    SHELL = /usr/bin/zsh
    TERM = screen

Perl special variables (and OS-specific diagnostics, for MSWin32):

    $^X = /home/sand/src/perl/repoperls/installed-perls/perl/v5.14.2/165a/bin/perl
    $UID/$EUID = 1005 / 1005
    $GID = 1005 1005
    $EGID = 1005 1005

Perl module toolchain versions installed:

    Module              Have        
    ------------------- ------------
    CPAN                1.9800      
    CPAN::Meta          2.112621    
    Cwd                 3.36        
    ExtUtils::CBuilder  0.280203    
    ExtUtils::Command   1.17        
    ExtUtils::Install   1.56        
    ExtUtils::MakeMaker 6.63_02     
    ExtUtils::Manifest  1.58        
    ExtUtils::ParseXS   3.07        
    File::Spec          3.33        
    JSON                2.53        
    JSON::PP            2.27200     
    Module::Build       0.3800      
    Module::Signature   0.68        
    Parse::CPAN::Meta   1.4401      
    Test::Harness       3.23        
    Test::More          1.005000_002
    YAML                0.77        
    YAML::Syck          1.19        
    version             0.95        


--

Summary of my perl5 (revision 5 version 14 subversion 2) configuration:
  Commit id: dc281e6088d189558b79a5121119b7196c8b3db0
  Platform:
    osname=linux, osvers=2.6.32-5-amd64, archname=x86_64-linux
    uname='linux k83 2.6.32-5-amd64 #1 smp mon oct 3 03:59:20 utc 2011 x86_64 gnulinux '
    config_args='-Dprefix=/home/src/perl/repoperls/installed-perls/perl/v5.14.2/165a -Dmyhostname=k83 -Dinstallusrbinperl=n -Uversiononly -Dusedevel -des -Ui_db -Uuseithreads -Uuselongdouble -DDEBUGGING=-g'
    hint=recommended, useposix=true, d_sigaction=define
    useithreads=undef, usemultiplicity=undef
    useperlio=define, d_sfio=undef, uselargefiles=define, usesocks=undef
    use64bitint=define, use64bitall=define, uselongdouble=undef
    usemymalloc=n, bincompat5005=undef
  Compiler:
    cc='cc', ccflags ='-fno-strict-aliasing -pipe -fstack-protector -I/usr/local/include -D_LARGEFILE_SOURCE -D_FILE_OFFSET_BITS=64',
    optimize='-O2 -g',
    cppflags='-fno-strict-aliasing -pipe -fstack-protector -I/usr/local/include'
    ccversion='', gccversion='4.4.5', gccosandvers=''
    intsize=4, longsize=8, ptrsize=8, doublesize=8, byteorder=12345678
    d_longlong=define, longlongsize=8, d_longdbl=define, longdblsize=16
    ivtype='long', ivsize=8, nvtype='double', nvsize=8, Off_t='off_t', lseeksize=8
    alignbytes=8, prototype=define
  Linker and Libraries:
    ld='cc', ldflags =' -fstack-protector -L/usr/local/lib'
    libpth=/usr/local/lib /lib/../lib /usr/lib/../lib /lib /usr/lib /lib64 /usr/lib64
    libs=-lnsl -ldb -ldl -lm -lcrypt -lutil -lc
    perllibs=-lnsl -ldl -lm -lcrypt -lutil -lc
    libc=/lib/libc-2.11.2.so, so=so, useshrplib=false, libperl=libperl.a
    gnulibc_version='2.11.2'
  Dynamic Linking:
    dlsrc=dl_dlopen.xs, dlext=so, d_dlsymun=undef, ccdlflags='-Wl,-E'
    cccdlflags='-fPIC', lddlflags='-shared -O2 -g -L/usr/local/lib -fstack-protector'


Characteristics of this binary (from libperl): 
  Compile-time options: PERL_DONT_CREATE_GVSV PERL_MALLOC_WRAP
                        PERL_PRESERVE_IVUV PERL_USE_DEVEL USE_64_BIT_ALL
                        USE_64_BIT_INT USE_LARGE_FILES USE_PERLIO
                        USE_PERL_ATOF
  Built under linux
  Compiled at Oct 23 2011 13:30:05
  %ENV:
    PERL5LIB=""
    PERL5OPT=""
    PERL5_CPANPLUS_IS_RUNNING="954"
    PERL5_CPAN_IS_RUNNING="954"
    PERL_MM_USE_DEFAULT="1"
  @INC:
    /home/src/perl/repoperls/installed-perls/perl/v5.14.2/165a/lib/site_perl/5.14.2/x86_64-linux
    /home/src/perl/repoperls/installed-perls/perl/v5.14.2/165a/lib/site_perl/5.14.2
    /home/src/perl/repoperls/installed-perls/perl/v5.14.2/165a/lib/5.14.2/x86_64-linux
    /home/src/perl/repoperls/installed-perls/perl/v5.14.2/165a/lib/5.14.2
    .