Dancer2-Plugin-FormValidator v1.03 Perl 5 v5.32.1 i386-openbsd
- Status
- Pass
- From
- Alceu Rodrigues de Freitas Junior
- Dist
-
Dancer2-Plugin-FormValidator v1.03
- Platform
- Perl 5 v5.32.1 i386-openbsd
- Date
- 2022-06-11 00:09:18
- ID
- bcbb94b0-e91a-11ec-b737-db65ffa5fe2c
This distribution has been tested as part of the CPAN Testers
project, supporting the Perl programming language. See
http://wiki.cpantesters.org/ for more information or email
questions to cpan-testers-discuss@perl.org
--
Dear Alexander Panteleev,
This is a computer-generated report for Dancer2-Plugin-FormValidator-1.03
on perl 5.32.1, created by CPAN-Reporter-1.2018.
Thank you for uploading your work to CPAN. Congratulations!
All tests were successful.
Sections of this report:
* Tester comments
* Program output
* Prerequisites
* Environment and other context
------------------------------
TESTER COMMENTS
------------------------------
Additional comments from tester:
this report is from an automated smoke testing program
and was not reviewed by a human for accuracy
------------------------------
PROGRAM OUTPUT
------------------------------
Output from '/usr/bin/make test':
PERL_DL_NONLAZY=1 "/usr/bin/perl" "-MExtUtils::Command::MM" "-MTest::Harness" "-e" "undef *Test::Harness::Switches; test_harness(0, 'blib/lib', 'blib/arch')" t/*.t
t/01_core_modules.t .................... ok
t/02_validators_modules.t .............. ok
t/03_pod.t ............................. ok
t/04_validators.t ...................... ok
t/05_input.t ........................... ok
t/06_validator.t ....................... ok
t/07_messages.t ........................ ok
t/08_messages_from_config.t ............ ok
t/09_messages_from_role.t .............. ok
t/10_extensions.t ...................... ok
t/11_hook_before.t ..................... ok
t/12_dsl_validate_form_success.t ....... ok
t/13_dsl_validate_from_unsuccess.t ..... ok
t/14_dsl_errors.t ...................... ok
t/15_validator_language.t .............. ok
t/16_validator_language_from_config.t .. ok
t/17_extensions_from_config.t .......... ok
t/18_validators_params.t ............... ok
t/19_dsl_validated.t ................... ok
t/20_validator_invalid_args.t .......... ok
t/21_get_request.t ..................... ok
All tests successful.
Files=21, Tests=138, 15 wallclock secs ( 0.09 usr 0.08 sys + 10.60 cusr 3.17 csys = 13.94 CPU)
Result: PASS
------------------------------
PREREQUISITES
------------------------------
Prerequisite modules loaded:
requires:
Module Need Have
------------------------- -------- --------
Carp 0 1.50
constant 0 1.33
Dancer2::Core::Hook 0 0.400000
Dancer2::Plugin 0 0.400000
Dancer2::Plugin::Deferred 0 0.008000
Email::Valid 0 1.203
Hash::MultiValue 0 0.16
Hash::Util 0 0.23
List::Util 1.45 1.62
Module::Load 0 0.34
Moo 0 2.004004
Moo::Role 0 2.004004
namespace::clean 0 0.27
perl 5.024000 5.032001
Scalar::Util 0 1.62
Storable 0 3.21
strict 0 1.11
Types::Common::String 0 1.012005
Types::Standard 0 1.012005
utf8 0 1.22
warnings 0 1.47
build_requires:
Module Need Have
------------------------- -------- --------
Dancer2 0 0.400000
ExtUtils::MakeMaker 0 7.65_01
FindBin 0 1.51
HTTP::Request::Common 0 6.31
JSON::MaybeXS 0 1.004003
Plack::Test 0 0
Test::More 0 1.302190
Test::Pod 0 1.52
URI::Escape 0 5.10
utf8::all 0 0.024
configure_requires:
Module Need Have
------------------------- -------- --------
ExtUtils::MakeMaker 0 7.65_01
------------------------------
ENVIRONMENT AND OTHER CONTEXT
------------------------------
Environment variables:
AUTOMATED_TESTING = 1
PATH = /home/goku/perl5/bin:/usr/bin:/bin:/usr/sbin:/sbin:/usr/X11R6/bin:/usr/local/bin:/usr/local/sbin
PERL5LIB = /home/goku/perl5/lib/perl5
PERL5OPT =
PERL5_CPANPLUS_IS_RUNNING = 61199
PERL5_CPAN_IS_RUNNING = 61199
PERL5_CPAN_IS_RUNNING_IN_RECURSION = 41657,61199
PERL_CR_SMOKER_CURRENT = Dancer2-Plugin-FormValidator-1.03
PERL_EXTUTILS_AUTOINSTALL = --defaultdeps
PERL_LOCAL_LIB_ROOT = /home/goku/perl5
PERL_MB_OPT = --install_base "/home/goku/perl5"
PERL_MM_OPT = INSTALL_BASE=/home/goku/perl5
PERL_MM_USE_DEFAULT = 1
PERL_USE_UNSAFE_INC = 1
SHELL = /bin/ksh
TERM = xterm-256color
Perl special variables (and OS-specific diagnostics, for MSWin32):
$^X = /usr/bin/perl
$UID/$EUID = 1001 / 1001
$GID = 1002 1002 1001
$EGID = 1002 1002 1001
Perl module toolchain versions installed:
Module Have
------------------- --------
CPAN 2.34
CPAN::Meta 2.150010
Cwd 3.78
ExtUtils::CBuilder 0.280236
ExtUtils::Command 7.65_01
ExtUtils::Install 2.14
ExtUtils::MakeMaker 7.65_01
ExtUtils::Manifest 1.72
ExtUtils::ParseXS 3.40
File::Spec 3.78
JSON 4.06
JSON::PP 4.09
Module::Build 0.4231
Module::Signature n/a
Parse::CPAN::Meta 2.150010
Test::Harness 3.44
Test::More 1.302190
YAML 1.30
YAML::Syck 1.34
version 0.9924
--
Summary of my perl5 (revision 5 version 32 subversion 1) configuration:
Platform:
osname=openbsd
osvers=7.1
archname=i386-openbsd
uname='openbsd'
config_args='-dse -Dopenbsd_distribution=defined -Dmksymlinks'
hint=recommended
useposix=true
d_sigaction=define
useithreads=undef
usemultiplicity=undef
use64bitint=undef
use64bitall=undef
uselongdouble=undef
usemymalloc=n
default_inc_excludes_dot=define
bincompat5005=undef
Compiler:
cc='cc'
ccflags ='-DNO_LOCALE_NUMERIC -DNO_LOCALE_COLLATE -fno-strict-aliasing -fno-delete-null-pointer-checks -pipe -fstack-protector-strong -I/usr/local/include'
optimize='-O2'
cppflags='-DBIG_TIME -DNO_LOCALE_NUMERIC -DNO_LOCALE_COLLATE -fno-strict-aliasing -fno-delete-null-pointer-checks -pipe -fstack-protector-strong -I/usr/local/include'
ccversion=''
gccversion='OpenBSD Clang 13.0.0'
gccosandvers=''
intsize=4
longsize=4
ptrsize=4
doublesize=8
byteorder=1234
doublekind=3
d_longlong=define
longlongsize=8
d_longdbl=define
longdblsize=12
longdblkind=3
ivtype='long'
ivsize=4
nvtype='double'
nvsize=8
Off_t='off_t'
lseeksize=8
alignbytes=4
prototype=define
Linker and Libraries:
ld='cc'
ldflags ='-Wl,-E -fstack-protector-strong -L/usr/local/lib'
libpth=/usr/lib /usr/lib/clang/13.0.0/lib /usr/lib
libs=-lm -lc
perllibs=-lm -lc
libc=/usr/lib/libc.so.96.1
so=so
useshrplib=true
libperl=libperl.so.22.0
gnulibc_version=''
Dynamic Linking:
dlsrc=dl_dlopen.xs
dlext=so
d_dlsymun=undef
ccdlflags='-Wl,-R/usr/libdata/perl5/i386-openbsd/CORE'
cccdlflags='-DPIC -fpic '
lddlflags='-shared -fpic -fstack-protector-strong -L/usr/local/lib'
Characteristics of this binary (from libperl):
Compile-time options:
HAS_TIMES
PERLIO_LAYERS
PERL_COPY_ON_WRITE
PERL_DONT_CREATE_GVSV
PERL_MALLOC_WRAP
PERL_OP_PARENT
PERL_PRESERVE_IVUV
USE_LARGE_FILES
USE_LOCALE
USE_LOCALE_CTYPE
USE_LOCALE_TIME
USE_PERLIO
USE_PERL_ATOF
Built under openbsd
%ENV:
PERL5LIB="/home/goku/perl5/lib/perl5"
PERL5OPT=""
PERL5_CPANPLUS_IS_RUNNING="61199"
PERL5_CPAN_IS_RUNNING="61199"
PERL5_CPAN_IS_RUNNING_IN_RECURSION="41657,61199"
PERL_CR_SMOKER_CURRENT="Dancer2-Plugin-FormValidator-1.03"
PERL_EXTUTILS_AUTOINSTALL="--defaultdeps"
PERL_LOCAL_LIB_ROOT="/home/goku/perl5"
PERL_MB_OPT="--install_base "/home/goku/perl5""
PERL_MM_OPT="INSTALL_BASE=/home/goku/perl5"
PERL_MM_USE_DEFAULT="1"
PERL_USE_UNSAFE_INC="1"
@INC:
/home/goku/perl5/lib/perl5/i386-openbsd
/home/goku/perl5/lib/perl5
/usr/local/libdata/perl5/site_perl/i386-openbsd
/usr/local/libdata/perl5/site_perl
/usr/libdata/perl5/i386-openbsd
/usr/libdata/perl5
.