Back
From: metabase:user:31cc80ae-2aae-11df-837a-5e0a49663a4f
Subject: PASS Message-Stack-0.19 v5.12.3
Date: 2011-05-31T12:36:34Z
This distribution has been tested as part of the CPAN Testers
project, supporting the Perl programming language. See
http://wiki.cpantesters.org/ for more information or email
questions to cpan-testers-discuss@perl.org
--
Dear Cory G Watson,
This is a computer-generated report for Message-Stack-0.19
on perl 5.12.3, created by CPAN-Reporter-1.1902.
Thank you for uploading your work to CPAN. Congratulations!
All tests were successful.
Sections of this report:
* Tester comments
* Program output
* Prerequisites
* Environment and other context
------------------------------
TESTER COMMENTS
------------------------------
Additional comments from tester:
this report is from an automated smoke testing program
and was not reviewed by a human for accuracy
------------------------------
PROGRAM OUTPUT
------------------------------
Output from 'C:\sb\c\bin\dmake.EXE test':
C:\sb\perl\bin\perl.exe "-MExtUtils::Command::MM" "-e" "test_harness(0, 'inc', 'blib\lib', 'blib\arch')" t/*.t
# Testing Message::Stack 0.19, Perl 5.012003, C:\sb\perl\bin\perl.exe
t/00-load.t ..... ok
t/01-simple.t ... ok
t/02-finders.t .. ok
All tests successful.
Files=3, Tests=28, 4 wallclock secs ( 0.05 usr + 0.06 sys = 0.11 CPU)
Result: PASS
------------------------------
PREREQUISITES
------------------------------
Prerequisite modules loaded:
requires:
Module Need Have
------------------- ---- ------
ExtUtils::MakeMaker 6.42 6.56
Moose 0.90 2.0007
MooseX::Aliases 0 0.10
MooseX::Storage 0.21 0.30
MooseX::Types 0.21 0.25
Test::More 0.92 0.98
configure_requires:
Module Need Have
------------------- ---- ------
ExtUtils::MakeMaker 6.42 6.56
------------------------------
ENVIRONMENT AND OTHER CONTEXT
------------------------------
Environment variables:
AUTOMATED_TESTING = 1
COMSPEC = C:\Windows\system32\cmd.exe
NUMBER_OF_PROCESSORS = 2
PATH = C:\Windows\system32;C:\Windows;C:\Windows\System32\Wbem;C:\Windows\System32\WindowsPowerShell\v1.0\;C:\Program Files\TortoiseHg\;;C:\sb\c\bin;C:\sb\perl\site\bin;C:\sb\perl\bin
PERL5LIB = C:\sb\cpan\build\MooseX-Storage-0.30-nN8YLp/blib/arch;C:\sb\cpan\build\MooseX-Storage-0.30-nN8YLp/blib/lib;C:\sb\cpan\build\MooseX-Aliases-0.10-56sr53/blib/arch;C:\sb\cpan\build\MooseX-Aliases-0.10-56sr53/blib/lib
PERL5OPT =
PERL5_CPANPLUS_IS_RUNNING = 2452
PERL5_CPAN_IS_RUNNING = 2452
PERL5_CPAN_IS_RUNNING_IN_RECURSION = 3452,2452
PERL_CR_SMOKER_CURRENT = CatalystX-Controller-Verifier-0.02
PERL_EXTUTILS_AUTOINSTALL = --defaultdeps
PERL_MM_USE_DEFAULT = 1
PROCESSOR_IDENTIFIER = AMD64 Family 15 Model 75 Stepping 2, AuthenticAMD
TEMP = C:\Users\CSJewell\AppData\Local\Temp
TERM = dumb
Perl special variables (and OS-specific diagnostics, for MSWin32):
$^X = C:\sb\perl\bin\perl.exe
$UID/$EUID = 0 / 0
$GID = 0
$EGID = 0
Win32::GetOSName = Win7
Win32::GetOSVersion = Service Pack 1, 6, 1, 7601, 2, 1, 0, 768, 1
Win32::FsType = NTFS
Win32::IsAdminUser = 0
Perl module toolchain versions installed:
Module Have
------------------- --------
CPAN 1.9600
Cwd 3.33
ExtUtils::CBuilder 0.280202
ExtUtils::Command 1.17
ExtUtils::Install 1.55
ExtUtils::MakeMaker 6.56
ExtUtils::Manifest 1.58
ExtUtils::ParseXS 2.2206
File::Spec 3.33
Module::Build 0.3800
Module::Signature n/a
Test::Harness 3.23
Test::More 0.98
YAML 0.73
YAML::Syck 1.17
version 0.88
--
Summary of my perl5 (revision 5 version 12 subversion 3) configuration:
Platform:
osname=MSWin32, osvers=6.1, archname=MSWin32-x64-multi-thread
uname='Win32 strawberryperl 5.12.3.0 #1 Sun May 15 09:43:50 2011 x64'
config_args='undef'
hint=recommended, useposix=true, d_sigaction=undef
useithreads=define, usemultiplicity=define
useperlio=define, d_sfio=undef, uselargefiles=define, usesocks=undef
use64bitint=define, use64bitall=undef, uselongdouble=undef
usemymalloc=n, bincompat5005=undef
Compiler:
cc='gcc', ccflags =' -s -O2 -DWIN32 -DHAVE_DES_FCRYPT -DWIN64 -DCONSERVATIVE -DUSE_SITECUSTOMIZE -DPERL_IMPLICIT_CONTEXT -DPERL_IMPLICIT_SYS -fno-strict-aliasing -mms-bitfields -DPERL_MSVCRT_READFIX',
optimize='-s -O2',
cppflags='-DWIN32'
ccversion='', gccversion='4.4.3', gccosandvers=''
intsize=4, longsize=4, ptrsize=8, doublesize=8, byteorder=12345678
d_longlong=define, longlongsize=8, d_longdbl=define, longdblsize=12
ivtype='long long', ivsize=8, nvtype='double', nvsize=8, Off_t='long long', lseeksize=8
alignbytes=8, prototype=define
Linker and Libraries:
ld='g++', ldflags ='-s -L"C:\sb\perl\lib\CORE" -L"C:\sb\c\lib"'
libpth=C:\sb\c\lib C:\sb\c\x86_64-w64-mingw32\lib
libs=-lmoldname -lkernel32 -luser32 -lgdi32 -lwinspool -lcomdlg32 -ladvapi32 -lshell32 -lole32 -loleaut32 -lnetapi32 -luuid -lws2_32 -lmpr -lwinmm -lversion -lodbc32 -lodbccp32 -lcomctl32
perllibs=-lmoldname -lkernel32 -luser32 -lgdi32 -lwinspool -lcomdlg32 -ladvapi32 -lshell32 -lole32 -loleaut32 -lnetapi32 -luuid -lws2_32 -lmpr -lwinmm -lversion -lodbc32 -lodbccp32 -lcomctl32
libc=, so=dll, useshrplib=true, libperl=libperl512.a
gnulibc_version=''
Dynamic Linking:
dlsrc=dl_win32.xs, dlext=dll, d_dlsymun=undef, ccdlflags=' '
cccdlflags=' ', lddlflags='-mdll -s -L"C:\sb\perl\lib\CORE" -L"C:\sb\c\lib"'
Characteristics of this binary (from libperl):
Compile-time options: MULTIPLICITY PERL_DONT_CREATE_GVSV
PERL_IMPLICIT_CONTEXT PERL_IMPLICIT_SYS
PERL_MALLOC_WRAP PL_OP_SLAB_ALLOC USE_64_BIT_INT
USE_ITHREADS USE_LARGE_FILES USE_PERLIO USE_PERL_ATOF
USE_SITECUSTOMIZE
Built under MSWin32
Compiled at May 15 2011 09:52:35
%ENV:
PERL5LIB="C:\sb\cpan\build\MooseX-Storage-0.30-nN8YLp/blib/arch;C:\sb\cpan\build\MooseX-Storage-0.30-nN8YLp/blib/lib;C:\sb\cpan\build\MooseX-Aliases-0.10-56sr53/blib/arch;C:\sb\cpan\build\MooseX-Aliases-0.10-56sr53/blib/lib"
PERL5_CPANPLUS_IS_RUNNING="2452"
PERL5_CPAN_IS_RUNNING="2452"
PERL5_CPAN_IS_RUNNING_IN_RECURSION="3452,2452"
PERL_CR_SMOKER_CURRENT="CatalystX-Controller-Verifier-0.02"
PERL_EXTUTILS_AUTOINSTALL="--defaultdeps"
PERL_MM_USE_DEFAULT="1"
@INC:
C:\sb\cpan\build\MooseX-Storage-0.30-nN8YLp/blib/arch
C:\sb\cpan\build\MooseX-Storage-0.30-nN8YLp/blib/lib
C:\sb\cpan\build\MooseX-Aliases-0.10-56sr53/blib/arch
C:\sb\cpan\build\MooseX-Aliases-0.10-56sr53/blib/lib
C:/sb/perl/site/lib
C:/sb/perl/vendor/lib
C:/sb/perl/lib
.