Back
From: metabase:user:20a45eae-6c1a-1014-abaf-4bc2b30e56df
Subject: PASS Text-Balanced-2.02 v5.10.1 Windows (Cygwin)
Date: 2012-09-22T09:07:17Z
This distribution has been tested as part of the CPAN Testers
project, supporting the Perl programming language. See
http://wiki.cpantesters.org/ for more information or email
questions to cpan-testers-discuss@perl.org
--
Dear Adam Kennedy,
This is a computer-generated report for Text-Balanced-2.02
on perl 5.10.1, created by CPAN-Reporter-1.2006.
Thank you for uploading your work to CPAN. Congratulations!
All tests were successful.
Sections of this report:
* Tester comments
* Program output
* Prerequisites
* Environment and other context
------------------------------
TESTER COMMENTS
------------------------------
Additional comments from tester:
this report is from an automated smoke testing program
and was not reviewed by a human for accuracy
------------------------------
PROGRAM OUTPUT
------------------------------
Output from '/usr/bin/make test':
PERL_DL_NONLAZY=1 /opt/perl/inst/perl-5.10.1-cygwin-thread-multi/bin/perl.exe "-MExtUtils::Command::MM" "-e" "test_harness(0, 'blib/lib', 'blib/arch')" t/*.t
t/01_compile.t .. ok
t/02_extbrk.t ... ok
t/03_extcbk.t ... ok
t/04_extdel.t ... ok
t/05_extmul.t ... ok
t/06_extqlk.t ... ok
t/07_exttag.t ... ok
t/08_extvar.t ... ok
t/09_gentag.t ... ok
t/97_meta.t ..... ok
t/98_pod.t ...... ok
t/99_pmv.t ...... skipped: no minimum perl version could be determined
All tests successful.
Files=12, Tests=563, 5 wallclock secs ( 0.16 usr 0.08 sys + 1.21 cusr 1.33 csys = 2.77 CPU)
Result: PASS
------------------------------
PREREQUISITES
------------------------------
Prerequisite modules loaded:
requires:
Module Need Have
------------------- ---- ----
Test::More 0.47 0.98
build_requires:
Module Need Have
------------------- ---- ----
ExtUtils::MakeMaker 0 6.62
configure_requires:
Module Need Have
------------------- ---- ----
ExtUtils::MakeMaker 0 6.62
------------------------------
ENVIRONMENT AND OTHER CONTEXT
------------------------------
Environment variables:
AUTOMATED_TESTING = 1
COMSPEC = C:\Windows\system32\cmd.exe
NUMBER_OF_PROCESSORS = 4
PATH = /opt/perl/inst/perl-5.10.1-cygwin-thread-multi/local/bin:/opt/perl/inst/perl-5.10.1-cygwin-thread-multi/bin:/usr/local/bin:/usr/bin
PERL5LIB = /opt/perl/inst/perl-5.10.1-cygwin-thread-multi/local/lib/site_perl:/opt/perl/inst/perl-5.10.1-cygwin-thread-multi/local/lib/perl5:/opt/perl/inst/perl-5.10.1-cygwin-thread-multi/local/lib
PERL5OPT =
PERL5_CPANPLUS_IS_RUNNING = 11792
PERL5_CPAN_IS_RUNNING = 11792
PERL_EXTUTILS_AUTOINSTALL = 1
PERL_MM_USE_DEFAULT = 1
PERL_TEST_CRITIC = 1
PROCESSOR_IDENTIFIER = Intel64 Family 6 Model 37 Stepping 5, GenuineIntel
SHELL = /bin/bash
TEMP = /tmp
TERM = xterm
Perl special variables (and OS-specific diagnostics, for MSWin32):
$^X = /opt/perl/inst/perl-5.10.1-cygwin-thread-multi/bin/perl
$UID/$EUID = 22755 / 22755
$GID = 10513 0 544 545 1001 10513
$EGID = 10513 0 544 545 1001 10513
Perl module toolchain versions installed:
Module Have
------------------- --------
CPAN 1.9800
CPAN::Meta 2.120921
Cwd 3.33
ExtUtils::CBuilder 0.280205
ExtUtils::Command 1.17
ExtUtils::Install 1.54
ExtUtils::MakeMaker 6.62
ExtUtils::Manifest 1.60
ExtUtils::ParseXS 3.15
File::Spec 3.33
JSON 2.53
JSON::PP 2.27200
Module::Build 0.40
Module::Signature n/a
Parse::CPAN::Meta 1.4404
Test::Harness 3.25
Test::More 0.98
YAML 0.84
YAML::Syck 1.20
version 0.99
--
Summary of my perl5 (revision 5 version 10 subversion 1) configuration:
Platform:
osname=cygwin, osvers=1.7.13(0.26053), archname=cygwin-thread-multi
uname='cygwin_nt-6.1-wow64 osl069 1.7.13(0.26053) 2012-04-05 12:43 i686 cygwin '
config_args='-Dmksymlinks -de -Dcc=gcc-4 -Dprefix=/opt/perl/inst/perl-5.10.1-cygwin-thread-multi -Dcf_by=pjacklam -Dcf_email=pjacklam@online.no -Dperladmin=pjacklam@online.no -Uinc_version_list -Uinstallusrbinperl -Umad -Dusethreads -Dusemultiplicity -Uuse64bitint'
hint=recommended, useposix=true, d_sigaction=define
useithreads=define, usemultiplicity=define
useperlio=define, d_sfio=undef, uselargefiles=define, usesocks=undef
use64bitint=undef, use64bitall=undef, uselongdouble=undef
usemymalloc=y, bincompat5005=undef
Compiler:
cc='gcc-4', ccflags ='-DPERL_USE_SAFE_PUTENV -U__STRICT_ANSI__ -fno-strict-aliasing -pipe -fstack-protector -I/usr/local/include',
optimize='-O3',
cppflags='-DPERL_USE_SAFE_PUTENV -U__STRICT_ANSI__ -fno-strict-aliasing -pipe -fstack-protector -I/usr/local/include'
ccversion='', gccversion='4.5.3', gccosandvers=''
intsize=4, longsize=4, ptrsize=4, doublesize=8, byteorder=1234
d_longlong=define, longlongsize=8, d_longdbl=define, longdblsize=12
ivtype='long', ivsize=4, nvtype='double', nvsize=8, Off_t='off_t', lseeksize=8
alignbytes=8, prototype=define
Linker and Libraries:
ld='g++', ldflags =' -Wl,--enable-auto-import -Wl,--export-all-symbols -Wl,--stack,8388608 -Wl,--enable-auto-image-base -fstack-protector -L/usr/local/lib'
libpth=/usr/local/lib /usr/lib /lib
libs=-lgdbm -ldb -ldl -lcrypt -lgdbm_compat
perllibs=-ldl -lcrypt
libc=/usr/lib/libc.a, so=dll, useshrplib=true, libperl=cygperl5_10_1.dll
gnulibc_version=''
Dynamic Linking:
dlsrc=dl_dlopen.xs, dlext=dll, d_dlsymun=undef, ccdlflags=' '
cccdlflags=' ', lddlflags=' --shared -Wl,--enable-auto-import -Wl,--export-all-symbols -Wl,--stack,8388608 -Wl,--enable-auto-image-base -L/usr/local/lib -fstack-protector'
Characteristics of this binary (from libperl):
Compile-time options: MULTIPLICITY MYMALLOC PERL_DONT_CREATE_GVSV
PERL_IMPLICIT_CONTEXT PERL_USE_SAFE_PUTENV
USE_ITHREADS USE_LARGE_FILES USE_PERLIO
USE_REENTRANT_API
Built under cygwin
Compiled at Apr 20 2012 13:21:12
%ENV:
PERL5LIB="/opt/perl/inst/perl-5.10.1-cygwin-thread-multi/local/lib/site_perl:/opt/perl/inst/perl-5.10.1-cygwin-thread-multi/local/lib/perl5:/opt/perl/inst/perl-5.10.1-cygwin-thread-multi/local/lib"
PERL5OPT=""
PERL5_CPANPLUS_IS_RUNNING="11792"
PERL5_CPAN_IS_RUNNING="11792"
PERL_EXTUTILS_AUTOINSTALL="1"
PERL_MM_USE_DEFAULT="1"
PERL_TEST_CRITIC="1"
CYGWIN="codepage:utf8 nodosfilewarning"
@INC:
/opt/perl/inst/perl-5.10.1-cygwin-thread-multi/local/lib/site_perl/5.10.1/cygwin-thread-multi
/opt/perl/inst/perl-5.10.1-cygwin-thread-multi/local/lib/site_perl/5.10.1
/opt/perl/inst/perl-5.10.1-cygwin-thread-multi/local/lib/site_perl
/opt/perl/inst/perl-5.10.1-cygwin-thread-multi/local/lib/perl5/cygwin-thread-multi
/opt/perl/inst/perl-5.10.1-cygwin-thread-multi/local/lib/perl5
/opt/perl/inst/perl-5.10.1-cygwin-thread-multi/local/lib/5.10.1/cygwin-thread-multi
/opt/perl/inst/perl-5.10.1-cygwin-thread-multi/local/lib/5.10.1
/opt/perl/inst/perl-5.10.1-cygwin-thread-multi/local/lib
/opt/perl/inst/perl-5.10.1-cygwin-thread-multi/lib/5.10.1/cygwin-thread-multi
/opt/perl/inst/perl-5.10.1-cygwin-thread-multi/lib/5.10.1
/opt/perl/inst/perl-5.10.1-cygwin-thread-multi/lib/site_perl/5.10.1/cygwin-thread-multi
/opt/perl/inst/perl-5.10.1-cygwin-thread-multi/lib/site_perl/5.10.1
.