Mojolicious-Plugin-BasicAuthPlus v0.11.3 Perl 5 v5.14.4 darwin-thread-multi-2level
- Status
- Pass
- From
- Nigel Horne
- Dist
-
Mojolicious-Plugin-BasicAuthPlus v0.11.3
- Platform
- Perl 5 v5.14.4 darwin-thread-multi-2level
- Date
- 2018-12-31 22:09:26
- ID
- bcc9ae9e-0d48-11e9-a43f-9376fe059962
This distribution has been tested as part of the CPAN Testers
project, supporting the Perl programming language. See
http://wiki.cpantesters.org/ for more information or email
questions to cpan-testers-discuss@perl.org
--
Dear Brad Robertson,
This is a computer-generated report for Mojolicious-Plugin-BasicAuthPlus-0.11.3
on perl 5.14.4, created by CPAN-Reporter-1.2018.
Thank you for uploading your work to CPAN. Congratulations!
All tests were successful.
Sections of this report:
* Tester comments
* Program output
* Prerequisites
* Environment and other context
------------------------------
TESTER COMMENTS
------------------------------
Additional comments from tester:
this report is from an automated smoke testing program
and was not reviewed by a human for accuracy
------------------------------
PROGRAM OUTPUT
------------------------------
Output from '/sw/bin/make test':
PERL_DL_NONLAZY=1 "/Users/hornenj/perl5/perlbrew/perls/perl-5.14.4/bin/perl5.14.4" "-MExtUtils::Command::MM" "-MTest::Harness" "-e" "undef *Test::Harness::Switches; test_harness(0, 'blib/lib', 'blib/arch')" t/*.t
t/manifest.t ...... skipped: Author tests not required for installation
# Testing Mojolicious::Plugin::BasicAuthPlus 0.11.3, Perl 5.014004, /Users/hornenj/perl5/perlbrew/perls/perl-5.14.4/bin/perl5.14.4
t/00-load.t ....... ok
t/pod-coverage.t .. ok
t/pod.t ........... ok
t/auth-ldap.t ..... skipped: SKIPPING LDAP TESTS, TEST ENVIRONMENT VARIABLES NOT SET
#
# /under-bridge
# /user-pass
# /user-pass-with-hash
# /user-pass-with-hash-return
# /user-pass-with-colon-password
# /user-pass-with-colon-password-with-hash
# /pass
# /pass-with-hash
# /get-auth-callback
# /get-auth-callback-with-hash
# /get-auth-callback-with-colon-password
# /get-auth-callback-with-colon-password-with-hash
# /under-bridge
# /get-auth-with-explicit-creds
# /get-auth-with-explicit-creds-with-hash
# /get-auth-with-encrypted-pass
# /get-auth-with-encrypted-pass-with-hash
# /passwd-file
# /passwd-file-with-hash
t/auth.t .......... ok
All tests successful.
Files=6, Tests=85, 0 wallclock secs ( 0.03 usr 0.01 sys + 0.89 cusr 0.37 csys = 1.30 CPU)
Result: PASS
------------------------------
PREREQUISITES
------------------------------
Prerequisite modules loaded:
requires:
Module Need Have
------------------------ -------- --------
Authen::Simple::Passwd 0 0.6
Authen::Simple::Password 0 0
Mojolicious 1.4 8.01
Net::LDAP 0 0.65
perl 5.006001 5.014004
Test::More 0 1.302106
build_requires:
Module Need Have
------------------------ -------- --------
Mojo::ByteStream 0 0
Mojo::IOLoop 0 0
Mojolicious::Lite 0 0
Test::Mojo 0 0
Test::More 0 1.302106
configure_requires:
Module Need Have
------------------------ -------- --------
ExtUtils::MakeMaker 0 7.34
------------------------------
ENVIRONMENT AND OTHER CONTEXT
------------------------------
Environment variables:
AUTOMATED_TESTING = 1
HARNESS_OPTIONS = j4
LANG = en_US.UTF-8
LC_ALL = POSIX
NONINTERACTIVE_TESTING = 1
PATH = /Users/hornenj/perl5/perlbrew/bin:/Users/hornenj/perl5/perlbrew/perls/perl-5.14.4/bin:src/njh/smoker/bin:/Users/hornenj/homebrew/bin:/Users/hornenj/bin:/usr/bin:/bin:/usr/X11R6/bin:/sw/bin
PERL5LIB = /Users/hornenj/.cpan/build/perl-ldap-0.65-30/blib/arch:/Users/hornenj/.cpan/build/perl-ldap-0.65-30/blib/lib:/Users/hornenj/.cpan/build/Convert-ASN1-0.27-26/blib/arch:/Users/hornenj/.cpan/build/Convert-ASN1-0.27-26/blib/lib:/Users/hornenj/.cpan/build/Authen-Simple-Passwd-0.6-30/blib/arch:/Users/hornenj/.cpan/build/Authen-Simple-Passwd-0.6-30/blib/lib:/Users/hornenj/.cpan/build/Authen-Simple-0.5-30/blib/arch:/Users/hornenj/.cpan/build/Authen-Simple-0.5-30/blib/lib:/Users/hornenj/.cpan/build/Crypt-PasswdMD5-1.40-30/blib/arch:/Users/hornenj/.cpan/build/Crypt-PasswdMD5-1.40-30/blib/lib
PERL5OPT =
PERL5_CPANPLUS_IS_RUNNING = 24508
PERL5_CPAN_IS_RUNNING = 24508
PERLBREW_HOME = /Users/hornenj/.perlbrew
PERLBREW_MANPATH = /Users/hornenj/perl5/perlbrew/perls/perl-5.14.4/man
PERLBREW_PATH = /Users/hornenj/perl5/perlbrew/bin:/Users/hornenj/perl5/perlbrew/perls/perl-5.14.4/bin
PERLBREW_PERL = perl-5.14.4
PERLBREW_ROOT = /Users/hornenj/perl5/perlbrew
PERLBREW_SHELLRC_VERSION = 0.85
PERLBREW_VERSION = 0.85
PERL_MM_USE_DEFAULT = 1
SHELL = /bin/bash
TERM = xterm-256color
TMPDIR = /var/folders/pz/pd7y1qjs6s3cbk170cw50fjc000c61/T//testwrapper.24494
VERSIONER_PERL_PREFER_32_BIT = no
VERSIONER_PERL_VERSION = 5.18
Perl special variables (and OS-specific diagnostics, for MSWin32):
$^X = /Users/hornenj/perl5/perlbrew/perls/perl-5.14.4/bin/perl5.14.4
$UID/$EUID = 12481 / 12481
$GID = 14 14 206 5344 37191 527 12 62 98 204 399 37223 241 223 100
$EGID = 14 14 206 5344 37191 527 12 62 98 204 399 37223 241 223 100
Perl module toolchain versions installed:
Module Have
------------------- --------
CPAN 2.16
CPAN::Meta 2.150010
Cwd 3.75
ExtUtils::CBuilder 0.280224
ExtUtils::Command 7.34
ExtUtils::Install 2.06
ExtUtils::MakeMaker 7.34
ExtUtils::Manifest 1.70
ExtUtils::ParseXS 3.30
File::Spec 3.75
JSON 4.00
JSON::PP 2.27400
Module::Build 0.4214
Module::Signature n/a
Parse::CPAN::Meta 2.150010
Test::Harness 3.36
Test::More 1.302106
YAML 1.27
YAML::Syck 1.31
version 0.9912
--
Summary of my perl5 (revision 5 version 14 subversion 4) configuration:
Platform:
osname=darwin, osvers=14.3.0, archname=darwin-thread-multi-2level
uname='darwin ncbimac2027.ncbi.nlm.nih.gov 14.3.0 darwin kernel version 14.3.0: mon mar 23 11:59:05 pdt 2015; root:xnu-2782.20.48~5release_x86_64 x86_64 '
config_args='-de -Dprefix=/Users/hornenj/perl5/perlbrew/perls/perl-5.14.4 -Duseithreads -Dusemultiplicity -Dusedevel -Accflags=-O2 -W -Wformat=2 -Wswitch -Wshadow -Wwrite-strings -Wuninitialized -Wall -pipe -mtune=native -march=native -fomit-frame-pointer -msse2 -msse -mmmx -pedantic -D_FORTIFY_SOURCE=2 -Wpointer-arith -Wstrict-prototypes -fstack-protector -Wstack-protector -Wextra -Wbad-function-cast -Wcast-align -Wcast-qual -Wdisabled-optimization -Wendif-labels -Wfloat-equal -Wformat-nonliteral -Winline -Wmissing-declarations -Wmissing-prototypes -Wnested-externs -Wpointer-arith -Wundef -Wformat-security -fassociative-math -Acc=cc -Aeval:scriptdir=/Users/hornenj/perl5/perlbrew/perls/perl-5.14.4/bin'
hint=recommended, useposix=true, d_sigaction=define
useithreads=define, usemultiplicity=define
useperlio=define, d_sfio=undef, uselargefiles=define, usesocks=undef
use64bitint=define, use64bitall=define, uselongdouble=undef
usemymalloc=n, bincompat5005=undef
Compiler:
cc=' cc', ccflags ='-fno-common -DPERL_DARWIN -O2 -W -Wformat=2 -Wswitch -Wshadow -Wwrite-strings -Wuninitialized -Wall -pipe -mtune=native -march=native -fomit-frame-pointer -msse2 -msse -mmmx -pedantic -D_FORTIFY_SOURCE=2 -Wpointer-arith -Wstrict-prototypes -fstack-protector -Wstack-protector -Wextra -Wbad-function-cast -Wcast-align -Wcast-qual -Wdisabled-optimization -Wendif-labels -Wfloat-equal -Wformat-nonliteral -Winline -Wmissing-declarations -Wmissing-prototypes -Wnested-externs -Wpointer-arith -Wundef -Wformat-security -fassociative-math -fno-strict-aliasing -I/usr/local/include',
optimize='-O3',
cppflags='-fno-common -DPERL_DARWIN -O2 -W -Wformat=2 -Wswitch -Wshadow -Wwrite-strings -Wuninitialized -Wall -pipe -mtune=native -march=native -fomit-frame-pointer -msse2 -msse -mmmx -pedantic -D_FORTIFY_SOURCE=2 -Wpointer-arith -Wstrict-prototypes -fstack-protector -Wstack-protector -Wextra -Wbad-function-cast -Wcast-align -Wcast-qual -Wdisabled-optimization -Wendif-labels -Wfloat-equal -Wformat-nonliteral -Winline -Wmissing-declarations -Wmissing-prototypes -Wnested-externs -Wpointer-arith -Wundef -Wformat-security -fassociative-math -fno-strict-aliasing -I/usr/local/include'
ccversion='', gccversion='4.2.1 Compatible Apple LLVM 6.0 (clang-600.0.56)', gccosandvers=''
intsize=4, longsize=8, ptrsize=8, doublesize=8, byteorder=12345678
d_longlong=define, longlongsize=8, d_longdbl=define, longdblsize=16
ivtype='long', ivsize=8, nvtype='double', nvsize=8, Off_t='off_t', lseeksize=8
alignbytes=8, prototype=define
Linker and Libraries:
ld='env MACOSX_DEPLOYMENT_TARGET=10.3 cc', ldflags =' -fstack-protector -L/usr/local/lib'
libpth=/usr/local/lib /usr/lib
libs=-ldbm -ldl -lm -lutil -lc
perllibs=-ldl -lm -lutil -lc
libc=, so=dylib, useshrplib=false, libperl=libperl.a
gnulibc_version=''
Dynamic Linking:
dlsrc=dl_dlopen.xs, dlext=bundle, d_dlsymun=undef, ccdlflags=' '
cccdlflags=' ', lddlflags=' -bundle -undefined dynamic_lookup -L/usr/local/lib -fstack-protector'
Characteristics of this binary (from libperl):
Compile-time options: MULTIPLICITY PERL_DONT_CREATE_GVSV
PERL_IMPLICIT_CONTEXT PERL_MALLOC_WRAP
PERL_PRESERVE_IVUV PERL_USE_DEVEL USE_64_BIT_ALL
USE_64_BIT_INT USE_ITHREADS USE_LARGE_FILES
USE_PERLIO USE_PERL_ATOF USE_REENTRANT_API
Locally applied patches:
Devel::PatchPerl 1.30
Built under darwin
Compiled at Apr 20 2015 09:34:28
%ENV:
PERL5LIB="/Users/hornenj/.cpan/build/perl-ldap-0.65-30/blib/arch:/Users/hornenj/.cpan/build/perl-ldap-0.65-30/blib/lib:/Users/hornenj/.cpan/build/Convert-ASN1-0.27-26/blib/arch:/Users/hornenj/.cpan/build/Convert-ASN1-0.27-26/blib/lib:/Users/hornenj/.cpan/build/Authen-Simple-Passwd-0.6-30/blib/arch:/Users/hornenj/.cpan/build/Authen-Simple-Passwd-0.6-30/blib/lib:/Users/hornenj/.cpan/build/Authen-Simple-0.5-30/blib/arch:/Users/hornenj/.cpan/build/Authen-Simple-0.5-30/blib/lib:/Users/hornenj/.cpan/build/Crypt-PasswdMD5-1.40-30/blib/arch:/Users/hornenj/.cpan/build/Crypt-PasswdMD5-1.40-30/blib/lib"
PERL5OPT=""
PERL5_CPANPLUS_IS_RUNNING="24508"
PERL5_CPAN_IS_RUNNING="24508"
PERLBREW_HOME="/Users/hornenj/.perlbrew"
PERLBREW_MANPATH="/Users/hornenj/perl5/perlbrew/perls/perl-5.14.4/man"
PERLBREW_PATH="/Users/hornenj/perl5/perlbrew/bin:/Users/hornenj/perl5/perlbrew/perls/perl-5.14.4/bin"
PERLBREW_PERL="perl-5.14.4"
PERLBREW_ROOT="/Users/hornenj/perl5/perlbrew"
PERLBREW_SHELLRC_VERSION="0.85"
PERLBREW_VERSION="0.85"
PERL_MM_USE_DEFAULT="1"
@INC:
/Users/hornenj/.cpan/build/perl-ldap-0.65-30/blib/arch
/Users/hornenj/.cpan/build/perl-ldap-0.65-30/blib/lib
/Users/hornenj/.cpan/build/Convert-ASN1-0.27-26/blib/arch
/Users/hornenj/.cpan/build/Convert-ASN1-0.27-26/blib/lib
/Users/hornenj/.cpan/build/Authen-Simple-Passwd-0.6-30/blib/arch
/Users/hornenj/.cpan/build/Authen-Simple-Passwd-0.6-30/blib/lib
/Users/hornenj/.cpan/build/Authen-Simple-0.5-30/blib/arch
/Users/hornenj/.cpan/build/Authen-Simple-0.5-30/blib/lib
/Users/hornenj/.cpan/build/Crypt-PasswdMD5-1.40-30/blib/arch
/Users/hornenj/.cpan/build/Crypt-PasswdMD5-1.40-30/blib/lib
/Users/hornenj/perl5/perlbrew/perls/perl-5.14.4/lib/site_perl/5.14.4/darwin-thread-multi-2level
/Users/hornenj/perl5/perlbrew/perls/perl-5.14.4/lib/site_perl/5.14.4
/Users/hornenj/perl5/perlbrew/perls/perl-5.14.4/lib/5.14.4/darwin-thread-multi-2level
/Users/hornenj/perl5/perlbrew/perls/perl-5.14.4/lib/5.14.4
.