Report for Dancer2-Plugin-REST-0.21

Back
From: metabase:user:8286d1fc-3d52-11e2-9ec4-cb9cdd236785
Subject: PASS Dancer2-Plugin-REST-0.21 v5.10.0 GNU/Linux
Date: 2014-02-19T17:39:09Z

This distribution has been tested as part of the CPAN Testers
project, supporting the Perl programming language.  See
http://wiki.cpantesters.org/ for more information or email
questions to cpan-testers-discuss@perl.org


--
Dear Yanick Champoux,

This is a computer-generated report for Dancer2-Plugin-REST-0.21
on perl 5.10.0, created by CPAN-Reporter-1.2010.

Thank you for uploading your work to CPAN.  Congratulations!
All tests were successful.

Sections of this report:

    * Tester comments
    * Program output
    * Prerequisites
    * Environment and other context

------------------------------
TESTER COMMENTS
------------------------------

Additional comments from tester:

this report is from an automated smoke testing program
and was not reviewed by a human for accuracy

------------------------------
PROGRAM OUTPUT
------------------------------

Output from '/usr/local/bin/make test':

PERL_DL_NONLAZY=1 /opt/perl444-27-5.10.0/bin/perl "-MExtUtils::Command::MM" "-MTest::Harness" "-e" "undef *Test::Harness::Switches; test_harness(0, 'blib/lib', 'blib/arch')" t/*.t
t/00-compile.t ........................ ok
# Prerequisite Report:
#    Version Module                
#   -------- ----------------------
#       1.32 Carp                  
#       0.21 Class::Load           
#       0.08 Dancer2               
#       0.08 Dancer2::Core::Request
#       0.08 Dancer2::Plugin       
#       0.08 Dancer2::Test         
#      2.145 Data::Dumper          
#       6.88 ExtUtils::MakeMaker   
#       3.40 File::Spec            
#       3.40 File::Spec::Functions 
#       1.28 IO::Handle            
#       1.02 IPC::Open3            
#       2.90 JSON                  
#       6.05 LWP::UserAgent        
#       1.38 List::Util            
#     0.4205 Module::Build         
#   1.004002 Moo::Role             
#   1.001002 Test::More            
#       2.02 Test::TCP             
#       1.04 strict                
#       1.06 warnings              
t/00-report-prereqs.t ................. ok
t/02_prepare_serializer_for_format.t .. ok
t/03_resource.t ....................... ok
t/04_helpers.t ........................ ok
t/04_plugin_settings.t ................ ok
t/05_named_captures.t ................. ok
t/06_tcp_server.t ..................... ok
t/release-distmeta.t .................. skipped: these tests are for release candidate testing
t/release-no-tabs.t ................... skipped: these tests are for release candidate testing
t/release-pod-syntax.t ................ skipped: these tests are for release candidate testing
All tests successful.
Files=11, Tests=51, 15 wallclock secs ( 0.19 usr  0.05 sys + 10.30 cusr  1.34 csys = 11.88 CPU)
Result: PASS

------------------------------
PREREQUISITES
------------------------------

Prerequisite modules loaded:

requires:

    Module                 Need   Have    
    ---------------------- ------ --------
    Carp                   0      1.32    
    Class::Load            0      0.21    
    Dancer2                0      0.08    
    Dancer2::Plugin        0      0.08    
    Moo::Role              0      1.004002
    strict                 0      1.04    
    warnings               0      1.06    

build_requires:

    Module                 Need   Have    
    ---------------------- ------ --------
    Dancer2::Core::Request 0      0.08    
    Dancer2::Test          0      0.08    
    Data::Dumper           0      2.145   
    ExtUtils::MakeMaker    0      6.88    
    File::Spec             0      3.40    
    File::Spec::Functions  0      3.40    
    IO::Handle             0      1.28    
    IPC::Open3             0      1.02    
    JSON                   0      2.90    
    List::Util             0      1.38    
    LWP::UserAgent         0      6.05    
    Module::Build          0.3601 0.4205  
    Test::More             0      1.001002
    Test::TCP              0      2.02    

configure_requires:

    Module                 Need   Have    
    ---------------------- ------ --------
    ExtUtils::MakeMaker    6.30   6.88    
    Module::Build          0.3601 0.4205  


------------------------------
ENVIRONMENT AND OTHER CONTEXT
------------------------------

Environment variables:

    AUTOMATED_TESTING = 1
    LANG = en_US.UTF-8
    LD_LIBRARY_PATH = /usr/local/lib
    PATH = /usr/lib/qt-3.3/bin:/usr/kerberos/sbin:/usr/kerberos/bin:/usr/lib/ccache:/usr/local/sbin:/usr/local/bin:/sbin:/bin:/usr/sbin:/usr/bin:/usr/X11R6/bin:/usr/lib/alliance/bin:/opt/real/RealPlayer:/root/bin:/usr/lib/alliance/bin:/opt/real/RealPlayer
    PERL5LIB = /root/.cpan/build/Dancer2-Plugin-GoogleAnalytics-0.002-oMxnGT/blib/arch:/root/.cpan/build/Dancer2-Plugin-GoogleAnalytics-0.002-oMxnGT/blib/lib:/root/.cpan/build/Dancer2-Plugin-Feed-1.132820-Kk_FXd/blib/arch:/root/.cpan/build/Dancer2-Plugin-Feed-1.132820-Kk_FXd/blib/lib:/root/.cpan/build/Dancer2-Plugin-DBIC-0.0005-SP0_PJ/blib/arch:/root/.cpan/build/Dancer2-Plugin-DBIC-0.0005-SP0_PJ/blib/lib:/root/.cpan/build/Dancer2-0.08-KOIHY8/blib/arch:/root/.cpan/build/Dancer2-0.08-KOIHY8/blib/lib:/root/.cpan/build/Dancer2-0.04-I90kFl/blib/arch:/root/.cpan/build/Dancer2-0.04-I90kFl/blib/lib:/root/.cpan/build/Dancer2-0.06-0j5Gfd/blib/arch:/root/.cpan/build/Dancer2-0.06-0j5Gfd/blib/lib:/root/.cpan/build/Dancer2-0.11-7lEil0/blib/arch:/root/.cpan/build/Dancer2-0.11-7lEil0/blib/lib:/root/.cpan/build/Dancer-1.3121-NoDSGj/blib/arch:/root/.cpan/build/Dancer-1.3121-NoDSGj/blib/lib
    PERL5OPT = 
    PERL5_CPANPLUS_IS_RUNNING = 25406
    PERL5_CPAN_IS_RUNNING = 25406
    PERL_ANYEVENT_MODEL = POE
    PERL_MM_NONINTERACTIVE = 1
    PERL_MM_USE_DEFAULT = 1
    SHELL = /bin/bash
    TERM = xterm

Perl special variables (and OS-specific diagnostics, for MSWin32):

    $^X = /opt/perl444-27-5.10.0/bin/perl
    $UID/$EUID = 0 / 0
    $GID = 0 0 1 2 3 4 6 10
    $EGID = 0 0 1 2 3 4 6 10

Perl module toolchain versions installed:

    Module              Have    
    ------------------- --------
    CPAN                2.00    
    CPAN::Meta          2.133380
    Cwd                 3.40    
    ExtUtils::CBuilder  0.280212
    ExtUtils::Command   1.18    
    ExtUtils::Install   1.54    
    ExtUtils::MakeMaker 6.88    
    ExtUtils::Manifest  1.63    
    ExtUtils::ParseXS   3.22    
    File::Spec          3.40    
    JSON                2.90    
    JSON::PP            2.27203 
    Module::Build       0.4205  
    Module::Signature   0.73    
    Parse::CPAN::Meta   1.4409  
    Test::Harness       3.30    
    Test::More          1.001002
    YAML                0.89    
    YAML::Syck          1.27    
    version             0.9908  


--

Summary of my perl5 (revision 5 version 10 subversion 0) configuration:
  Platform:
    osname=linux, osvers=2.6.27-repin.1, archname=i686-linux-thread-multi-64int-ld
    uname='linux localhost.localdomain 2.6.27-repin.1 #1 smp tue jan 25 20:07:21 msk 2011 i686 i686 i386 gnulinux '
    config_args='-Dcc=/opt/444/bin/gcc -Doptimize=-O3 -DDMALLOC=/usr/local/bin/dmalloc -Dprefix=/opt/perl444-27-5.10.0 -DDEBUGGING'
    hint=recommended, useposix=true, d_sigaction=define
    useithreads=define, usemultiplicity=define
    useperlio=define, d_sfio=undef, uselargefiles=define, usesocks=undef
    use64bitint=define, use64bitall=undef, uselongdouble=define
    usemymalloc=n, bincompat5005=undef
  Compiler:
    cc='/opt/444/bin/gcc', ccflags ='-DDMALLOC -D_LARGEFILE_SOURCE -D_FILE_OFFSET_BITS=64 -I/usr/include/gdbm',
    optimize='-O3 -g',
    cppflags='-DDMALLOC -I/usr/include/gdbm'
    ccversion='', gccversion='4.4.4', gccosandvers=''
    intsize=4, longsize=4, ptrsize=4, doublesize=8, byteorder=12345678
    d_longlong=define, longlongsize=8, d_longdbl=define, longdblsize=12
    ivtype='long long', ivsize=8, nvtype='long double', nvsize=12, Off_t='off_t', lseeksize=8
    alignbytes=4, prototype=define
  Linker and Libraries:
    ld='/opt/444/bin/gcc', ldflags =' -L/usr/local/lib'
    libpth=/usr/local/lib /lib /usr/lib
    libs=-lnsl -lgdbm -ldb -ldl -lm -lcrypt -lutil -lpthread -lc
    perllibs=-lnsl -ldl -lm -lcrypt -lutil -lpthread -lc
    libc=/lib/libc-2.5.so, so=so, useshrplib=true, libperl=libperl.so
    gnulibc_version='2.5'
  Dynamic Linking:
    dlsrc=dl_dlopen.xs, dlext=so, d_dlsymun=undef, ccdlflags='-Wl,-E -Wl,-rpath,/opt/perl444-27-5.10.0/lib/5.10.0/i686-linux-thread-multi-64int-ld/CORE'
    cccdlflags='-fPIC', lddlflags='-shared -O3 -g -L/usr/local/lib'


Characteristics of this binary (from libperl): 
  Compile-time options: MULTIPLICITY PERL_DONT_CREATE_GVSV
                        PERL_IMPLICIT_CONTEXT PERL_MAD PERL_MALLOC_WRAP
                        USE_64_BIT_INT USE_ITHREADS USE_LARGE_FILES
                        USE_LONG_DOUBLE USE_PERLIO USE_REENTRANT_API
  Built under linux
  Compiled at Oct 13 2013 03:21:23
  %ENV:
    PERL5LIB="/root/.cpan/build/Dancer2-Plugin-GoogleAnalytics-0.002-oMxnGT/blib/arch:/root/.cpan/build/Dancer2-Plugin-GoogleAnalytics-0.002-oMxnGT/blib/lib:/root/.cpan/build/Dancer2-Plugin-Feed-1.132820-Kk_FXd/blib/arch:/root/.cpan/build/Dancer2-Plugin-Feed-1.132820-Kk_FXd/blib/lib:/root/.cpan/build/Dancer2-Plugin-DBIC-0.0005-SP0_PJ/blib/arch:/root/.cpan/build/Dancer2-Plugin-DBIC-0.0005-SP0_PJ/blib/lib:/root/.cpan/build/Dancer2-0.08-KOIHY8/blib/arch:/root/.cpan/build/Dancer2-0.08-KOIHY8/blib/lib:/root/.cpan/build/Dancer2-0.04-I90kFl/blib/arch:/root/.cpan/build/Dancer2-0.04-I90kFl/blib/lib:/root/.cpan/build/Dancer2-0.06-0j5Gfd/blib/arch:/root/.cpan/build/Dancer2-0.06-0j5Gfd/blib/lib:/root/.cpan/build/Dancer2-0.11-7lEil0/blib/arch:/root/.cpan/build/Dancer2-0.11-7lEil0/blib/lib:/root/.cpan/build/Dancer-1.3121-NoDSGj/blib/arch:/root/.cpan/build/Dancer-1.3121-NoDSGj/blib/lib"
    PERL5OPT=""
    PERL5_CPANPLUS_IS_RUNNING="25406"
    PERL5_CPAN_IS_RUNNING="25406"
    PERL_ANYEVENT_MODEL="POE"
    PERL_MM_NONINTERACTIVE="1"
    PERL_MM_USE_DEFAULT="1"
  @INC:
    /root/.cpan/build/Dancer2-Plugin-GoogleAnalytics-0.002-oMxnGT/blib/arch
    /root/.cpan/build/Dancer2-Plugin-GoogleAnalytics-0.002-oMxnGT/blib/lib
    /root/.cpan/build/Dancer2-Plugin-Feed-1.132820-Kk_FXd/blib/arch
    /root/.cpan/build/Dancer2-Plugin-Feed-1.132820-Kk_FXd/blib/lib
    /root/.cpan/build/Dancer2-Plugin-DBIC-0.0005-SP0_PJ/blib/arch
    /root/.cpan/build/Dancer2-Plugin-DBIC-0.0005-SP0_PJ/blib/lib
    /root/.cpan/build/Dancer2-0.08-KOIHY8/blib/arch
    /root/.cpan/build/Dancer2-0.08-KOIHY8/blib/lib
    /root/.cpan/build/Dancer2-0.04-I90kFl/blib/arch
    /root/.cpan/build/Dancer2-0.04-I90kFl/blib/lib
    /root/.cpan/build/Dancer2-0.06-0j5Gfd/blib/arch
    /root/.cpan/build/Dancer2-0.06-0j5Gfd/blib/lib
    /root/.cpan/build/Dancer2-0.11-7lEil0/blib/arch
    /root/.cpan/build/Dancer2-0.11-7lEil0/blib/lib
    /root/.cpan/build/Dancer-1.3121-NoDSGj/blib/arch
    /root/.cpan/build/Dancer-1.3121-NoDSGj/blib/lib
    /opt/perl444-27-5.10.0/lib/5.10.0/i686-linux-thread-multi-64int-ld
    /opt/perl444-27-5.10.0/lib/5.10.0
    /opt/perl444-27-5.10.0/lib/site_perl/5.10.0/i686-linux-thread-multi-64int-ld
    /opt/perl444-27-5.10.0/lib/site_perl/5.10.0
    .