MozRepl-RemoteObject v0.40 Perl 5 v5.22.2 darwin-thread-multi-2level

Status
Pass
From
Nigel Horne
Dist
MozRepl-RemoteObject v0.40
Platform
Perl 5 v5.22.2 darwin-thread-multi-2level
Date
2017-11-06 09:49:10
ID
bd01cab6-c2d7-11e7-ad8c-c362db1c1d4b
This distribution has been tested as part of the CPAN Testers
project, supporting the Perl programming language.  See
http://wiki.cpantesters.org/ for more information or email
questions to cpan-testers-discuss@perl.org


--
Dear Max Maischein,

This is a computer-generated report for MozRepl-RemoteObject-0.40
on perl 5.22.2, created by CPAN-Reporter-1.2018.

Thank you for uploading your work to CPAN.  Congratulations!
All tests were successful.

Sections of this report:

    * Tester comments
    * Program output
    * Prerequisites
    * Environment and other context

------------------------------
TESTER COMMENTS
------------------------------

Additional comments from tester:

this report is from an automated smoke testing program
and was not reviewed by a human for accuracy

------------------------------
PROGRAM OUTPUT
------------------------------

Output from '/sw/bin/make test':

PERL_DL_NONLAZY=1 "/Users/hornenj/perl5/perlbrew/perls/perl-5.22.2/bin/perl5.22.2" "-MExtUtils::Command::MM" "-MTest::Harness" "-e" "undef *Test::Harness::Switches; test_harness(0, 'blib/lib', 'blib/arch')" t/*.t
# Testing MozRepl::RemoteObject 0.40, Perl 5.022002
# Carp 1.38
# Config 5.022002
# DynaLoader 1.32
# Encode 2.88
# Encode::Alias 2.21
# Encode::Config 2.05
# Encode::Encoding 2.07
# Exporter 5.72
# Exporter::Heavy 5.72
# Fcntl 1.13
# JSON 3.03
# JSON::XS 3.03
# List::Util 1.47
# MozRepl::RemoteObject 0.40
# MozRepl::RemoteObject::Methods 0.40
# POSIX 1.53_01
# PerlIO 1.09
# Scalar::Util 1.47
# Test::Builder 1.302106
# Test::Builder::Formatter 1.302106
# Test::Builder::Module 1.302106
# Test::Builder::TodoDiag 1.302106
# Test::More 1.302106
# Test2::API 1.302106
# Test2::API::Context 1.302106
# Test2::API::Instance 1.302106
# Test2::API::Stack 1.302106
# Test2::Event 1.302106
# Test2::Event::Bail 1.302106
# Test2::Event::Diag 1.302106
# Test2::Event::Exception 1.302106
# Test2::Event::Fail 1.302106
# Test2::Event::Note 1.302106
# Test2::Event::Ok 1.302106
# Test2::Event::Pass 1.302106
# Test2::Event::Plan 1.302106
# Test2::Event::Skip 1.302106
# Test2::Event::Subtest 1.302106
# Test2::Event::Waiting 1.302106
# Test2::EventFacet 1.302106
# Test2::EventFacet::About 1.302106
# Test2::EventFacet::Amnesty 1.302106
# Test2::EventFacet::Assert 1.302106
# Test2::EventFacet::Control 1.302106
# Test2::EventFacet::Error 1.302106
# Test2::EventFacet::Info 1.302106
# Test2::EventFacet::Meta 1.302106
# Test2::EventFacet::Parent 1.302106
# Test2::EventFacet::Plan 1.302106
# Test2::EventFacet::Trace 1.302106
# Test2::Formatter 1.302106
# Test2::Formatter::TAP 1.302106
# Test2::Hub 1.302106
# Test2::Hub::Interceptor 1.302106
# Test2::Hub::Interceptor::Terminator 1.302106
# Test2::Hub::Subtest 1.302106
# Test2::Util 1.302106
# Test2::Util::ExternalMeta 1.302106
# Test2::Util::HashBase 1.302106
# Test2::Util::Trace 1.302106
# Tie::Hash 1.05
# Types::Serialiser 1.0
# XSLoader 0.24
# attributes 0.27
# bytes 1.04
# common::sense 3.74
# constant 1.33
# mro 1.17
# overload 1.26
# overloading 0.02
# strict 1.09
# vars 1.03
# warnings 1.34
# warnings::register 1.04
t/00-load.t .................... ok
t/01-appversion.t .............. skipped: Couldn't connect to MozRepl: Failed to connect to , problem connecting to "localhost", port 4242: Connection refused at /Users/hornenj/.cpan/build/MozRepl-0.06-0/blib/lib/MozRepl/Client.pm line 144
# --- Loading object functionality into repl
t/01-array.t ................... skipped: Couldn't connect to MozRepl: Failed to connect to , problem connecting to "localhost", port 4242: Connection refused at /Users/hornenj/.cpan/build/MozRepl-0.06-0/blib/lib/MozRepl/Client.pm line 144
[error] Invalid argument
t/01-backend-anyevent-timer.t .. skipped: Couldn't connect to Firefox: Failed to connect to , Invalid argument at /Users/hornenj/.cpan/build/MozRepl-RemoteObject-0.40-0/blib/lib/MozRepl/AnyEvent.pm line 188.
t/01-backend-anyevent.t ........ skipped: Couldn't connect to Firefox: Invalid argument at /Users/hornenj/.cpan/build/MozRepl-RemoteObject-0.40-0/blib/lib/MozRepl/AnyEvent.pm line 188.
t/01-callback-overhead.t ....... skipped: Couldn't connect to MozRepl: Failed to connect to , problem connecting to "localhost", port 4242: Connection refused at /Users/hornenj/.cpan/build/MozRepl-0.06-0/blib/lib/MozRepl/Client.pm line 144
t/01-callback.t ................ skipped: Couldn't connect to MozRepl: Failed to connect to , problem connecting to "localhost", port 4242: Connection refused at /Users/hornenj/.cpan/build/MozRepl-0.06-0/blib/lib/MozRepl/Client.pm line 144
t/01-constant.t ................ skipped: Couldn't connect to MozRepl: Failed to connect to , problem connecting to "localhost", port 4242: Connection refused at /Users/hornenj/.cpan/build/MozRepl-0.06-0/blib/lib/MozRepl/Client.pm line 144
t/01-dive.t .................... skipped: Couldn't connect to MozRepl: Failed to connect to , problem connecting to "localhost", port 4242: Connection refused at /Users/hornenj/.cpan/build/MozRepl-0.06-0/blib/lib/MozRepl/Client.pm line 144
[error] Invalid argument
t/01-expr-anyevent.t ........... skipped: Couldn't connect to Firefix: Failed to connect to , Invalid argument at /Users/hornenj/.cpan/build/MozRepl-RemoteObject-0.40-0/blib/lib/MozRepl/AnyEvent.pm line 188.
t/01-expr.t .................... skipped: Couldn't connect to MozRepl: Failed to connect to , problem connecting to "localhost", port 4242: Connection refused at /Users/hornenj/.cpan/build/MozRepl-0.06-0/blib/lib/MozRepl/Client.pm line 144
t/01-hash.t .................... skipped: Couldn't connect to MozRepl: Failed to connect to , problem connecting to "localhost", port 4242: Connection refused at /Users/hornenj/.cpan/build/MozRepl-0.06-0/blib/lib/MozRepl/Client.pm line 144
t/01-invoke.t .................. skipped: Couldn't connect to MozRepl: Failed to connect to , problem connecting to "localhost", port 4242: Connection refused at /Users/hornenj/.cpan/build/MozRepl-0.06-0/blib/lib/MozRepl/Client.pm line 144
# --- Loading object functionality into repl
t/01-multiline-string.t ........ skipped: Couldn't connect to MozRepl: Failed to connect to , problem connecting to "localhost", port 4242: Connection refused at /Users/hornenj/.cpan/build/MozRepl-0.06-0/blib/lib/MozRepl/Client.pm line 144
# --- Loading object functionality into repl
t/01-object.t .................. skipped: Couldn't connect to MozRepl: Failed to connect to , problem connecting to "localhost", port 4242: Connection refused at /Users/hornenj/.cpan/build/MozRepl-0.06-0/blib/lib/MozRepl/Client.pm line 144
# --- Loading object functionality into repl
t/01-queue.t ................... skipped: Couldn't connect to MozRepl: Failed to connect to , problem connecting to "localhost", port 4242: Connection refused at /Users/hornenj/.cpan/build/MozRepl-0.06-0/blib/lib/MozRepl/Client.pm line 144
t/01-release-action.t .......... skipped: Couldn't connect to MozRepl: Failed to connect to , problem connecting to "localhost", port 4242: Connection refused at /Users/hornenj/.cpan/build/MozRepl-0.06-0/blib/lib/MozRepl/Client.pm line 144
t/02-multiple-instances.t ...... skipped: Couldn't connect to MozRepl: Failed to connect to , problem connecting to "localhost", port 4242: Connection refused at /Users/hornenj/.cpan/build/MozRepl-0.06-0/blib/lib/MozRepl/Client.pm line 144
t/02-repl.t .................... skipped: Couldn't connect to MozRepl: Failed to connect to , problem connecting to "localhost", port 4242: Connection refused at /Users/hornenj/.cpan/build/MozRepl-0.06-0/blib/lib/MozRepl/Client.pm line 144
t/02-synopsis.t ................ skipped: Couldn't connect to MozRepl: Failed to connect to , problem connecting to "localhost", port 4242: Connection refused at /Users/hornenj/.cpan/build/MozRepl-0.06-0/blib/lib/MozRepl/Client.pm line 144
t/03-unicode.t ................. skipped: Couldn't connect to MozRepl: Failed to connect to , problem connecting to "localhost", port 4242: Connection refused at /Users/hornenj/.cpan/build/MozRepl-0.06-0/blib/lib/MozRepl/Client.pm line 144
t/04-looong-input.t ............ skipped: Couldn't connect to MozRepl: Failed to connect to , problem connecting to "localhost", port 4242: Connection refused at /Users/hornenj/.cpan/build/MozRepl-0.06-0/blib/lib/MozRepl/Client.pm line 144
t/05-callback-parameter.t ...... skipped: Couldn't connect to MozRepl: Failed to connect to , problem connecting to "localhost", port 4242: Connection refused at /Users/hornenj/.cpan/build/MozRepl-0.06-0/blib/lib/MozRepl/Client.pm line 144
t/10-xul-hud.t ................. skipped: Couldn't connect to MozRepl: Failed to connect to , problem connecting to "localhost", port 4242: Connection refused at /Users/hornenj/.cpan/build/MozRepl-0.06-0/blib/lib/MozRepl/Client.pm line 144
t/11-memleak-callback.t ........ skipped: Couldn't connect to MozRepl: Failed to connect to , problem connecting to "localhost", port 4242: Connection refused at /Users/hornenj/.cpan/build/MozRepl-0.06-0/blib/lib/MozRepl/Client.pm line 144
t/11-memleak-constant.t ........ skipped: Couldn't connect to MozRepl: Failed to connect to , problem connecting to "localhost", port 4242: Connection refused at /Users/hornenj/.cpan/build/MozRepl-0.06-0/blib/lib/MozRepl/Client.pm line 144
t/11-memleak-declare.t ......... skipped: Couldn't connect to MozRepl: Failed to connect to , problem connecting to "localhost", port 4242: Connection refused at /Users/hornenj/.cpan/build/MozRepl-0.06-0/blib/lib/MozRepl/Client.pm line 144
t/11-memleak.t ................. skipped: Couldn't connect to MozRepl: Failed to connect to , problem connecting to "localhost", port 4242: Connection refused at /Users/hornenj/.cpan/build/MozRepl-0.06-0/blib/lib/MozRepl/Client.pm line 144
All tests successful.
Files=28, Tests=1,  3 wallclock secs ( 0.06 usr  0.04 sys +  2.43 cusr  0.82 csys =  3.35 CPU)
Result: PASS

------------------------------
PREREQUISITES
------------------------------

Prerequisite modules loaded:

requires:

    Module         Need  Have    
    -------------- ----- --------
    Encode         0     2.88    
    Exporter       0     5.72    
    File::Basename 0     2.85    
    IPC::Run       0     0.94    
    JSON           2     2.93    
    MozRepl        0.06  0.06    
    parent         0     0.236   
    perl           5.006 5.022002
    Scalar::Util   0     1.47    

build_requires:

    Module         Need  Have    
    -------------- ----- --------
    Task::Weaken   0     1.04    


------------------------------
ENVIRONMENT AND OTHER CONTEXT
------------------------------

Environment variables:

    AUTOMATED_TESTING = 1
    LANG = en_US.UTF-8
    LC_ALL = POSIX
    PATH = /Users/hornenj/perl5/perlbrew/bin:/Users/hornenj/perl5/perlbrew/perls/perl-5.22.2/bin:/Users/hornenj/perl5/perlbrew/bin:/Users/hornenj/perl5/perlbrew/perls/perl-5.26.1-thread/bin:/Users/hornenj/bin:/usr/bin:/bin:/usr/X11R6/bin:/sw/bin
    PERL5LIB = /Users/hornenj/.cpan/build/MozRepl-0.06-0/blib/arch:/Users/hornenj/.cpan/build/MozRepl-0.06-0/blib/lib:/Users/hornenj/.cpan/build/Template-Provider-FromDATA-0.13-0/blib/arch:/Users/hornenj/.cpan/build/Template-Provider-FromDATA-0.13-0/blib/lib:/Users/hornenj/.cpan/build/Module-Pluggable-Fast-0.19-0/blib/arch:/Users/hornenj/.cpan/build/Module-Pluggable-Fast-0.19-0/blib/lib:/Users/hornenj/.cpan/build/Data-JavaScript-Anon-1.03-0/blib/arch:/Users/hornenj/.cpan/build/Data-JavaScript-Anon-1.03-0/blib/lib:/Users/hornenj/.cpan/build/Class-Default-1.51-0/blib/arch:/Users/hornenj/.cpan/build/Class-Default-1.51-0/blib/lib
    PERL5OPT = 
    PERL5_CPANPLUS_IS_RUNNING = 15143
    PERL5_CPAN_IS_RUNNING = 15143
    PERL5_MINISMOKEBOX = 0.68
    PERLBREW_BASHRC_VERSION = 0.80
    PERLBREW_HOME = /Users/hornenj/.perlbrew
    PERLBREW_LIB = 
    PERLBREW_MANPATH = /Users/hornenj/perl5/perlbrew/perls/perl-5.22.2/man
    PERLBREW_PATH = /Users/hornenj/perl5/perlbrew/bin:/Users/hornenj/perl5/perlbrew/perls/perl-5.22.2/bin
    PERLBREW_PERL = perl-5.22.2
    PERLBREW_ROOT = /Users/hornenj/perl5/perlbrew
    PERLBREW_VERSION = 0.80
    PERL_EXTUTILS_AUTOINSTALL = --defaultdeps
    PERL_LOCAL_LIB_ROOT = 
    PERL_MM_USE_DEFAULT = 1
    SHELL = /bin/bash
    TERM = xterm-256color
    TMPDIR = /var/folders/pz/pd7y1qjs6s3cbk170cw50fjc000c61/T/

Perl special variables (and OS-specific diagnostics, for MSWin32):

    $^X = /Users/hornenj/perl5/perlbrew/perls/perl-5.22.2/bin/perl5.22.2
    $UID/$EUID = 12481 / 12481
    $GID = 14 14 5344 37191 527 12 62 204 399 206 37223 241 223
    $EGID = 14 14 5344 37191 527 12 62 204 399 206 37223 241 223

Perl module toolchain versions installed:

    Module              Have    
    ------------------- --------
    CPAN                2.16    
    CPAN::Meta          2.150010
    Cwd                 3.62    
    ExtUtils::CBuilder  0.280224
    ExtUtils::Command   7.30    
    ExtUtils::Install   2.06    
    ExtUtils::MakeMaker 7.30    
    ExtUtils::Manifest  1.70    
    ExtUtils::ParseXS   3.30    
    File::Spec          3.62    
    JSON                2.93    
    JSON::PP            2.27400 
    Module::Build       0.4220  
    Module::Signature   0.79    
    Parse::CPAN::Meta   2.150010
    Test::Harness       3.36    
    Test::More          1.302106
    YAML                1.23    
    YAML::Syck          1.30    
    version             0.9917  


--

Summary of my perl5 (revision 5 version 22 subversion 2) configuration:
   
  Platform:
    osname=darwin, osvers=14.5.0, archname=darwin-thread-multi-2level
    uname='darwin ncbimac2027 14.5.0 darwin kernel version 14.5.0: mon jan 11 18:48:35 pst 2016; root:xnu-2782.50.2~1release_x86_64 x86_64 '
    config_args='-de -Dprefix=/Users/hornenj/perl5/perlbrew/perls/perl-5.22.2 -Duseithreads -Dusemultiplicity -Dusedevel -Accflags=-O2 -W -Wformat=2 -Wswitch -Wshadow -Wwrite-strings -Wuninitialized -Wall -pipe -mtune=native -march=native -fomit-frame-pointer -msse2 -msse -mmmx -pedantic -D_FORTIFY_SOURCE=2 -Wpointer-arith -Wstrict-prototypes -fstack-protector -Wstack-protector -Wextra -Wbad-function-cast -Wcast-align -Wcast-qual -Wdisabled-optimization -Wendif-labels -Wfloat-equal -Wformat-nonliteral -Winline -Wmissing-declarations -Wmissing-prototypes -Wnested-externs -Wpointer-arith -Wundef -Wformat-security -fassociative-math -Acc=cc -Aeval:scriptdir=/Users/hornenj/perl5/perlbrew/perls/perl-5.22.2/bin'
    hint=recommended, useposix=true, d_sigaction=define
    useithreads=define, usemultiplicity=define
    use64bitint=define, use64bitall=define, uselongdouble=undef
    usemymalloc=n, bincompat5005=undef
  Compiler:
    cc=' cc', ccflags ='-fno-common -DPERL_DARWIN -O2 -W -Wformat=2 -Wswitch -Wshadow -Wwrite-strings -Wuninitialized -Wall -pipe -mtune=native -march=native -fomit-frame-pointer -msse2 -msse -mmmx -pedantic -D_FORTIFY_SOURCE=2 -Wpointer-arith -Wstrict-prototypes -fstack-protector -Wstack-protector -Wextra -Wbad-function-cast -Wcast-align -Wcast-qual -Wdisabled-optimization -Wendif-labels -Wfloat-equal -Wformat-nonliteral -Winline -Wmissing-declarations -Wmissing-prototypes -Wnested-externs -Wpointer-arith -Wundef -Wformat-security -fassociative-math -fno-strict-aliasing -fstack-protector-strong -I/usr/local/include',
    optimize='-O3',
    cppflags='-fno-common -DPERL_DARWIN -O2 -W -Wformat=2 -Wswitch -Wshadow -Wwrite-strings -Wuninitialized -Wall -pipe -mtune=native -march=native -fomit-frame-pointer -msse2 -msse -mmmx -pedantic -D_FORTIFY_SOURCE=2 -Wpointer-arith -Wstrict-prototypes -fstack-protector -Wstack-protector -Wextra -Wbad-function-cast -Wcast-align -Wcast-qual -Wdisabled-optimization -Wendif-labels -Wfloat-equal -Wformat-nonliteral -Winline -Wmissing-declarations -Wmissing-prototypes -Wnested-externs -Wpointer-arith -Wundef -Wformat-security -fassociative-math -fno-strict-aliasing -fstack-protector-strong -I/usr/local/include'
    ccversion='', gccversion='4.2.1 Compatible Apple LLVM 7.0.2 (clang-700.1.81)', gccosandvers=''
    intsize=4, longsize=8, ptrsize=8, doublesize=8, byteorder=12345678, doublekind=3
    d_longlong=define, longlongsize=8, d_longdbl=define, longdblsize=16, longdblkind=3
    ivtype='long', ivsize=8, nvtype='double', nvsize=8, Off_t='off_t', lseeksize=8
    alignbytes=8, prototype=define
  Linker and Libraries:
    ld='env MACOSX_DEPLOYMENT_TARGET=10.3 cc', ldflags =' -fstack-protector-strong -L/usr/local/lib'
    libpth=/usr/local/lib /Applications/Xcode.app/Contents/Developer/Toolchains/XcodeDefault.xctoolchain/usr/bin/../lib/clang/7.0.2/lib /Applications/Xcode.app/Contents/Developer/Toolchains/XcodeDefault.xctoolchain/usr/lib /usr/lib
    libs=-lpthread -ldbm -ldl -lm -lutil -lc
    perllibs=-lpthread -ldl -lm -lutil -lc
    libc=, so=dylib, useshrplib=false, libperl=libperl.a
    gnulibc_version=''
  Dynamic Linking:
    dlsrc=dl_dlopen.xs, dlext=bundle, d_dlsymun=undef, ccdlflags=' '
    cccdlflags=' ', lddlflags=' -bundle -undefined dynamic_lookup -L/usr/local/lib -fstack-protector-strong'


Characteristics of this binary (from libperl): 
  Compile-time options: HAS_TIMES MULTIPLICITY PERLIO_LAYERS
                        PERL_DONT_CREATE_GVSV
                        PERL_HASH_FUNC_ONE_AT_A_TIME_HARD
                        PERL_IMPLICIT_CONTEXT PERL_MALLOC_WRAP
                        PERL_NEW_COPY_ON_WRITE PERL_PRESERVE_IVUV
                        PERL_USE_DEVEL USE_64_BIT_ALL USE_64_BIT_INT
                        USE_ITHREADS USE_LARGE_FILES USE_LOCALE
                        USE_LOCALE_COLLATE USE_LOCALE_CTYPE
                        USE_LOCALE_NUMERIC USE_LOCALE_TIME USE_PERLIO
                        USE_PERL_ATOF USE_REENTRANT_API
  Locally applied patches:
	Devel::PatchPerl 1.30
  Built under darwin
  Compiled at May  2 2016 08:59:06
  %ENV:
    PERL5LIB="/Users/hornenj/.cpan/build/MozRepl-0.06-0/blib/arch:/Users/hornenj/.cpan/build/MozRepl-0.06-0/blib/lib:/Users/hornenj/.cpan/build/Template-Provider-FromDATA-0.13-0/blib/arch:/Users/hornenj/.cpan/build/Template-Provider-FromDATA-0.13-0/blib/lib:/Users/hornenj/.cpan/build/Module-Pluggable-Fast-0.19-0/blib/arch:/Users/hornenj/.cpan/build/Module-Pluggable-Fast-0.19-0/blib/lib:/Users/hornenj/.cpan/build/Data-JavaScript-Anon-1.03-0/blib/arch:/Users/hornenj/.cpan/build/Data-JavaScript-Anon-1.03-0/blib/lib:/Users/hornenj/.cpan/build/Class-Default-1.51-0/blib/arch:/Users/hornenj/.cpan/build/Class-Default-1.51-0/blib/lib"
    PERL5OPT=""
    PERL5_CPANPLUS_IS_RUNNING="15143"
    PERL5_CPAN_IS_RUNNING="15143"
    PERL5_MINISMOKEBOX="0.68"
    PERLBREW_BASHRC_VERSION="0.80"
    PERLBREW_HOME="/Users/hornenj/.perlbrew"
    PERLBREW_LIB=""
    PERLBREW_MANPATH="/Users/hornenj/perl5/perlbrew/perls/perl-5.22.2/man"
    PERLBREW_PATH="/Users/hornenj/perl5/perlbrew/bin:/Users/hornenj/perl5/perlbrew/perls/perl-5.22.2/bin"
    PERLBREW_PERL="perl-5.22.2"
    PERLBREW_ROOT="/Users/hornenj/perl5/perlbrew"
    PERLBREW_VERSION="0.80"
    PERL_EXTUTILS_AUTOINSTALL="--defaultdeps"
    PERL_LOCAL_LIB_ROOT=""
    PERL_MM_USE_DEFAULT="1"
  @INC:
    /Users/hornenj/.cpan/build/MozRepl-0.06-0/blib/arch
    /Users/hornenj/.cpan/build/MozRepl-0.06-0/blib/lib
    /Users/hornenj/.cpan/build/Template-Provider-FromDATA-0.13-0/blib/arch
    /Users/hornenj/.cpan/build/Template-Provider-FromDATA-0.13-0/blib/lib
    /Users/hornenj/.cpan/build/Module-Pluggable-Fast-0.19-0/blib/arch
    /Users/hornenj/.cpan/build/Module-Pluggable-Fast-0.19-0/blib/lib
    /Users/hornenj/.cpan/build/Data-JavaScript-Anon-1.03-0/blib/arch
    /Users/hornenj/.cpan/build/Data-JavaScript-Anon-1.03-0/blib/lib
    /Users/hornenj/.cpan/build/Class-Default-1.51-0/blib/arch
    /Users/hornenj/.cpan/build/Class-Default-1.51-0/blib/lib
    /Users/hornenj/perl5/perlbrew/perls/perl-5.22.2/lib/site_perl/5.22.2/darwin-thread-multi-2level
    /Users/hornenj/perl5/perlbrew/perls/perl-5.22.2/lib/site_perl/5.22.2
    /Users/hornenj/perl5/perlbrew/perls/perl-5.22.2/lib/5.22.2/darwin-thread-multi-2level
    /Users/hornenj/perl5/perlbrew/perls/perl-5.22.2/lib/5.22.2
    .