Data-Roundtrip v0.27 Perl 5 v5.38.0 x86_64-linux

Status
Pass
From
Nigel Horne
Dist
Data-Roundtrip v0.27
Platform
Perl 5 v5.38.0 x86_64-linux
Date
2024-03-30 02:32:22
ID
bd0b5cdc-ee3d-11ee-b97c-18b8370acedf
This distribution has been tested as part of the CPAN Testers
project, supporting the Perl programming language.  See
http://wiki.cpantesters.org/ for more information or email
questions to cpan-testers-discuss@perl.org


--
Dear Andreas Hadjiprocopis,

This is a computer-generated report for Data-Roundtrip-0.27
on perl 5.38.0, created by CPAN-Reporter-1.2019.

Thank you for uploading your work to CPAN.  Congratulations!
All tests were successful.

Sections of this report:

    * Tester comments
    * Program output
    * Prerequisites
    * Environment and other context

------------------------------
TESTER COMMENTS
------------------------------

Additional comments from tester:

this report is from an automated smoke testing program
and was not reviewed by a human for accuracy

------------------------------
PROGRAM OUTPUT
------------------------------

Output from '/usr/bin/make test':

PERL_DL_NONLAZY=1 "/home/smoker/perl5/perlbrew/perls/perl-5.38.0/bin/perl5.38.0" "-MExtUtils::Command::MM" "-MTest::Harness" "-e" "undef *Test::Harness::Switches; test_harness(0, 'blib/lib', 'blib/arch')" t/*.t
# Testing Data::Roundtrip 0.27, Perl 5.038000, /home/smoker/perl5/perlbrew/perls/perl-5.38.0/bin/perl5.38.0
t/00-load.t ..................................... ok
dump2perl() : WARNING, eval()'ing input string, are you sure you did check its content ?
dump2perl() : WARNING, this sub will be removed in future releases.
dump2perl() : WARNING, eval()'ing input string, are you sure you did check its content ?
dump2perl() : WARNING, this sub will be removed in future releases.
dump2perl() : WARNING, eval()'ing input string, are you sure you did check its content ?
dump2perl() : WARNING, this sub will be removed in future releases.
dump2perl() : WARNING, eval()'ing input string, are you sure you did check its content ?
dump2perl() : WARNING, this sub will be removed in future releases.
dump2perl() : WARNING, eval()'ing input string, are you sure you did check its content ?
dump2perl() : WARNING, this sub will be removed in future releases.
dump2perl() : WARNING, eval()'ing input string, are you sure you did check its content ?
dump2perl() : WARNING, this sub will be removed in future releases.
t/01-basic.t .................................... ok
dump2perl() : WARNING, eval()'ing input string, are you sure you did check its content ?
dump2perl() : WARNING, this sub will be removed in future releases.
dump2perl() : WARNING, eval()'ing input string, are you sure you did check its content ?
dump2perl() : WARNING, this sub will be removed in future releases.
dump2perl() : WARNING, eval()'ing input string, are you sure you did check its content ?
dump2perl() : WARNING, this sub will be removed in future releases.
dump2perl() : WARNING, eval()'ing input string, are you sure you did check its content ?
dump2perl() : WARNING, this sub will be removed in future releases.
dump2perl() : WARNING, eval()'ing input string, are you sure you did check its content ?
dump2perl() : WARNING, this sub will be removed in future releases.
dump2perl() : WARNING, eval()'ing input string, are you sure you did check its content ?
dump2perl() : WARNING, this sub will be removed in future releases.
dump2perl() : WARNING, eval()'ing input string, are you sure you did check its content ?
dump2perl() : WARNING, this sub will be removed in future releases.
dump2perl() : WARNING, eval()'ing input string, are you sure you did check its content ?
dump2perl() : WARNING, this sub will be removed in future releases.
perl2yaml() : pretty-printing is not supported for YAML output
dump2perl() : WARNING, eval()'ing input string, are you sure you did check its content ?
dump2perl() : WARNING, this sub will be removed in future releases.
t/02-random-data-structure.t .................... ok
dump2perl() : WARNING, eval()'ing input string, are you sure you did check its content ?
dump2perl() : WARNING, this sub will be removed in future releases.
dump2perl() : WARNING, eval()'ing input string, are you sure you did check its content ?
dump2perl() : WARNING, this sub will be removed in future releases.
dump2perl() : WARNING, eval()'ing input string, are you sure you did check its content ?
dump2perl() : WARNING, this sub will be removed in future releases.
perl2yaml() : pretty-printing is not supported for YAML output
dump2perl() : WARNING, eval()'ing input string, are you sure you did check its content ?
dump2perl() : WARNING, this sub will be removed in future releases.
dump2perl() : WARNING, eval()'ing input string, are you sure you did check its content ?
dump2perl() : WARNING, this sub will be removed in future releases.
dump2perl() : WARNING, eval()'ing input string, are you sure you did check its content ?
dump2perl() : WARNING, this sub will be removed in future releases.
dump2perl() : WARNING, eval()'ing input string, are you sure you did check its content ?
dump2perl() : WARNING, this sub will be removed in future releases.
dump2perl() : WARNING, eval()'ing input string, are you sure you did check its content ?
dump2perl() : WARNING, this sub will be removed in future releases.
dump2perl() : WARNING, eval()'ing input string, are you sure you did check its content ?
dump2perl() : WARNING, this sub will be removed in future releases.
dump2perl() : WARNING, eval()'ing input string, are you sure you did check its content ?
dump2perl() : WARNING, this sub will be removed in future releases.
t/05-perl2dump-no-escape-unicode-temporarily.t .. ok
t/03-random-data-structure-UTF8.t ............... ok
dump2perl() : WARNING, eval()'ing input string, are you sure you did check its content ?
dump2perl() : WARNING, this sub will be removed in future releases.
dump2perl() : WARNING, eval()'ing input string, are you sure you did check its content ?
dump2perl() : WARNING, this sub will be removed in future releases.
dump2perl() : WARNING, eval()'ing input string, are you sure you did check its content ?
dump2perl() : WARNING, this sub will be removed in future releases.
dump2perl() : WARNING, eval()'ing input string, are you sure you did check its content ?
dump2perl() : WARNING, this sub will be removed in future releases.
t/06-perl2dump-no-escape-unicode-permanently.t .. ok
dump2perl() : WARNING, eval()'ing input string, are you sure you did check its content ?
dump2perl() : WARNING, this sub will be removed in future releases.
dump2perl() : WARNING, eval()'ing input string, are you sure you did check its content ?
dump2perl() : WARNING, this sub will be removed in future releases.
dump2perl() : WARNING, eval()'ing input string, are you sure you did check its content ?
dump2perl() : WARNING, this sub will be removed in future releases.
dump2perl() : WARNING, eval()'ing input string, are you sure you did check its content ?
dump2perl() : WARNING, this sub will be removed in future releases.
t/07-perl2dump-escape-unicode-permanently.t ..... ok
t/11-scripts-pod.t .............................. ok
# temp dir: '/tmp/TDZaxS2Qug' ...
t/12-from-file.t ................................ ok
t/13-yaml-tricky-cases.t ........................ ok
t/14-yaml-tainted-input.t ....................... ok
dump2perl() : WARNING, eval()'ing input string, are you sure you did check its content ?
dump2perl() : WARNING, this sub will be removed in future releases.
dump2perl() : WARNING, eval()'ing input string, are you sure you did check its content ?
dump2perl() : WARNING, this sub will be removed in future releases.
t/20-synopsis.t ................................. ok
t/manifest.t .................................... skipped: Author tests not required for installation
t/pod-coverage.t ................................ skipped: Author tests not required for installation
t/pod.t ......................................... skipped: Author tests not required for installation
t/10-scripts.t .................................. ok
All tests successful.
Files=16, Tests=400, 13 wallclock secs ( 0.41 usr  0.15 sys + 14.99 cusr  5.12 csys = 20.67 CPU)
Result: PASS

------------------------------
PREREQUISITES
------------------------------

Prerequisite modules loaded:

requires:

    Module                        Need   Have    
    ----------------------------- ------ --------
    Data::Dump                    0      1.25    
    Data::Dump::Filtered          0      0       
    Data::Dumper                  0      2.188   
    Encode                        3.0    3.19    
    JSON                          4.0    4.10    
    perl                          5.008  5.038000
    Unicode::Escape               v0.0.2 0.0.2   
    YAML::PP                      0      0.036   

build_requires:

    Module                        Need   Have    
    ----------------------------- ------ --------
    Benchmark                     0      1.24    
    Data::Random::Structure       0      0.01    
    Data::Random::Structure::UTF8 0.06   0.06    
    ExtUtils::MakeMaker           0      7.70    
    File::Spec                    0      3.88    
    File::Temp                    0      0.2311  
    Test2::Plugin::UTF8           0      0.000155
    Test::More                    0      1.302195
    Test::Pod                     1.51   1.52    
    Test::Script                  1.28   1.29    
    Test::Taint                   0      1.08    
    YAML::PP                      0      0.036   

configure_requires:

    Module                        Need   Have    
    ----------------------------- ------ --------
    ExtUtils::MakeMaker           0      7.70    


------------------------------
ENVIRONMENT AND OTHER CONTEXT
------------------------------

Environment variables:

    AUTOMATED_TESTING = 1
    HARNESS_OPTIONS = c:j2
    PATH = /home/smoker/perl5/perlbrew/bin:/home/smoker/perl5/perlbrew/perls/perl-5.38.0/bin:/usr/local/sbin:/usr/local/bin:/usr/sbin:/usr/bin:/sbin:/bin::
    PERL5LIB = /home/smoker/.cpan/build/Unicode-Escape-0.0.2-0/blib/arch:/home/smoker/.cpan/build/Unicode-Escape-0.0.2-0/blib/lib:/home/smoker/.cpan/build/Unicode-String-2.10-0/blib/arch:/home/smoker/.cpan/build/Unicode-String-2.10-0/blib/lib:/home/smoker/.cpan/build/Data-Random-Structure-UTF8-0.06-0/blib/arch:/home/smoker/.cpan/build/Data-Random-Structure-UTF8-0.06-0/blib/lib:/home/smoker/.cpan/build/Data-Random-Structure-0.01-0/blib/arch:/home/smoker/.cpan/build/Data-Random-Structure-0.01-0/blib/lib:/home/smoker/.cpan/build/ExtUtils-PkgConfig-1.16-0/blib/arch:/home/smoker/.cpan/build/ExtUtils-PkgConfig-1.16-0/blib/lib:/home/smoker/.cpan/build/Data-Random-0.13-0/blib/arch:/home/smoker/.cpan/build/Data-Random-0.13-0/blib/lib:/home/smoker/.cpan/build/YAML-Tiny-1.74-0/blib/arch:/home/smoker/.cpan/build/YAML-Tiny-1.74-0/blib/lib:/home/smoker/.cpan/build/Module-Extract-VERSION-1.117-0/blib/arch:/home/smoker/.cpan/build/Module-Extract-VERSION-1.117-0/blib/lib:/home/smoker/.cpan/build/JSON-XS-4.03-0/blib/arch:/home/smoker/.cpan/build/JSON-XS-4.03-0/blib/lib:/home/smoker/.cpan/build/Types-Serialiser-1.01-0/blib/arch:/home/smoker/.cpan/build/Types-Serialiser-1.01-0/blib/lib:/home/smoker/.cpan/build/common-sense-3.75-0/blib/arch:/home/smoker/.cpan/build/common-sense-3.75-0/blib/lib:/home/smoker/.cpan/build/Canary-Stability-2013-0/blib/arch:/home/smoker/.cpan/build/Canary-Stability-2013-0/blib/lib:/home/smoker/.cpan/build/JSON-4.10-0/blib/arch:/home/smoker/.cpan/build/JSON-4.10-0/blib/lib:/home/smoker/.cpan/build/IO-Interactive-1.025-0/blib/arch:/home/smoker/.cpan/build/IO-Interactive-1.025-0/blib/lib:/home/smoker/.cpan/build/App-lapidary-1.05-0/blib/arch:/home/smoker/.cpan/build/App-lapidary-1.05-0/blib/lib:/home/smoker/.cpan/build/Archive-Extract-0.88-0/blib/arch:/home/smoker/.cpan/build/Archive-Extract-0.88-0/blib/lib
    PERL5OPT = 
    PERL5_CPANPLUS_IS_RUNNING = 25
    PERL5_CPAN_IS_RUNNING = 25
    PERL5_CPAN_IS_RUNNING_IN_RECURSION = 1,25
    PERLBREW_HOME = /home/smoker/.perlbrew
    PERLBREW_MANPATH = /home/smoker/perl5/perlbrew/perls/perl-5.38.0/man
    PERLBREW_PATH = /home/smoker/perl5/perlbrew/bin:/home/smoker/perl5/perlbrew/perls/perl-5.38.0/bin
    PERLBREW_PERL = perl-5.38.0
    PERLBREW_ROOT = /home/smoker/perl5/perlbrew
    PERLBREW_SHELLRC_VERSION = 0.97
    PERLBREW_VERSION = 0.97
    PERL_MM_USE_DEFAULT = 1
    PERL_USE_UNSAFE_INC = 1
    SHELL = /bin/bash
    TERM = xterm
    TMPDIR = /tmp/testwrapper.18

Perl special variables (and OS-specific diagnostics, for MSWin32):

    $^X = /home/smoker/perl5/perlbrew/perls/perl-5.38.0/bin/perl5.38.0
    $UID/$EUID = 1000 / 1000
    $GID = 1000 1000
    $EGID = 1000 1000

Perl module toolchain versions installed:

    Module              Have    
    ------------------- --------
    CPAN                2.36    
    CPAN::Meta          2.150010
    Cwd                 3.89    
    ExtUtils::CBuilder  0.280238
    ExtUtils::Command   7.70    
    ExtUtils::Install   2.22    
    ExtUtils::MakeMaker 7.70    
    ExtUtils::Manifest  1.73    
    ExtUtils::ParseXS   3.51    
    File::Spec          3.88    
    JSON                4.10    
    JSON::PP            4.16    
    Module::Build       0.4234  
    Module::Signature   n/a     
    Parse::CPAN::Meta   2.150010
    Test2               1.302195
    Test::Harness       3.44    
    Test::More          1.302195
    YAML                1.30    
    YAML::Syck          1.34    
    version             0.9929  


--

Summary of my perl5 (revision 5 version 38 subversion 0) configuration:
   
  Platform:
    osname=linux
    osvers=5.4.0-1102-oracle
    archname=x86_64-linux
    uname='linux 78023b61d5c8 5.4.0-1102-oracle #111~18.04.1-ubuntu smp thu may 18 22:00:55 utc 2023 x86_64 gnulinux '
    config_args='-de -Dprefix=/home/smoker/perl5/perlbrew/perls/perl-5.38.0 -Dusedevel -Accflags=-O2 -pipe -Wall -Wextra -mtune=native -march=native -Aeval:scriptdir=/home/smoker/perl5/perlbrew/perls/perl-5.38.0/bin'
    hint=recommended
    useposix=true
    d_sigaction=define
    useithreads=undef
    usemultiplicity=undef
    use64bitint=define
    use64bitall=define
    uselongdouble=undef
    usemymalloc=n
    default_inc_excludes_dot=define
  Compiler:
    cc='cc'
    ccflags ='-O2 -pipe -Wall -Wextra -mtune=native -march=native -fwrapv -fno-strict-aliasing -fstack-protector-strong -I/usr/local/include -D_LARGEFILE_SOURCE -D_FILE_OFFSET_BITS=64 -D_FORTIFY_SOURCE=2'
    optimize='-O2'
    cppflags='-O2 -pipe -Wall -Wextra -mtune=native -march=native -fwrapv -fno-strict-aliasing -fstack-protector-strong -I/usr/local/include'
    ccversion=''
    gccversion='8.3.0'
    gccosandvers=''
    intsize=4
    longsize=8
    ptrsize=8
    doublesize=8
    byteorder=12345678
    doublekind=3
    d_longlong=define
    longlongsize=8
    d_longdbl=define
    longdblsize=16
    longdblkind=3
    ivtype='long'
    ivsize=8
    nvtype='double'
    nvsize=8
    Off_t='off_t'
    lseeksize=8
    alignbytes=8
    prototype=define
  Linker and Libraries:
    ld='cc'
    ldflags =' -fstack-protector-strong -L/usr/local/lib'
    libpth=/usr/local/lib /usr/lib/x86_64-linux-gnu /usr/lib /lib/x86_64-linux-gnu /lib
    libs=-lpthread -ldl -lm -lcrypt -lutil -lc
    perllibs=-lpthread -ldl -lm -lcrypt -lutil -lc
    libc=libc-2.28.so
    so=so
    useshrplib=false
    libperl=libperl.a
    gnulibc_version='2.28'
  Dynamic Linking:
    dlsrc=dl_dlopen.xs
    dlext=so
    d_dlsymun=undef
    ccdlflags='-Wl,-E'
    cccdlflags='-fPIC'
    lddlflags='-shared -O2 -L/usr/local/lib -fstack-protector-strong'


Characteristics of this binary (from libperl): 
  Compile-time options:
    HAS_LONG_DOUBLE
    HAS_STRTOLD
    HAS_TIMES
    PERLIO_LAYERS
    PERL_COPY_ON_WRITE
    PERL_DONT_CREATE_GVSV
    PERL_HASH_FUNC_SIPHASH13
    PERL_HASH_USE_SBOX32
    PERL_MALLOC_WRAP
    PERL_OP_PARENT
    PERL_PRESERVE_IVUV
    PERL_USE_DEVEL
    PERL_USE_SAFE_PUTENV
    USE_64_BIT_ALL
    USE_64_BIT_INT
    USE_LARGE_FILES
    USE_LOCALE
    USE_LOCALE_COLLATE
    USE_LOCALE_CTYPE
    USE_LOCALE_NUMERIC
    USE_LOCALE_TIME
    USE_PERLIO
    USE_PERL_ATOF
  Built under linux
  Compiled at Jul  3 2023 22:44:10
  %ENV:
    PERL5LIB="/home/smoker/.cpan/build/Unicode-Escape-0.0.2-0/blib/arch:/home/smoker/.cpan/build/Unicode-Escape-0.0.2-0/blib/lib:/home/smoker/.cpan/build/Unicode-String-2.10-0/blib/arch:/home/smoker/.cpan/build/Unicode-String-2.10-0/blib/lib:/home/smoker/.cpan/build/Data-Random-Structure-UTF8-0.06-0/blib/arch:/home/smoker/.cpan/build/Data-Random-Structure-UTF8-0.06-0/blib/lib:/home/smoker/.cpan/build/Data-Random-Structure-0.01-0/blib/arch:/home/smoker/.cpan/build/Data-Random-Structure-0.01-0/blib/lib:/home/smoker/.cpan/build/ExtUtils-PkgConfig-1.16-0/blib/arch:/home/smoker/.cpan/build/ExtUtils-PkgConfig-1.16-0/blib/lib:/home/smoker/.cpan/build/Data-Random-0.13-0/blib/arch:/home/smoker/.cpan/build/Data-Random-0.13-0/blib/lib:/home/smoker/.cpan/build/YAML-Tiny-1.74-0/blib/arch:/home/smoker/.cpan/build/YAML-Tiny-1.74-0/blib/lib:/home/smoker/.cpan/build/Module-Extract-VERSION-1.117-0/blib/arch:/home/smoker/.cpan/build/Module-Extract-VERSION-1.117-0/blib/lib:/home/smoker/.cpan/build/JSON-XS-4.03-0/blib/arch:/home/smoker/.cpan/build/JSON-XS-4.03-0/blib/lib:/home/smoker/.cpan/build/Types-Serialiser-1.01-0/blib/arch:/home/smoker/.cpan/build/Types-Serialiser-1.01-0/blib/lib:/home/smoker/.cpan/build/common-sense-3.75-0/blib/arch:/home/smoker/.cpan/build/common-sense-3.75-0/blib/lib:/home/smoker/.cpan/build/Canary-Stability-2013-0/blib/arch:/home/smoker/.cpan/build/Canary-Stability-2013-0/blib/lib:/home/smoker/.cpan/build/JSON-4.10-0/blib/arch:/home/smoker/.cpan/build/JSON-4.10-0/blib/lib:/home/smoker/.cpan/build/IO-Interactive-1.025-0/blib/arch:/home/smoker/.cpan/build/IO-Interactive-1.025-0/blib/lib:/home/smoker/.cpan/build/App-lapidary-1.05-0/blib/arch:/home/smoker/.cpan/build/App-lapidary-1.05-0/blib/lib:/home/smoker/.cpan/build/Archive-Extract-0.88-0/blib/arch:/home/smoker/.cpan/build/Archive-Extract-0.88-0/blib/lib"
    PERL5OPT=""
    PERL5_CPANPLUS_IS_RUNNING="25"
    PERL5_CPAN_IS_RUNNING="25"
    PERL5_CPAN_IS_RUNNING_IN_RECURSION="1,25"
    PERLBREW_HOME="/home/smoker/.perlbrew"
    PERLBREW_MANPATH="/home/smoker/perl5/perlbrew/perls/perl-5.38.0/man"
    PERLBREW_PATH="/home/smoker/perl5/perlbrew/bin:/home/smoker/perl5/perlbrew/perls/perl-5.38.0/bin"
    PERLBREW_PERL="perl-5.38.0"
    PERLBREW_ROOT="/home/smoker/perl5/perlbrew"
    PERLBREW_SHELLRC_VERSION="0.97"
    PERLBREW_VERSION="0.97"
    PERL_MM_USE_DEFAULT="1"
    PERL_USE_UNSAFE_INC="1"
  @INC:
    /home/smoker/.cpan/build/Unicode-Escape-0.0.2-0/blib/arch
    /home/smoker/.cpan/build/Unicode-Escape-0.0.2-0/blib/lib
    /home/smoker/.cpan/build/Unicode-String-2.10-0/blib/arch
    /home/smoker/.cpan/build/Unicode-String-2.10-0/blib/lib
    /home/smoker/.cpan/build/Data-Random-Structure-UTF8-0.06-0/blib/arch
    /home/smoker/.cpan/build/Data-Random-Structure-UTF8-0.06-0/blib/lib
    /home/smoker/.cpan/build/Data-Random-Structure-0.01-0/blib/arch
    /home/smoker/.cpan/build/Data-Random-Structure-0.01-0/blib/lib
    /home/smoker/.cpan/build/ExtUtils-PkgConfig-1.16-0/blib/arch
    /home/smoker/.cpan/build/ExtUtils-PkgConfig-1.16-0/blib/lib
    /home/smoker/.cpan/build/Data-Random-0.13-0/blib/arch
    /home/smoker/.cpan/build/Data-Random-0.13-0/blib/lib
    /home/smoker/.cpan/build/YAML-Tiny-1.74-0/blib/arch
    /home/smoker/.cpan/build/YAML-Tiny-1.74-0/blib/lib
    /home/smoker/.cpan/build/Module-Extract-VERSION-1.117-0/blib/arch
    /home/smoker/.cpan/build/Module-Extract-VERSION-1.117-0/blib/lib
    /home/smoker/.cpan/build/JSON-XS-4.03-0/blib/arch
    /home/smoker/.cpan/build/JSON-XS-4.03-0/blib/lib
    /home/smoker/.cpan/build/Types-Serialiser-1.01-0/blib/arch
    /home/smoker/.cpan/build/Types-Serialiser-1.01-0/blib/lib
    /home/smoker/.cpan/build/common-sense-3.75-0/blib/arch
    /home/smoker/.cpan/build/common-sense-3.75-0/blib/lib
    /home/smoker/.cpan/build/Canary-Stability-2013-0/blib/arch
    /home/smoker/.cpan/build/Canary-Stability-2013-0/blib/lib
    /home/smoker/.cpan/build/JSON-4.10-0/blib/arch
    /home/smoker/.cpan/build/JSON-4.10-0/blib/lib
    /home/smoker/.cpan/build/IO-Interactive-1.025-0/blib/arch
    /home/smoker/.cpan/build/IO-Interactive-1.025-0/blib/lib
    /home/smoker/.cpan/build/App-lapidary-1.05-0/blib/arch
    /home/smoker/.cpan/build/App-lapidary-1.05-0/blib/lib
    /home/smoker/.cpan/build/Archive-Extract-0.88-0/blib/arch
    /home/smoker/.cpan/build/Archive-Extract-0.88-0/blib/lib
    /home/smoker/perl5/perlbrew/perls/perl-5.38.0/lib/site_perl/5.38.0/x86_64-linux
    /home/smoker/perl5/perlbrew/perls/perl-5.38.0/lib/site_perl/5.38.0
    /home/smoker/perl5/perlbrew/perls/perl-5.38.0/lib/5.38.0/x86_64-linux
    /home/smoker/perl5/perlbrew/perls/perl-5.38.0/lib/5.38.0
    .