Report for Parse-Flash-Cookie-0.09

Back
From: metabase:user:9820532a-708b-1014-9a05-b18a96298da1
Subject: PASS Parse-Flash-Cookie-0.09 v5.14.0 GNU/Linux
Date: 2011-05-20T05:55:17Z

This distribution has been tested as part of the CPAN Testers
project, supporting the Perl programming language.  See
http://wiki.cpantesters.org/ for more information or email
questions to cpan-testers-discuss@perl.org


--
Dear Andreas Faafeng,

This is a computer-generated report for Parse-Flash-Cookie-0.09
on perl 5.14.0, created by CPAN-Reporter-1.1902.

Thank you for uploading your work to CPAN.  Congratulations!
All tests were successful.

Sections of this report:

    * Tester comments
    * Program output
    * Prerequisites
    * Environment and other context

------------------------------
TESTER COMMENTS
------------------------------

Additional comments from tester:

this report is from an automated smoke testing program
and was not reviewed by a human for accuracy

------------------------------
PROGRAM OUTPUT
------------------------------

Output from '/usr/bin/make test':

PERL_DL_NONLAZY=1 /home/test/perl5/perlbrew/perls/perl-5.14.0/bin/perl "-MExtUtils::Command::MM" "-e" "test_harness(0, 'blib/lib', 'blib/arch')" t/*.t
# Testing Parse::Flash::Cookie 0.09, Perl 5.014000, /home/test/perl5/perlbrew/perls/perl-5.14.0/bin/perl, archname=x86_64-linux-thread-multi-ld, byteorder=12345678
t/00-load.t .............. ok
t/01-nofile.t ............ ok
t/02-to_text.t ........... ok
t/03-to_xml.t ............ ok
t/04-to_xml_version_3.t .. ok
t/boilerplate.t .......... ok
t/kwalitee.t ............. skipped: Test::Kwalitee not installed; skipping
t/pod-coverage.t ......... skipped: Test::Pod::Coverage 1.08 required for testing POD coverage
t/pod.t .................. ok
t/strict.t ............... ok
All tests successful.
Files=10, Tests=126,  2 wallclock secs ( 0.05 usr  0.03 sys +  1.32 cusr  0.16 csys =  1.56 CPU)
Result: PASS

------------------------------
PREREQUISITES
------------------------------

Prerequisite modules loaded:

requires:

    Module                Need Have   
    --------------------- ---- -------
    Config                0    0      
    DateTime              0    0.70   
    File::Spec::Functions 0    3.33   
    Log::Log4perl         0    1.32   
    Test::Differences     0    0.61   
    Test::Exception       0    0.31   
    Test::More            0    0.98   
    Test::Strict          0    0.14   
    URI::Escape           0    3.30   
    XML::Writer           0    0.612  

build_requires:

    Module                Need Have   
    --------------------- ---- -------
    ExtUtils::MakeMaker   0    6.57_05

configure_requires:

    Module                Need Have   
    --------------------- ---- -------
    ExtUtils::MakeMaker   0    6.57_05


------------------------------
ENVIRONMENT AND OTHER CONTEXT
------------------------------

Environment variables:

    AUTOMATED_TESTING = 1
    LANG = C
    LC_ALL = C
    PATH = /home/test/perl5/perlbrew/bin:/home/test/perl5/perlbrew/perls/perl-5.14.0/bin:/home/test/bin:~/bin:/usr/bin:/bin
    PATH_WITHOUT_PERLBREW = /home/test/bin:~/bin:/usr/bin:/bin
    PERL5LIB = /home/test/.cpan/build/Log-Log4perl-1.32-yiHKtY/blib/arch:/home/test/.cpan/build/Log-Log4perl-1.32-yiHKtY/blib/lib:/home/test/.cpan/build/Test-Strict-0.14-YwdmzM/blib/arch:/home/test/.cpan/build/Test-Strict-0.14-YwdmzM/blib/lib:/home/test/.cpan/build/Devel-Cover-0.78-esvbDx/blib/arch:/home/test/.cpan/build/Devel-Cover-0.78-esvbDx/blib/lib:/home/test/.cpan/build/XML-Writer-0.612-rUKhJh/blib/arch:/home/test/.cpan/build/XML-Writer-0.612-rUKhJh/blib/lib
    PERL5OPT = 
    PERL5_CPANPLUS_IS_RUNNING = 9328
    PERL5_CPAN_IS_RUNNING = 9328
    PERL5_CPAN_IS_RUNNING_IN_RECURSION = 17326,9328
    PERLBREW_PATH = /home/test/perl5/perlbrew/bin:/home/test/perl5/perlbrew/perls/perl-5.14.0/bin
    PERLBREW_ROOT = /home/test/perl5/perlbrew
    PERLBREW_VERSION = 0.20
    PERL_CR_SMOKER_CURRENT = Parse-Flash-Cookie-0.09
    PERL_EXTUTILS_AUTOINSTALL = --defaultdeps
    PERL_MM_USE_DEFAULT = 1
    SHELL = /bin/bash
    TERM = linux

Perl special variables (and OS-specific diagnostics, for MSWin32):

    $^X = /home/test/perl5/perlbrew/perls/perl-5.14.0/bin/perl
    $UID/$EUID = 1001 / 1001
    $GID = 1001 1001
    $EGID = 1001 1001

Perl module toolchain versions installed:

    Module              Have    
    ------------------- --------
    CPAN                1.9600  
    Cwd                 3.36    
    ExtUtils::CBuilder  0.280203
    ExtUtils::Command   1.17    
    ExtUtils::Install   1.56    
    ExtUtils::MakeMaker 6.57_05 
    ExtUtils::Manifest  1.58    
    ExtUtils::ParseXS   2.2210  
    File::Spec          3.33    
    Module::Build       0.3800  
    Module::Signature   n/a     
    Test::Harness       3.23    
    Test::More          0.98    
    YAML                n/a     
    YAML::Syck          1.17    
    version             0.88    


--

Summary of my perl5 (revision 5 version 14 subversion 0) configuration:
   
  Platform:
    osname=linux, osvers=2.6.35-28-generic, archname=x86_64-linux-thread-multi-ld
    uname='linux zippy 2.6.35-28-generic #50-ubuntu smp fri mar 18 18:42:20 utc 2011 x86_64 gnulinux '
    config_args='-de -Dprefix=/home/test/perl5/perlbrew/perls/perl-5.14.0 -Duselongdouble -Duse64bitall -Dusethreads'
    hint=recommended, useposix=true, d_sigaction=define
    useithreads=define, usemultiplicity=define
    useperlio=define, d_sfio=undef, uselargefiles=define, usesocks=undef
    use64bitint=define, use64bitall=define, uselongdouble=define
    usemymalloc=n, bincompat5005=undef
  Compiler:
    cc='cc', ccflags ='-D_REENTRANT -D_GNU_SOURCE -fno-strict-aliasing -pipe -fstack-protector -I/usr/local/include -D_LARGEFILE_SOURCE -D_FILE_OFFSET_BITS=64',
    optimize='-O2',
    cppflags='-D_REENTRANT -D_GNU_SOURCE -fno-strict-aliasing -pipe -fstack-protector -I/usr/local/include'
    ccversion='', gccversion='4.4.5', gccosandvers=''
    intsize=4, longsize=8, ptrsize=8, doublesize=8, byteorder=12345678
    d_longlong=define, longlongsize=8, d_longdbl=define, longdblsize=16
    ivtype='long', ivsize=8, nvtype='long double', nvsize=16, Off_t='off_t', lseeksize=8
    alignbytes=16, prototype=define
  Linker and Libraries:
    ld='cc', ldflags =' -fstack-protector -L/usr/local/lib'
    libpth=/usr/local/lib /lib/../lib /usr/lib/../lib /lib /usr/lib /usr/lib/x86_64-linux-gnu /lib64 /usr/lib64
    libs=-lnsl -ldl -lm -lcrypt -lutil -lpthread -lc
    perllibs=-lnsl -ldl -lm -lcrypt -lutil -lpthread -lc
    libc=/lib/libc-2.12.1.so, so=so, useshrplib=false, libperl=libperl.a
    gnulibc_version='2.12.1'
  Dynamic Linking:
    dlsrc=dl_dlopen.xs, dlext=so, d_dlsymun=undef, ccdlflags='-Wl,-E'
    cccdlflags='-fPIC', lddlflags='-shared -O2 -L/usr/local/lib -fstack-protector'


Characteristics of this binary (from libperl): 
  Compile-time options: MULTIPLICITY PERL_DONT_CREATE_GVSV
                        PERL_IMPLICIT_CONTEXT PERL_MALLOC_WRAP
                        PERL_PRESERVE_IVUV USE_64_BIT_ALL USE_64_BIT_INT
                        USE_ITHREADS USE_LARGE_FILES USE_LONG_DOUBLE
                        USE_PERLIO USE_PERL_ATOF USE_REENTRANT_API
  Built under linux
  Compiled at May 19 2011 10:41:50
  %ENV:
    PERL5LIB="/home/test/.cpan/build/Log-Log4perl-1.32-yiHKtY/blib/arch:/home/test/.cpan/build/Log-Log4perl-1.32-yiHKtY/blib/lib:/home/test/.cpan/build/Test-Strict-0.14-YwdmzM/blib/arch:/home/test/.cpan/build/Test-Strict-0.14-YwdmzM/blib/lib:/home/test/.cpan/build/Devel-Cover-0.78-esvbDx/blib/arch:/home/test/.cpan/build/Devel-Cover-0.78-esvbDx/blib/lib:/home/test/.cpan/build/XML-Writer-0.612-rUKhJh/blib/arch:/home/test/.cpan/build/XML-Writer-0.612-rUKhJh/blib/lib"
    PERL5OPT=""
    PERL5_CPANPLUS_IS_RUNNING="9328"
    PERL5_CPAN_IS_RUNNING="9328"
    PERL5_CPAN_IS_RUNNING_IN_RECURSION="17326,9328"
    PERLBREW_PATH="/home/test/perl5/perlbrew/bin:/home/test/perl5/perlbrew/perls/perl-5.14.0/bin"
    PERLBREW_ROOT="/home/test/perl5/perlbrew"
    PERLBREW_VERSION="0.20"
    PERL_CR_SMOKER_CURRENT="Parse-Flash-Cookie-0.09"
    PERL_EXTUTILS_AUTOINSTALL="--defaultdeps"
    PERL_MM_USE_DEFAULT="1"
  @INC:
    /home/test/.cpan/build/Log-Log4perl-1.32-yiHKtY/blib/arch
    /home/test/.cpan/build/Log-Log4perl-1.32-yiHKtY/blib/lib
    /home/test/.cpan/build/Test-Strict-0.14-YwdmzM/blib/arch
    /home/test/.cpan/build/Test-Strict-0.14-YwdmzM/blib/lib
    /home/test/.cpan/build/Devel-Cover-0.78-esvbDx/blib/arch
    /home/test/.cpan/build/Devel-Cover-0.78-esvbDx/blib/lib
    /home/test/.cpan/build/XML-Writer-0.612-rUKhJh/blib/arch
    /home/test/.cpan/build/XML-Writer-0.612-rUKhJh/blib/lib
    /home/test/perl5/perlbrew/perls/perl-5.14.0/lib/site_perl/5.14.0/x86_64-linux-thread-multi-ld
    /home/test/perl5/perlbrew/perls/perl-5.14.0/lib/site_perl/5.14.0
    /home/test/perl5/perlbrew/perls/perl-5.14.0/lib/5.14.0/x86_64-linux-thread-multi-ld
    /home/test/perl5/perlbrew/perls/perl-5.14.0/lib/5.14.0
    .