Report for Spark-Form-0.2103-TRIAL

Back
From: metabase:user:d2c9f356-b46f-11df-9a90-20a83c0b7757
Subject: PASS Spark-Form-0.2103-TRIAL v5.15.5 SunOS/Solaris
Date: 2011-12-05T07:07:05Z

This distribution has been tested as part of the CPAN Testers
project, supporting the Perl programming language.  See
http://wiki.cpantesters.org/ for more information or email
questions to cpan-testers-discuss@perl.org


--
Dear Kent Fredric,

This is a computer-generated report for Spark-Form-0.2103-TRIAL
on perl 5.15.5, created by CPAN-Reporter-1.2002.

Thank you for uploading your work to CPAN.  Congratulations!
All tests were successful.

Sections of this report:

    * Tester comments
    * Program output
    * Prerequisites
    * Environment and other context

------------------------------
TESTER COMMENTS
------------------------------

Additional comments from tester:

this report is from an automated smoke testing program
and was not reviewed by a human for accuracy

------------------------------
PROGRAM OUTPUT
------------------------------

Output from './Build test':

t/00-compile.t ................ ok
# Testing Spark::Form 0.2103, Perl 5.015005, /export/home/cpant4/perl5/bin/perl5.15.5
t/00-load.t ................... ok
# 
# 
# perl: v5.15.5 (wanted any version) on solaris from /export/home/cpant4/perl5/bin/perl5.15.5
# 
# Carp                                          => 1.23       (want any version)
# Data::Couplet                                 => 0.02004314 (want 0.02004312)
# Data::Dumper                                  => 2.134      (want any version)
# Dist::Zilla::PluginBundle::Author::KENTNL     => module not found. (want 1.0.0)  
# Dist::Zilla::PluginBundle::Author::KENTNL::Lite => module not found. (want 0.01009803)
# English                                       => 1.04       (want any version)
# File::Find                                    => 1.20       (want any version)
# File::Temp                                    => 0.22       (want any version)
# HTML::Tiny                                    => 1.05       (want any version)
# List::MoreUtils                               => 0.33       (want any version)
# List::Util                                    => 1.23       (want any version)
# Module::Build                                 => 0.3901     (want 0.3601) 
# Module::Pluggable::Object                     => 3.9        (want any version)
# Moose                                         => 2.0401     (want 0.90)   
# Moose::Role                                   => 2.0401     (want 0.90)   
# MooseX::Clone                                 => 0.05       (want any version)
# MooseX::LazyRequire                           => 0.07       (want 0.04)   
# MooseX::Types                                 => 0.30       (want 0.20)   
# MooseX::Types::Moose                          => 0.30       (want any version)
# Scalar::Util                                  => 1.23       (want any version)
# Test::More                                    => 0.98       (want 0.88)   
# namespace::autoclean                          => 0.13       (want any version)
# 
# Thanks for using my code.  I hope it works for you.
# If not, please try and include this output in the bug report.
# That will help me reproduce the issue and solve you problem.
# 
t/000-report-versions-tiny.t .. ok
t/02-simple.t ................. ok
t/03-form-register.t .......... ok
t/04-form-custom-lazy.t ....... ok
t/05-confirm.t ................ ok
t/06-maxlength.t .............. ok
t/07-minlength.t .............. ok
t/08-notempty.t ............... ok
t/09-regex.t .................. ok
t/10-combinatorics.t .......... ok
t/11-reset.t .................. ok
t/12-checkbox.t ............... ok
t/13-select.t ................. ok
t/14-list.t ................... ok
t/15-submit.t ................. ok
t/16-file.t ................... ok
t/17-text.t ................... ok
t/18-textarea.t ............... ok
t/19-button.t ................. ok
t/20-hidden.t ................. ok
t/21-image.t .................. ok
t/22-multiselect.t ............ ok
t/23-password.t ............... ok
t/24-radio.t .................. ok
t/25-noload.t ................. ok
t/26-clone.t .................. ok
t/27-partial_clone.t .......... ok
t/28-compose.t ................ ok
t/29-partial-fill.t ........... ok
t/author-critic.t ............. skipped: these tests are for testing by the author
t/release-cpan-changes.t ...... skipped: these tests are for release candidate testing
t/release-distmeta.t .......... skipped: these tests are for release candidate testing
t/release-eol.t ............... skipped: these tests are for release candidate testing
t/release-kwalitee.t .......... skipped: these tests are for release candidate testing
t/release-pod-coverage.t ...... skipped: these tests are for release candidate testing
t/release-pod-syntax.t ........ skipped: these tests are for release candidate testing
All tests successful.
Files=38, Tests=131, 34 wallclock secs ( 0.13 usr  0.09 sys + 30.20 cusr  2.12 csys = 32.54 CPU)
Result: PASS

------------------------------
PREREQUISITES
------------------------------

Prerequisite modules loaded:

requires:

    Module                    Need       Have      
    ------------------------- ---------- ----------
    Carp                      0          1.23      
    Data::Couplet             0.02004312 0.02004314
    HTML::Tiny                0          1.05      
    List::MoreUtils           0          0.33      
    List::Util                0          1.23      
    Module::Pluggable::Object 0          3.9       
    Moose                     0.90       2.0401    
    Moose::Role               0.90       2.0401    
    MooseX::Clone             0          0.05      
    MooseX::LazyRequire       0.04       0.07      
    MooseX::Types             0.20       0.30      
    MooseX::Types::Moose      0          0.30      
    namespace::autoclean      0          0.13      
    Scalar::Util              0          1.23      

build_requires:

    Module                    Need       Have      
    ------------------------- ---------- ----------
    Data::Dumper              0          2.134     
    English                   0          1.04      
    File::Find                0          1.20      
    File::Temp                0          0.22      
    Module::Build             0.3601     0.39_01   
    Test::More                0.88       0.98      

configure_requires:

    Module                    Need       Have      
    ------------------------- ---------- ----------
    Module::Build             0.3601     0.39_01   


------------------------------
ENVIRONMENT AND OTHER CONTEXT
------------------------------

Environment variables:

    AUTOMATED_TESTING = 1
    LANG = C
    LD_LIBRARY_PATH = /usr/local/lib:
    PATH = /export/home/cpant4/perl5/bin:/usr/local/bin:/usr/bin
    PERL5LIB = /export/home/cpant4/.cpan/build/Data-Couplet-0.02004314-4SpBqy/blib/arch:/export/home/cpant4/.cpan/build/Data-Couplet-0.02004314-4SpBqy/blib/lib:/export/home/cpant4/.cpan/build/MooseX-Clone-0.05-dbhbF2/blib/arch:/export/home/cpant4/.cpan/build/MooseX-Clone-0.05-dbhbF2/blib/lib:/export/home/cpant4/.cpan/build/HTML-Tiny-1.05-hlLeQ4/blib/arch:/export/home/cpant4/.cpan/build/HTML-Tiny-1.05-hlLeQ4/blib/lib
    PERL5OPT = 
    PERL5_CPANPLUS_IS_RUNNING = 12524
    PERL5_CPAN_IS_RUNNING = 12524
    PERL5_CPAN_IS_RUNNING_IN_RECURSION = 19504,12524
    PERL_CR_SMOKER_CURRENT = Spark-Form-0.2103-TRIAL
    PERL_EXTUTILS_AUTOINSTALL = --defaultdeps
    PERL_MM_USE_DEFAULT = 1
    SHELL = /bin/bash
    TERM = xterm

Perl special variables (and OS-specific diagnostics, for MSWin32):

    $^X = /export/home/cpant4/perl5/bin/perl5.15.5
    $UID/$EUID = 104 / 104
    $GID = 1 1
    $EGID = 1 1

Perl module toolchain versions installed:

    Module              Have    
    ------------------- --------
    CPAN                1.9800  
    CPAN::Meta          2.112621
    Cwd                 3.37    
    ExtUtils::CBuilder  0.280204
    ExtUtils::Command   1.17    
    ExtUtils::Install   1.57    
    ExtUtils::MakeMaker 6.63_02 
    ExtUtils::Manifest  1.60    
    ExtUtils::ParseXS   3.05    
    File::Spec          3.34    
    JSON                2.53    
    JSON::PP            2.27200 
    Module::Build       0.39_01 
    Module::Signature   n/a     
    Parse::CPAN::Meta   1.4401  
    Test::Harness       3.23    
    Test::More          0.98    
    YAML                0.77    
    YAML::Syck          1.19    
    version             0.95    


--

Summary of my perl5 (revision 5 version 15 subversion 5) configuration:
   
  Platform:
    osname=solaris, osvers=2.10, archname=i86pc-solaris-64int
    uname='sunos vmrz0046 5.10 generic_141445-09 i86pc i386 i86pc solaris '
    config_args='-Dcc=gcc -Dprefix=~/perl5 -Duse64bitint -Dusedevel -d'
    hint=recommended, useposix=true, d_sigaction=define
    useithreads=undef, usemultiplicity=undef
    useperlio=define, d_sfio=undef, uselargefiles=define, usesocks=undef
    use64bitint=define, use64bitall=undef, uselongdouble=undef
    usemymalloc=n, bincompat5005=undef
  Compiler:
    cc='gcc', ccflags ='-DPTR_IS_LONG -fno-strict-aliasing -pipe -I/usr/local/include -D_LARGEFILE_SOURCE -D_FILE_OFFSET_BITS=64 -DPERL_USE_SAFE_PUTENV',
    optimize='-O',
    cppflags='-DPTR_IS_LONG -fno-strict-aliasing -pipe -I/usr/local/include'
    ccversion='', gccversion='3.4.6', gccosandvers='solaris2.10'
    intsize=4, longsize=4, ptrsize=4, doublesize=8, byteorder=12345678
    d_longlong=define, longlongsize=8, d_longdbl=define, longdblsize=12
    ivtype='long long', ivsize=8, nvtype='double', nvsize=8, Off_t='off_t', lseeksize=8
    alignbytes=4, prototype=define
  Linker and Libraries:
    ld='gcc', ldflags =' -L/usr/local/lib '
    libpth=/usr/local/lib /usr/lib /usr/ccs/lib
    libs=-lsocket -lnsl -lgdbm -ldl -lm -lc
    perllibs=-lsocket -lnsl -ldl -lm -lc
    libc=/lib/libc.so, so=so, useshrplib=false, libperl=libperl.a
    gnulibc_version=''
  Dynamic Linking:
    dlsrc=dl_dlopen.xs, dlext=so, d_dlsymun=undef, ccdlflags=' '
    cccdlflags='-fPIC', lddlflags='-G -L/usr/local/lib'


Characteristics of this binary (from libperl): 
  Compile-time options: HAS_TIMES PERLIO_LAYERS PERL_DONT_CREATE_GVSV
                        PERL_MALLOC_WRAP PERL_PRESERVE_IVUV PERL_USE_DEVEL
                        PERL_USE_SAFE_PUTENV USE_64_BIT_INT USE_LARGE_FILES
                        USE_LOCALE USE_LOCALE_COLLATE USE_LOCALE_CTYPE
                        USE_LOCALE_NUMERIC USE_PERLIO USE_PERL_ATOF
  Built under solaris
  Compiled at Nov 28 2011 11:34:47
  %ENV:
    PERL5LIB="/export/home/cpant4/.cpan/build/Data-Couplet-0.02004314-4SpBqy/blib/arch:/export/home/cpant4/.cpan/build/Data-Couplet-0.02004314-4SpBqy/blib/lib:/export/home/cpant4/.cpan/build/MooseX-Clone-0.05-dbhbF2/blib/arch:/export/home/cpant4/.cpan/build/MooseX-Clone-0.05-dbhbF2/blib/lib:/export/home/cpant4/.cpan/build/HTML-Tiny-1.05-hlLeQ4/blib/arch:/export/home/cpant4/.cpan/build/HTML-Tiny-1.05-hlLeQ4/blib/lib"
    PERL5OPT=""
    PERL5_CPANPLUS_IS_RUNNING="12524"
    PERL5_CPAN_IS_RUNNING="12524"
    PERL5_CPAN_IS_RUNNING_IN_RECURSION="19504,12524"
    PERL_CR_SMOKER_CURRENT="Spark-Form-0.2103-TRIAL"
    PERL_EXTUTILS_AUTOINSTALL="--defaultdeps"
    PERL_MM_USE_DEFAULT="1"
  @INC:
    /export/home/cpant4/.cpan/build/Data-Couplet-0.02004314-4SpBqy/blib/arch
    /export/home/cpant4/.cpan/build/Data-Couplet-0.02004314-4SpBqy/blib/lib
    /export/home/cpant4/.cpan/build/MooseX-Clone-0.05-dbhbF2/blib/arch
    /export/home/cpant4/.cpan/build/MooseX-Clone-0.05-dbhbF2/blib/lib
    /export/home/cpant4/.cpan/build/HTML-Tiny-1.05-hlLeQ4/blib/arch
    /export/home/cpant4/.cpan/build/HTML-Tiny-1.05-hlLeQ4/blib/lib
    /export/home/cpant4/perl5/lib/site_perl/5.15.5/i86pc-solaris-64int
    /export/home/cpant4/perl5/lib/site_perl/5.15.5
    /export/home/cpant4/perl5/lib/5.15.5/i86pc-solaris-64int
    /export/home/cpant4/perl5/lib/5.15.5
    /export/home/cpant4/perl5/lib/site_perl
    .