Back
From: metabase:user:8286d1fc-3d52-11e2-9ec4-cb9cdd236785
Subject: PASS Dist-Zilla-Plugin-SpellingCommonMistakesTests-1.001000 v5.19.4 GNU/Linux
Date: 2013-08-26T22:49:18Z
This distribution has been tested as part of the CPAN Testers
project, supporting the Perl programming language. See
http://wiki.cpantesters.org/ for more information or email
questions to cpan-testers-discuss@perl.org
--
Dear Adam Lesperance,
This is a computer-generated report for Dist-Zilla-Plugin-SpellingCommonMistakesTests-1.001000
on perl 5.19.4, created by CPAN-Reporter-1.2010.
Thank you for uploading your work to CPAN. Congratulations!
All tests were successful.
Sections of this report:
* Tester comments
* Program output
* Prerequisites
* Environment and other context
------------------------------
TESTER COMMENTS
------------------------------
Additional comments from tester:
this report is from an automated smoke testing program
and was not reviewed by a human for accuracy
------------------------------
PROGRAM OUTPUT
------------------------------
Output from '/usr/local/bin/make test':
PERL_DL_NONLAZY=1 /opt/perl441-no-5.19.4/bin/perl "-MExtUtils::Command::MM" "-e" "test_harness(0, 'blib/lib', 'blib/arch')" t/*.t
t/00-compile.t .................. ok
#
#
# perl: v5.19.4 (wanted 5.008) on linux from /opt/perl441-no-5.19.4/bin/perl
#
# Dist::Zilla::Plugin::Bootstrap::lib => 0.02000100 (want any version)
# Dist::Zilla::Plugin::InlineFiles => 4.300035 (want any version)
# English => 1.08 (want any version)
# File::Find => 1.24 (want any version)
# File::Temp => 0.2301 (want any version)
# Module::Build => 0.4007 (want 0.3601)
# Moose => 2.1005 (want any version)
# Pod::Spell::CommonMistakes => 1.000 (want any version)
# Test::More => 0.98 (want 0.88)
# Test::Pod::Spelling::CommonMistakes => 1.000 (want any version)
# utf8 => 1.13 (want any version)
#
# Thanks for using my code. I hope it works for you.
# If not, please try and include this output in the bug report.
# That will help me reproduce the issue and solve you problem.
#
t/000-report-versions-tiny.t .... ok
Policy "Perl::Critic::Policy::Miscellanea::RequireRcsKeywords" is not installed.
t/author-critic.t ............... ok
t/release-common_spelling.t ..... ok
# Distribution version: 1.001000
t/release-consistent-version.t .. ok
Date "2011-03-17 06:01:42 America/Chicago" is not in the recommend format at /opt/perl441-no-5.19.4/lib/site_perl/5.19.4/Test/CPAN/Changes.pm line 28.
Date "2011-03-17 06:12:34 America/Chicago" is not in the recommend format at /opt/perl441-no-5.19.4/lib/site_perl/5.19.4/Test/CPAN/Changes.pm line 28.
Date "2011-04-01 05:45:51 America/Chicago" is not in the recommend format at /opt/perl441-no-5.19.4/lib/site_perl/5.19.4/Test/CPAN/Changes.pm line 28.
t/release-cpan-changes.t ........ ok
t/release-dist-manifest.t ....... ok
t/release-distmeta.t ............ ok
t/release-eol.t ................. ok
t/release-has-version.t ......... ok
t/release-kwalitee.t ............ ok
t/release-minimum-version.t ..... ok
t/release-no-tabs.t ............. ok
# Dist::Zilla::Plugin::SpellingCommonMistakesTests: no public symbols defined
t/release-pod-coverage.t ........ ok
t/release-pod-syntax.t .......... ok
t/release-portability.t ......... ok
t/release-unused-vars.t ......... ok
All tests successful.
Files=17, Tests=99, 22 wallclock secs ( 0.20 usr 0.05 sys + 19.24 cusr 0.91 csys = 20.40 CPU)
Result: PASS
------------------------------
PREREQUISITES
------------------------------
Prerequisite modules loaded:
requires:
Module Need Have
----------------------------------- ------ ----------
Dist::Zilla::Plugin::InlineFiles 0 4.300035
Moose 0 2.1005
Pod::Spell::CommonMistakes 0 1.000
Test::Pod::Spelling::CommonMistakes 0 1.000
utf8 0 1.13
build_requires:
Module Need Have
----------------------------------- ------ ----------
Dist::Zilla::Plugin::Bootstrap::lib 0 0.02000100
English 0 1.08
ExtUtils::MakeMaker 6.31 6.72
File::Find 0 1.24
File::Temp 0 0.2301
Test::More 0.88 0.98
configure_requires:
Module Need Have
----------------------------------- ------ ----------
Module::Build 0.3601 0.4007
------------------------------
ENVIRONMENT AND OTHER CONTEXT
------------------------------
Environment variables:
AUTHOR_TESTING = 1
AUTOMATED_TESTING = 1
LANG = en_US.UTF-8
LD_LIBRARY_PATH = /usr/local/lib
PATH = /usr/lib/qt-3.3/bin:/usr/kerberos/sbin:/usr/kerberos/bin:/usr/lib/ccache:/usr/local/sbin:/usr/local/bin:/sbin:/bin:/usr/sbin:/usr/bin:/usr/X11R6/bin:/usr/lib/alliance/bin:/opt/real/RealPlayer:/root/bin:/usr/lib/alliance/bin:/opt/real/RealPlayer
PERL5LIB =
PERL5OPT =
PERL5_CPANPLUS_IS_RUNNING = 28593
PERL5_CPAN_IS_RUNNING = 28593
PERL_ANYEVENT_MODEL = POE
PERL_ANYEVENT_VERBOSE = 1
PERL_MM_USE_DEFAULT = 1
SHELL = /bin/bash
TERM = xterm
Perl special variables (and OS-specific diagnostics, for MSWin32):
$^X = /opt/perl441-no-5.19.4/bin/perl
$UID/$EUID = 0 / 0
$GID = 0 0 1 2 3 4 6 10
$EGID = 0 0 1 2 3 4 6 10
Perl module toolchain versions installed:
Module Have
------------------- --------
CPAN 2.00
CPAN::Meta 2.132140
Cwd 3.40
ExtUtils::CBuilder 0.280205
ExtUtils::Command 1.17
ExtUtils::Install 1.54
ExtUtils::MakeMaker 6.72
ExtUtils::Manifest 1.61
ExtUtils::ParseXS 3.21
File::Spec 3.40
JSON 2.59
JSON::PP 2.27202
Module::Build 0.4007
Module::Signature 0.73
Parse::CPAN::Meta 1.4405
Test::Harness 3.28
Test::More 0.98
YAML 0.84
YAML::Syck 1.27
version 0.9903
--
Summary of my perl5 (revision 5 version 19 subversion 4) configuration:
Snapshot of: 7e8c6c4cac89df95535a8354d57396d3144876b8
Platform:
osname=linux, osvers=2.6.22.14-72.fc6, archname=i686-linux
uname='linux localhost.localdomain 2.6.22.14-72.fc6 #1 smp wed nov 21 13:44:07 est 2007 i686 i686 i386 gnulinux '
config_args='-Dcc=/opt/441/bin/gcc -Doptimize=-g -DDMALLOC=/usr/local/bin/dmalloc -Dprefix=/opt/perl441-no-5.19.4 -DDEBUGGING'
hint=recommended, useposix=true, d_sigaction=define
useithreads=undef, usemultiplicity=undef
useperlio=define, d_sfio=undef, uselargefiles=undef, usesocks=undef
use64bitint=undef, use64bitall=undef, uselongdouble=undef
usemymalloc=n, bincompat5005=undef
Compiler:
cc='/opt/441/bin/gcc', ccflags ='-DDMALLOC',
optimize='-g',
cppflags='-DDMALLOC'
ccversion='', gccversion='4.4.1', gccosandvers=''
intsize=4, longsize=4, ptrsize=4, doublesize=8, byteorder=1234
d_longlong=define, longlongsize=8, d_longdbl=define, longdblsize=12
ivtype='long', ivsize=4, nvtype='double', nvsize=8, Off_t='off_t', lseeksize=4
alignbytes=4, prototype=define
Linker and Libraries:
ld='/opt/441/bin/gcc', ldflags =' -L/usr/local/lib'
libpth=/usr/local/lib /lib /usr/lib
libs=-lnsl -lgdbm -ldb -ldl -lm -lcrypt -lutil -lc
perllibs=-lnsl -ldl -lm -lcrypt -lutil -lc
libc=/lib/libc-2.5.so, so=so, useshrplib=false, libperl=libperl.a
gnulibc_version='2.5'
Dynamic Linking:
dlsrc=dl_dlopen.xs, dlext=so, d_dlsymun=undef, ccdlflags='-Wl,-E'
cccdlflags='-fPIC', lddlflags='-shared -g -L/usr/local/lib'
Characteristics of this binary (from libperl):
Compile-time options: HAS_TIMES PERLIO_LAYERS PERL_DONT_CREATE_GVSV
PERL_HASH_FUNC_ONE_AT_A_TIME_HARD PERL_MALLOC_WRAP
PERL_NEW_COPY_ON_WRITE PERL_PRESERVE_IVUV
USE_FAST_STDIO USE_LOCALE USE_LOCALE_COLLATE
USE_LOCALE_CTYPE USE_LOCALE_NUMERIC USE_PERLIO
USE_PERL_ATOF
Built under linux
Compiled at Aug 22 2013 11:04:44
%ENV:
PERL5LIB=""
PERL5OPT=""
PERL5_CPANPLUS_IS_RUNNING="28593"
PERL5_CPAN_IS_RUNNING="28593"
PERL_ANYEVENT_MODEL="POE"
PERL_ANYEVENT_VERBOSE="1"
PERL_MM_USE_DEFAULT="1"
@INC:
/opt/perl441-no-5.19.4/lib/site_perl/5.19.4/i686-linux
/opt/perl441-no-5.19.4/lib/site_perl/5.19.4
/opt/perl441-no-5.19.4/lib/5.19.4/i686-linux
/opt/perl441-no-5.19.4/lib/5.19.4
.