Report for PLUTO-0.30

Back
From: metabase:user:9820532a-708b-1014-9a05-b18a96298da1
Subject: PASS PLUTO-0.30 v5.15.3 GNU/Linux
Date: 2011-09-27T11:20:43Z

This distribution has been tested as part of the CPAN Testers
project, supporting the Perl programming language.  See
http://wiki.cpantesters.org/ for more information or email
questions to cpan-testers-discuss@perl.org


--
Dear Edward Kawas,

This is a computer-generated report for PLUTO-0.30
on perl 5.15.3, created by CPAN-Reporter-1.2002.

Thank you for uploading your work to CPAN.  Congratulations!
All tests were successful.

Sections of this report:

    * Tester comments
    * Program output
    * Prerequisites
    * Environment and other context

------------------------------
TESTER COMMENTS
------------------------------

Additional comments from tester:

this report is from an automated smoke testing program
and was not reviewed by a human for accuracy

------------------------------
PROGRAM OUTPUT
------------------------------

Output from '/usr/bin/make test':

PERL_DL_NONLAZY=1 /home/bri/perl5/perlbrew/perls/perl-5.15.3/bin/perl5.15.3 "-MExtUtils::Command::MM" "-e" "test_harness(0, 'inc', 'blib/lib', 'blib/arch')" t/00_base.t t/10_nodes.t t/20_statements.t t/30_graph.t t/31_graph_memory.t t/40_parser.t t/41_parser_ntriples.t t/42_parser_xml.t t/43_parser_n3.t t/50_db.t t/60_jena.t t/61_jena_sql.t t/70_query.t t/71_query_simple.t t/72_query_rdql.t t/80_ontology.t t/81_ontology_rdfs.t t/81b_ontology_rdfs.t t/82_ontology_jena.t t/85_jena_graph_system.t
t/00_base.t ............... ok
Name "ODO::Node::Any::DEBUG" used only once: possible typo at /home/bri/perl5/perlbrew/perls/perl-5.15.3/lib/site_perl/5.15.3/Class/Base.pm line 54.
t/10_nodes.t .............. ok
Name "ODO::Node::Any::DEBUG" used only once: possible typo at /home/bri/perl5/perlbrew/perls/perl-5.15.3/lib/site_perl/5.15.3/Class/Base.pm line 54.
t/20_statements.t ......... ok
t/30_graph.t .............. ok
Name "ODO::Node::Any::DEBUG" used only once: possible typo at /home/bri/perl5/perlbrew/perls/perl-5.15.3/lib/site_perl/5.15.3/Class/Base.pm line 54.
t/31_graph_memory.t ....... ok
Name "ODO::Node::Any::DEBUG" used only once: possible typo at /home/bri/perl5/perlbrew/perls/perl-5.15.3/lib/site_perl/5.15.3/Class/Base.pm line 54.
t/40_parser.t ............. ok
Name "ODO::Node::Any::DEBUG" used only once: possible typo at /home/bri/perl5/perlbrew/perls/perl-5.15.3/lib/site_perl/5.15.3/Class/Base.pm line 54.
t/41_parser_ntriples.t .... ok
Name "ODO::Node::Any::DEBUG" used only once: possible typo at /home/bri/perl5/perlbrew/perls/perl-5.15.3/lib/site_perl/5.15.3/Class/Base.pm line 54.
Subroutine XML::Namespace::rdf redefined at /home/bri/perl5/perlbrew/perls/perl-5.15.3/lib/site_perl/5.15.3/XML/Namespace.pm line 54.
Subroutine XML::Namespace::rdf redefined at /home/bri/perl5/perlbrew/perls/perl-5.15.3/lib/site_perl/5.15.3/XML/Namespace.pm line 54.
Please download the latest approved test cases and place them in t/rdf.
See http://www.w3.org/2000/10/rdf-tests/rdfcore/latest_Approved.zip
t/42_parser_xml.t ......... ok
Name "ODO::Node::Any::DEBUG" used only once: possible typo at /home/bri/perl5/perlbrew/perls/perl-5.15.3/lib/site_perl/5.15.3/Class/Base.pm line 54.
t/43_parser_n3.t .......... ok
t/50_db.t ................. ok
Name "ODO::Node::Any::DEBUG" used only once: possible typo at /home/bri/perl5/perlbrew/perls/perl-5.15.3/lib/site_perl/5.15.3/Class/Base.pm line 54.
t/60_jena.t ............... ok
t/61_jena_sql.t ........... ok
Name "ODO::Query::Simple::DEBUG" used only once: possible typo at /home/bri/perl5/perlbrew/perls/perl-5.15.3/lib/site_perl/5.15.3/Class/Base.pm line 54.
Name "ODO::Node::Any::DEBUG" used only once: possible typo at /home/bri/perl5/perlbrew/perls/perl-5.15.3/lib/site_perl/5.15.3/Class/Base.pm line 54.
t/70_query.t .............. ok
Name "ODO::Query::Simple::DEBUG" used only once: possible typo at /home/bri/perl5/perlbrew/perls/perl-5.15.3/lib/site_perl/5.15.3/Class/Base.pm line 54.
Name "ODO::Node::Any::DEBUG" used only once: possible typo at /home/bri/perl5/perlbrew/perls/perl-5.15.3/lib/site_perl/5.15.3/Class/Base.pm line 54.
t/71_query_simple.t ....... ok
Name "ODO::Query::Simple::DEBUG" used only once: possible typo at /home/bri/perl5/perlbrew/perls/perl-5.15.3/lib/site_perl/5.15.3/Class/Base.pm line 54.
Name "ODO::Node::Any::DEBUG" used only once: possible typo at /home/bri/perl5/perlbrew/perls/perl-5.15.3/lib/site_perl/5.15.3/Class/Base.pm line 54.
Use of uninitialized value in substr at /home/bri/perl5/perlbrew/perls/perl-5.15.3/lib/site_perl/5.15.3/Class/ParamParser.pm line 353.
Subroutine XML::Namespace::rdf redefined at /home/bri/perl5/perlbrew/perls/perl-5.15.3/lib/site_perl/5.15.3/XML/Namespace.pm line 54.
Subroutine XML::Namespace::rdf redefined at /home/bri/perl5/perlbrew/perls/perl-5.15.3/lib/site_perl/5.15.3/XML/Namespace.pm line 54.
t/72_query_rdql.t ......... ok
Name "ODO::Query::Simple::DEBUG" used only once: possible typo at /home/bri/perl5/perlbrew/perls/perl-5.15.3/lib/site_perl/5.15.3/Class/Base.pm line 54.
Name "ODO::Node::Any::DEBUG" used only once: possible typo at /home/bri/perl5/perlbrew/perls/perl-5.15.3/lib/site_perl/5.15.3/Class/Base.pm line 54.
t/80_ontology.t ........... ok
Subroutine XML::Namespace::rdf redefined at /home/bri/perl5/perlbrew/perls/perl-5.15.3/lib/site_perl/5.15.3/XML/Namespace.pm line 54.
Name "ODO::Query::Simple::DEBUG" used only once: possible typo at /home/bri/perl5/perlbrew/perls/perl-5.15.3/lib/site_perl/5.15.3/Class/Base.pm line 54.
Name "ODO::Node::Any::DEBUG" used only once: possible typo at /home/bri/perl5/perlbrew/perls/perl-5.15.3/lib/site_perl/5.15.3/Class/Base.pm line 54.
Subroutine XML::Namespace::rdf redefined at /home/bri/perl5/perlbrew/perls/perl-5.15.3/lib/site_perl/5.15.3/XML/Namespace.pm line 54.
Subroutine XML::Namespace::rdfs redefined at /home/bri/perl5/perlbrew/perls/perl-5.15.3/lib/site_perl/5.15.3/XML/Namespace.pm line 54.
Subroutine XML::Namespace::rdf redefined at /home/bri/perl5/perlbrew/perls/perl-5.15.3/lib/site_perl/5.15.3/XML/Namespace.pm line 54.
Odd number of elements in hash assignment at /home/bri/.cpan/build/PLUTO-0.30-0wOt9z/blib/lib/ODO/RDFS/Resource.pm line 24.
Odd number of elements in hash assignment at /home/bri/.cpan/build/PLUTO-0.30-0wOt9z/blib/lib/ODO/RDFS/Class.pm line 24.
Odd number of elements in hash assignment at /home/bri/.cpan/build/PLUTO-0.30-0wOt9z/blib/lib/ODO/RDFS/Resource.pm line 24.
Odd number of elements in hash assignment at (eval 110) line 34.
Odd number of elements in hash assignment at (eval 91) line 34.
Odd number of elements in hash assignment at (eval 140) line 34.
Odd number of elements in hash assignment at /home/bri/.cpan/build/PLUTO-0.30-0wOt9z/blib/lib/ODO/RDFS/Container.pm line 24.
Odd number of elements in hash assignment at /home/bri/.cpan/build/PLUTO-0.30-0wOt9z/blib/lib/ODO/RDFS/Resource.pm line 24.
Odd number of elements in hash assignment at (eval 110) line 34.
Odd number of elements in hash assignment at (eval 91) line 34.
Odd number of elements in hash assignment at (eval 140) line 34.
Odd number of elements in hash assignment at /home/bri/.cpan/build/PLUTO-0.30-0wOt9z/blib/lib/ODO/RDFS/Container.pm line 24.
Odd number of elements in hash assignment at /home/bri/.cpan/build/PLUTO-0.30-0wOt9z/blib/lib/ODO/RDFS/Resource.pm line 24.
t/81_ontology_rdfs.t ...... ok
Subroutine XML::Namespace::rdf redefined at /home/bri/perl5/perlbrew/perls/perl-5.15.3/lib/site_perl/5.15.3/XML/Namespace.pm line 54.
Name "ODO::Query::Simple::DEBUG" used only once: possible typo at /home/bri/perl5/perlbrew/perls/perl-5.15.3/lib/site_perl/5.15.3/Class/Base.pm line 54.
Name "ODO::Node::Any::DEBUG" used only once: possible typo at /home/bri/perl5/perlbrew/perls/perl-5.15.3/lib/site_perl/5.15.3/Class/Base.pm line 54.
Subroutine XML::Namespace::rdf redefined at /home/bri/perl5/perlbrew/perls/perl-5.15.3/lib/site_perl/5.15.3/XML/Namespace.pm line 54.
Subroutine XML::Namespace::rdfs redefined at /home/bri/perl5/perlbrew/perls/perl-5.15.3/lib/site_perl/5.15.3/XML/Namespace.pm line 54.
Subroutine XML::Namespace::rdf redefined at /home/bri/perl5/perlbrew/perls/perl-5.15.3/lib/site_perl/5.15.3/XML/Namespace.pm line 54.
Odd number of elements in hash assignment at /home/bri/.cpan/build/PLUTO-0.30-0wOt9z/blib/lib/ODO/RDFS/Resource.pm line 24.
Odd number of elements in hash assignment at /home/bri/.cpan/build/PLUTO-0.30-0wOt9z/blib/lib/ODO/RDFS/Class.pm line 24.
Odd number of elements in hash assignment at /home/bri/.cpan/build/PLUTO-0.30-0wOt9z/blib/lib/ODO/RDFS/Resource.pm line 24.
Odd number of elements in hash assignment at (eval 110) line 34.
Odd number of elements in hash assignment at (eval 91) line 34.
Odd number of elements in hash assignment at (eval 140) line 34.
Odd number of elements in hash assignment at /home/bri/.cpan/build/PLUTO-0.30-0wOt9z/blib/lib/ODO/RDFS/Container.pm line 24.
Odd number of elements in hash assignment at /home/bri/.cpan/build/PLUTO-0.30-0wOt9z/blib/lib/ODO/RDFS/Resource.pm line 24.
Odd number of elements in hash assignment at (eval 110) line 34.
Odd number of elements in hash assignment at (eval 91) line 34.
Odd number of elements in hash assignment at (eval 140) line 34.
Odd number of elements in hash assignment at /home/bri/.cpan/build/PLUTO-0.30-0wOt9z/blib/lib/ODO/RDFS/Container.pm line 24.
Odd number of elements in hash assignment at /home/bri/.cpan/build/PLUTO-0.30-0wOt9z/blib/lib/ODO/RDFS/Resource.pm line 24.
t/81b_ontology_rdfs.t ..... ok
Name "ODO::Query::Simple::DEBUG" used only once: possible typo at /home/bri/perl5/perlbrew/perls/perl-5.15.3/lib/site_perl/5.15.3/Class/Base.pm line 54.
Name "ODO::Node::Any::DEBUG" used only once: possible typo at /home/bri/perl5/perlbrew/perls/perl-5.15.3/lib/site_perl/5.15.3/Class/Base.pm line 54.
t/82_ontology_jena.t ...... ok
t/85_jena_graph_system.t .. skipped: Ignored because of problems installing DBD::mysql
All tests successful.
Files=20, Tests=192,  4 wallclock secs ( 0.10 usr  0.02 sys +  3.43 cusr  0.26 csys =  3.81 CPU)
Result: PASS

------------------------------
PREREQUISITES
------------------------------

Prerequisite modules loaded:

requires:

    Module                    Need   Have     
    ------------------------- ------ ---------
    Aspect                    0.10   1.01     
    Class::Accessor           0.25   0.34     
    Class::Base               0.02   0.03     
    Class::Interfaces         0.04   0.04     
    Class::ISA                0.32   0.36     
    Class::ParamParser        1.041  1.041    
    Digest::MD5               2.34   2.51     
    Error                     0.17   0.17016  
    Exception::Class          1.22   1.32     
    Exception::Class::DBI     0.94   1.01     
    Module::Load              0.10   0.20     
    Module::Load::Conditional 0.38   0.46     
    Params::Check             0.23   0.32     
    Parse::RecDescent         1.93   1.966_000
  ! SQL::Library              v0.0.3       
    Template                  2.15   2.22     
    Time::HiRes               1.20   1.9724   
    URI                       1.35   1.59     
    XML::LibXML               1.70   1.88     
    XML::Namespace            0.02   0.02     
    XML::RegExp               0.02   0.02     
    XML::SAX                  0.96   0.99     

build_requires:

    Module                    Need   Have     
    ------------------------- ------ ---------
    ExtUtils::MakeMaker       6.42   6.58     

configure_requires:

    Module                    Need   Have     
    ------------------------- ------ ---------
    ExtUtils::MakeMaker       6.42   6.58     


------------------------------
ENVIRONMENT AND OTHER CONTEXT
------------------------------

Environment variables:

    AUTOMATED_TESTING = 1
    LANG = C
    LANGUAGE = en_GB:en
    LC_ALL = C
    PATH = /home/bri/bin:/home/bri/perl5/perlbrew/bin:/home/bri/perl5/perlbrew/perls/perl-5.15.3/bin:~/bin:/usr/local/sbin:/usr/local/bin:/usr/sbin:/usr/bin:/sbin:/bin:/usr/games
    PATH_WITHOUT_PERLBREW = ~/bin:/usr/local/sbin:/usr/local/bin:/usr/sbin:/usr/bin:/sbin:/bin:/usr/games
    PERL5LIB = 
    PERL5OPT = 
    PERL5_CPANPLUS_IS_RUNNING = 12008
    PERL5_CPAN_IS_RUNNING = 12008
    PERL5_CPAN_IS_RUNNING_IN_RECURSION = 1984,12008
    PERLBREW_HOME = /home/bri/.perlbrew
    PERLBREW_PATH = /home/bri/perl5/perlbrew/bin:/home/bri/perl5/perlbrew/perls/perl-5.15.3/bin
    PERLBREW_PERL = perl-5.15.3
    PERLBREW_ROOT = /home/bri/perl5/perlbrew
    PERLBREW_VERSION = 0.29
    PERL_CPANM_OPT = --prompt --mirror http://172.16.1.3/cpan/
    PERL_CR_SMOKER_CURRENT = SADI-1.13
    PERL_EXTUTILS_AUTOINSTALL = --defaultdeps
    PERL_MM_USE_DEFAULT = 1
    SHELL = /bin/bash
    TERM = linux

Perl special variables (and OS-specific diagnostics, for MSWin32):

    $^X = /home/bri/perl5/perlbrew/perls/perl-5.15.3/bin/perl5.15.3
    $UID/$EUID = 1000 / 1000
    $GID = 1000 4 20 24 46 112 120 122 1000
    $EGID = 1000 4 20 24 46 112 120 122 1000

Perl module toolchain versions installed:

    Module              Have    
    ------------------- --------
    CPAN                1.9800  
    CPAN::Meta          2.112621
    Cwd                 3.37    
    ExtUtils::CBuilder  0.280204
    ExtUtils::Command   1.17    
    ExtUtils::Install   1.57    
    ExtUtils::MakeMaker 6.58    
    ExtUtils::Manifest  1.60    
    ExtUtils::ParseXS   3.04    
    File::Spec          3.34    
    JSON                2.53    
    JSON::PP            2.27200 
    Module::Build       0.39_01 
    Module::Signature   n/a     
    Parse::CPAN::Meta   1.4401  
    Test::Harness       3.23    
    Test::More          0.98    
    YAML                0.75    
    YAML::Syck          n/a     
    version             0.94    


--

Summary of my perl5 (revision 5 version 15 subversion 3) configuration:
   
  Platform:
    osname=linux, osvers=2.6.38-11-generic, archname=i686-linux
    uname='linux lappy 2.6.38-11-generic #48-ubuntu smp fri jul 29 19:05:14 utc 2011 i686 i686 i386 gnulinux '
    config_args='-de -Dprefix=/home/bri/perl5/perlbrew/perls/perl-5.15.3 -Dusedevel'
    hint=recommended, useposix=true, d_sigaction=define
    useithreads=undef, usemultiplicity=undef
    useperlio=define, d_sfio=undef, uselargefiles=define, usesocks=undef
    use64bitint=undef, use64bitall=undef, uselongdouble=undef
    usemymalloc=n, bincompat5005=undef
  Compiler:
    cc='cc', ccflags ='-fno-strict-aliasing -pipe -fstack-protector -I/usr/local/include -D_LARGEFILE_SOURCE -D_FILE_OFFSET_BITS=64',
    optimize='-O2',
    cppflags='-fno-strict-aliasing -pipe -fstack-protector -I/usr/local/include'
    ccversion='', gccversion='4.5.2', gccosandvers=''
    intsize=4, longsize=4, ptrsize=4, doublesize=8, byteorder=1234
    d_longlong=define, longlongsize=8, d_longdbl=define, longdblsize=12
    ivtype='long', ivsize=4, nvtype='double', nvsize=8, Off_t='off_t', lseeksize=8
    alignbytes=4, prototype=define
  Linker and Libraries:
    ld='cc', ldflags =' -fstack-protector -L/usr/local/lib'
    libpth=/usr/local/lib /lib /usr/lib /usr/lib/i386-linux-gnu /usr/lib64
    libs=-lnsl -ldl -lm -lcrypt -lutil -lc
    perllibs=-lnsl -ldl -lm -lcrypt -lutil -lc
    libc=, so=so, useshrplib=false, libperl=libperl.a
    gnulibc_version='2.13'
  Dynamic Linking:
    dlsrc=dl_dlopen.xs, dlext=so, d_dlsymun=undef, ccdlflags='-Wl,-E'
    cccdlflags='-fPIC', lddlflags='-shared -O2 -L/usr/local/lib -fstack-protector'


Characteristics of this binary (from libperl): 
  Compile-time options: HAS_TIMES PERLIO_LAYERS PERL_DONT_CREATE_GVSV
                        PERL_MALLOC_WRAP PERL_PRESERVE_IVUV PERL_USE_DEVEL
                        USE_LARGE_FILES USE_LOCALE USE_LOCALE_COLLATE
                        USE_LOCALE_CTYPE USE_LOCALE_NUMERIC USE_PERLIO
                        USE_PERL_ATOF
  Built under linux
  Compiled at Sep 25 2011 10:21:37
  %ENV:
    PERL5LIB=""
    PERL5OPT=""
    PERL5_CPANPLUS_IS_RUNNING="12008"
    PERL5_CPAN_IS_RUNNING="12008"
    PERL5_CPAN_IS_RUNNING_IN_RECURSION="1984,12008"
    PERLBREW_HOME="/home/bri/.perlbrew"
    PERLBREW_PATH="/home/bri/perl5/perlbrew/bin:/home/bri/perl5/perlbrew/perls/perl-5.15.3/bin"
    PERLBREW_PERL="perl-5.15.3"
    PERLBREW_ROOT="/home/bri/perl5/perlbrew"
    PERLBREW_VERSION="0.29"
    PERL_CPANM_OPT="--prompt --mirror http://172.16.1.3/cpan/"
    PERL_CR_SMOKER_CURRENT="SADI-1.13"
    PERL_EXTUTILS_AUTOINSTALL="--defaultdeps"
    PERL_MM_USE_DEFAULT="1"
  @INC:
    /home/bri/perl5/perlbrew/perls/perl-5.15.3/lib/site_perl/5.15.3/i686-linux
    /home/bri/perl5/perlbrew/perls/perl-5.15.3/lib/site_perl/5.15.3
    /home/bri/perl5/perlbrew/perls/perl-5.15.3/lib/5.15.3/i686-linux
    /home/bri/perl5/perlbrew/perls/perl-5.15.3/lib/5.15.3
    .