HTML-Mason v1.57 Perl 5 v5.24.2 x86_64-linux-thread-multi

Status
Pass
From
Nigel Horne
Dist
HTML-Mason v1.57
Platform
Perl 5 v5.24.2 x86_64-linux-thread-multi
Date
2017-10-29 17:08:10
ID
bd7c84b6-bccb-11e7-9be1-bbe64cf6c7cd
This distribution has been tested as part of the CPAN Testers
project, supporting the Perl programming language.  See
http://wiki.cpantesters.org/ for more information or email
questions to cpan-testers-discuss@perl.org


--
Dear Dave Rolsky,

This is a computer-generated report for HTML-Mason-1.57
on perl 5.24.2, created by CPAN-Reporter-1.2018.

Thank you for uploading your work to CPAN.  Congratulations!
All tests were successful.

Sections of this report:

    * Tester comments
    * Program output
    * Prerequisites
    * Environment and other context

------------------------------
TESTER COMMENTS
------------------------------

Additional comments from tester:

this report is from an automated smoke testing program
and was not reviewed by a human for accuracy

------------------------------
PROGRAM OUTPUT
------------------------------

Output from '/usr/bin/make test':

PERL_DL_NONLAZY=1 "/home/njh/perl5/perlbrew/perls/perl-5.24.2/bin/perl" "-MExtUtils::Command::MM" "-MTest::Harness" "-e" "undef *Test::Harness::Switches; test_harness(0, 'blib/lib', 'blib/arch')" t/*.t
t/02-sections.t ............... ok
t/01-syntax.t ................. ok
# 
# Versions for all modules listed in MYMETA.json (including optional ones):
# 
# === Configure Requires ===
# 
#     Module              Want Have
#     ------------------- ---- ----
#     ExtUtils::MakeMaker  any 7.30
# 
# === Configure Suggests ===
# 
#     Module      Want       Have
#     -------- ------- ----------
#     JSON::PP 2.27300 2.27300_01
# 
# === Build Requires ===
# 
#     Module              Want Have
#     ------------------- ---- ----
#     ExtUtils::MakeMaker  any 7.30
# 
# === Test Requires ===
# 
#     Module              Want     Have
#     ------------------- ---- --------
#     ExtUtils::MakeMaker  any     7.30
#     File::Spec           0.8  3.63_01
#     Test::Deep           any    1.127
#     Test::More          0.96 1.302086
# 
# === Test Recommends ===
# 
#     Module         Want     Have
#     ---------- -------- --------
#     CPAN::Meta 2.120900 2.150005
# 
# === Runtime Requires ===
# 
#     Module           Want    Have
#     ---------------- ---- -------
#     CGI              2.46    4.36
#     Cache::Cache     1.00 missing
#     Class::Container 0.07    0.12
#     Exception::Class 1.15    1.43
#     File::Spec        0.8 3.63_01
#     HTML::Entities    any    3.69
#     Log::Any         0.08   1.049
#     Params::Validate 0.70    1.29
#     Scalar::Util     1.01    1.48
# 
# 
# *** WARNING WARNING WARNING WARNING WARNING WARNING WARNING WARNING ***
# 
# The following REQUIRED prerequisites were not satisfied:
# 
# Cache::Cache is not installed (version '1.00' required)
# 
t/01a-comp-calls.t ............ ok
t/00-report-prereqs.t ......... ok
t/05a-stack-corruption.t ...... ok
t/02a-filter.t ................ ok
t/04-misc.t ................... ok
t/05-request.t ................ ok
t/06a-compiler_obj.t .......... ok
t/06b-compiler-named-subs.t ... ok
t/06c-compiler-spaces-path.t .. ok
t/06-compiler.t ............... ok
t/07a-interp-mcr.t ............ ok
t/07-interp.t ................. ok
t/09-component.t .............. ok
t/10-cache.t .................. skipped: Cache::FileCache is not installed
t/09a-comp_content.t .......... ok
t/10a-cache-1.0x.t ............ skipped: (no reason given)
t/12-taint.t .................. ok
t/11-inherit.t ................ ok
t/13-errors.t ................. ok
t/14-cgi.t .................... ok
t/14a-fake_apache.t ........... ok
t/15-subclass.t ............... ok
t/17-print.t .................. ok
t/18-leak.t ................... ok
t/19-subrequest.t ............. ok
t/20-plugins.t ................ ok
t/21-escapes.t ................ ok
t/22-path-security.t .......... ok
t/23-leak2.t .................. skipped: These tests require Test::Memory::Cycle to run.
t/24-tools.t .................. ok
t/25-flush-in-content.t ....... ok
t/25-log.t .................... ok
t/07b-interp-static-source.t .. ok
t/10b-cache-chi.t ............. ok
All tests successful.
Files=36, Tests=508, 12 wallclock secs ( 0.12 usr  0.03 sys +  4.58 cusr  0.41 csys =  5.14 CPU)
Result: PASS

------------------------------
PREREQUISITES
------------------------------

Prerequisite modules loaded:

requires:

    Module              Need Have    
    ------------------- ---- --------
  ! Cache::Cache        1.00 n/a     
    CGI                 2.46 4.36    
    Class::Container    0.07 0.12    
    Exception::Class    1.15 1.43    
    File::Spec          0.8  3.63_01 
    HTML::Entities      0    3.69    
    Log::Any            0.08 1.049   
    Params::Validate    0.70 1.29    
    Scalar::Util        1.01 1.48    

build_requires:

    Module              Need Have    
    ------------------- ---- --------
    ExtUtils::MakeMaker 0    7.30    
    File::Spec          0.8  3.63_01 
    Test::Deep          0    1.127   
    Test::More          0.96 1.302086

configure_requires:

    Module              Need Have    
    ------------------- ---- --------
    ExtUtils::MakeMaker 0    7.30    


------------------------------
ENVIRONMENT AND OTHER CONTEXT
------------------------------

Environment variables:

    AUTOMATED_TESTING = 1
    HARNESS_OPTIONS = j4
    LANG = en_GB.UTF-8
    LANGUAGE = en_GB:en
    PATH = /home/njh/perl5/perlbrew/bin:/home/njh/perl5/perlbrew/perls/perl-5.24.2/bin:/home/njh/perl5/perlbrew/bin:/usr/bin:/bin
    PERL5LIB = /home/njh/.cpan/build/Class-Container-0.12-35/blib/arch:/home/njh/.cpan/build/Class-Container-0.12-35/blib/lib:/home/njh/.cpan/build/Digest-SHA1-2.13-9/blib/arch:/home/njh/.cpan/build/Digest-SHA1-2.13-9/blib/lib:/home/njh/.cpan/build/CGI-4.36-10/blib/arch:/home/njh/.cpan/build/CGI-4.36-10/blib/lib
    PERL5OPT = 
    PERL5_CPANPLUS_IS_RUNNING = 8666
    PERL5_CPAN_IS_RUNNING = 8666
    PERLBREW_BASHRC_VERSION = 0.80
    PERLBREW_HOME = /home/njh/.perlbrew
    PERLBREW_LIB = 
    PERLBREW_MANPATH = /home/njh/perl5/perlbrew/perls/perl-5.24.2/man
    PERLBREW_PATH = /home/njh/perl5/perlbrew/bin:/home/njh/perl5/perlbrew/perls/perl-5.24.2/bin
    PERLBREW_PERL = perl-5.24.2
    PERLBREW_ROOT = /home/njh/perl5/perlbrew
    PERLBREW_VERSION = 0.80
    PERL_LOCAL_LIB_ROOT = 
    SHELL = /bin/sh

Perl special variables (and OS-specific diagnostics, for MSWin32):

    $^X = /home/njh/perl5/perlbrew/perls/perl-5.24.2/bin/perl
    $UID/$EUID = 1000 / 1000
    $GID = 1000 4 24 25 29 30 44 46 108 112 1000
    $EGID = 1000 4 24 25 29 30 44 46 108 112 1000

Perl module toolchain versions installed:

    Module              Have      
    ------------------- ----------
    CPAN                2.16      
    CPAN::Meta          2.150005  
    Cwd                 3.63_01   
    ExtUtils::CBuilder  0.280225  
    ExtUtils::Command   7.30      
    ExtUtils::Install   2.06      
    ExtUtils::MakeMaker 7.30      
    ExtUtils::Manifest  1.70      
    ExtUtils::ParseXS   3.31      
    File::Spec          3.63_01   
    JSON                n/a       
    JSON::PP            2.27300_01
    Module::Build       0.4224    
    Module::Signature   n/a       
    Parse::CPAN::Meta   1.4417_001
    Test::Harness       3.36_01   
    Test::More          1.302086  
    YAML                1.23      
    YAML::Syck          1.30      
    version             0.9916    


--

Summary of my perl5 (revision 5 version 24 subversion 2) configuration:
   
  Platform:
    osname=linux, osvers=4.11.0-1-amd64, archname=x86_64-linux-thread-multi
    uname='linux gateway 4.11.0-1-amd64 #1 smp debian 4.11.6-1 (2017-06-19) x86_64 gnulinux '
    config_args='-de -Dprefix=/home/njh/perl5/perlbrew/perls/perl-5.24.2 -Duseithreads -Dusemultiplicity -Dusedevel -Accflags= -Aeval:scriptdir=/home/njh/perl5/perlbrew/perls/perl-5.24.2/bin'
    hint=recommended, useposix=true, d_sigaction=define
    useithreads=define, usemultiplicity=define
    use64bitint=define, use64bitall=define, uselongdouble=undef
    usemymalloc=n, bincompat5005=undef
  Compiler:
    cc='cc', ccflags ='-D_REENTRANT -D_GNU_SOURCE -fwrapv -fno-strict-aliasing -pipe -fstack-protector-strong -I/usr/local/include -D_LARGEFILE_SOURCE -D_FILE_OFFSET_BITS=64',
    optimize='-O2',
    cppflags='-D_REENTRANT -D_GNU_SOURCE -fwrapv -fno-strict-aliasing -pipe -fstack-protector-strong -I/usr/local/include'
    ccversion='', gccversion='6.4.0 20170704', gccosandvers=''
    intsize=4, longsize=8, ptrsize=8, doublesize=8, byteorder=12345678, doublekind=3
    d_longlong=define, longlongsize=8, d_longdbl=define, longdblsize=16, longdblkind=3
    ivtype='long', ivsize=8, nvtype='double', nvsize=8, Off_t='off_t', lseeksize=8
    alignbytes=8, prototype=define
  Linker and Libraries:
    ld='cc', ldflags =' -fstack-protector-strong -L/usr/local/lib'
    libpth=/usr/local/lib /usr/lib/gcc/x86_64-linux-gnu/6/include-fixed /usr/include/x86_64-linux-gnu /usr/lib /lib/x86_64-linux-gnu /lib/../lib /usr/lib/x86_64-linux-gnu /usr/lib/../lib /lib
    libs=-lpthread -lnsl -lgdbm -ldb -ldl -lm -lcrypt -lutil -lc -lgdbm_compat
    perllibs=-lpthread -lnsl -ldl -lm -lcrypt -lutil -lc
    libc=libc-2.24.so, so=so, useshrplib=false, libperl=libperl.a
    gnulibc_version='2.24'
  Dynamic Linking:
    dlsrc=dl_dlopen.xs, dlext=so, d_dlsymun=undef, ccdlflags='-Wl,-E'
    cccdlflags='-fPIC', lddlflags='-shared -O2 -L/usr/local/lib -fstack-protector-strong'


Characteristics of this binary (from libperl): 
  Compile-time options: HAS_TIMES MULTIPLICITY PERLIO_LAYERS
                        PERL_COPY_ON_WRITE PERL_DONT_CREATE_GVSV
                        PERL_HASH_FUNC_ONE_AT_A_TIME_HARD
                        PERL_IMPLICIT_CONTEXT PERL_MALLOC_WRAP
                        PERL_PRESERVE_IVUV PERL_USE_DEVEL USE_64_BIT_ALL
                        USE_64_BIT_INT USE_ITHREADS USE_LARGE_FILES
                        USE_LOCALE USE_LOCALE_COLLATE USE_LOCALE_CTYPE
                        USE_LOCALE_NUMERIC USE_LOCALE_TIME USE_PERLIO
                        USE_PERL_ATOF USE_REENTRANT_API
  Built under linux
  Compiled at Jul 19 2017 00:32:34
  %ENV:
    PERL5LIB="/home/njh/.cpan/build/Class-Container-0.12-35/blib/arch:/home/njh/.cpan/build/Class-Container-0.12-35/blib/lib:/home/njh/.cpan/build/Digest-SHA1-2.13-9/blib/arch:/home/njh/.cpan/build/Digest-SHA1-2.13-9/blib/lib:/home/njh/.cpan/build/CGI-4.36-10/blib/arch:/home/njh/.cpan/build/CGI-4.36-10/blib/lib"
    PERL5OPT=""
    PERL5_CPANPLUS_IS_RUNNING="8666"
    PERL5_CPAN_IS_RUNNING="8666"
    PERLBREW_BASHRC_VERSION="0.80"
    PERLBREW_HOME="/home/njh/.perlbrew"
    PERLBREW_LIB=""
    PERLBREW_MANPATH="/home/njh/perl5/perlbrew/perls/perl-5.24.2/man"
    PERLBREW_PATH="/home/njh/perl5/perlbrew/bin:/home/njh/perl5/perlbrew/perls/perl-5.24.2/bin"
    PERLBREW_PERL="perl-5.24.2"
    PERLBREW_ROOT="/home/njh/perl5/perlbrew"
    PERLBREW_VERSION="0.80"
    PERL_LOCAL_LIB_ROOT=""
  @INC:
    /home/njh/.cpan/build/Class-Container-0.12-35/blib/arch
    /home/njh/.cpan/build/Class-Container-0.12-35/blib/lib
    /home/njh/.cpan/build/Digest-SHA1-2.13-9/blib/arch
    /home/njh/.cpan/build/Digest-SHA1-2.13-9/blib/lib
    /home/njh/.cpan/build/CGI-4.36-10/blib/arch
    /home/njh/.cpan/build/CGI-4.36-10/blib/lib
    /home/njh/perl5/perlbrew/perls/perl-5.24.2/lib/site_perl/5.24.2/x86_64-linux-thread-multi
    /home/njh/perl5/perlbrew/perls/perl-5.24.2/lib/site_perl/5.24.2
    /home/njh/perl5/perlbrew/perls/perl-5.24.2/lib/5.24.2/x86_64-linux-thread-multi
    /home/njh/perl5/perlbrew/perls/perl-5.24.2/lib/5.24.2
    .