Report for Log-Statistics-0.051

Back
From: metabase:user:313dc9fe-2aae-11df-837a-5e0a49663a4f
Subject: PASS Log-Statistics-0.051 v5.13.10 GNU/Linux
Date: 2011-04-20T00:47:17Z

This distribution has been tested as part of the CPAN Testers
project, supporting the Perl programming language.  See
http://wiki.cpantesters.org/ for more information or email
questions to cpan-testers-discuss@perl.org


--
Dear Alex White,

This is a computer-generated report for Log-Statistics-0.051
on perl 5.13.10, created by CPAN-Reporter-1.1902.

Thank you for uploading your work to CPAN.  Congratulations!
All tests were successful.

Sections of this report:

    * Tester comments
    * Program output
    * Prerequisites
    * Environment and other context

------------------------------
TESTER COMMENTS
------------------------------

Additional comments from tester:

this report is from an automated smoke testing program
and was not reviewed by a human for accuracy

------------------------------
PROGRAM OUTPUT
------------------------------

Output from '/usr/bin/make test':

PERL_DL_NONLAZY=1 /home/perl51310/perl51310/perl "-MExtUtils::Command::MM" "-e" "test_harness(0, 'blib/lib', 'blib/arch')" t/*.t
# Testing Log::Statistics 0.051
t/00_load.t ............... ok
t/10_log_statistics.t ..... ok
t/critic.t ................ skipped: Author tests not required for installation
t/kwalitee.t .............. skipped: Author tests not required for installation
t/meta.t .................. skipped: Test::CPAN::Meta 0.12 not available for testing
t/no_tabs.t ............... skipped: Author tests not required for installation
t/release-pod-coverage.t .. skipped: these tests are for release candidate testing
t/release-pod-syntax.t .... skipped: these tests are for release candidate testing
All tests successful.
Files=8, Tests=101,  3 wallclock secs ( 0.08 usr  0.02 sys +  1.42 cusr  0.17 csys =  1.69 CPU)
Result: PASS

------------------------------
PREREQUISITES
------------------------------

Prerequisite modules loaded:

requires:

    Module              Need Have    
    ------------------- ---- --------
    Benchmark           0    1.12    
    Class::Std::Utils   0    0.0.3   
    Config::IniFiles    0    2.66    
    Data::Dumper        0    2.130_02
    Date::Manip         0    6.23    
    File::Tail          0    0.99.3  
    File::Temp          0    0.22    
    IO::File            0    1.14    
    Log::Log4perl       0    1.32    
    Test::More          0    0.97_01 
    XML::Writer         0    0.612   
    YAML                0    0.72    

build_requires:

    Module              Need Have    
    ------------------- ---- --------
    ExtUtils::MakeMaker 0    6.57_05 


------------------------------
ENVIRONMENT AND OTHER CONTEXT
------------------------------

Environment variables:

    AUTOMATED_TESTING = 1
    LANG = en_US.UTF-8
    LANGUAGE = en_US:en
    PATH = /usr/local/sbin:/usr/local/bin:/usr/sbin:/usr/bin:/sbin:/bin:/usr/games
    PERL5LIB = /home/perl51310/.cpan/build/Log-Log4perl-1.32-Ip1TE3/blib/arch:/home/perl51310/.cpan/build/Log-Log4perl-1.32-Ip1TE3/blib/lib:/home/perl51310/.cpan/build/Date-Manip-6.23-ojhY_V/blib/arch:/home/perl51310/.cpan/build/Date-Manip-6.23-ojhY_V/blib/lib:/home/perl51310/.cpan/build/Test-Inter-1.01-HHTibu/blib/arch:/home/perl51310/.cpan/build/Test-Inter-1.01-HHTibu/blib/lib:/home/perl51310/.cpan/build/File-Tail-0.99.3-B7bhJw/blib/arch:/home/perl51310/.cpan/build/File-Tail-0.99.3-B7bhJw/blib/lib:/home/perl51310/.cpan/build/XML-Writer-0.612-g9oxO6/blib/arch:/home/perl51310/.cpan/build/XML-Writer-0.612-g9oxO6/blib/lib:/home/perl51310/.cpan/build/Class-Std-Utils-v0.0.3-EZLhX6/blib/arch:/home/perl51310/.cpan/build/Class-Std-Utils-v0.0.3-EZLhX6/blib/lib:/home/perl51310/.cpan/build/Config-IniFiles-2.66-XVEgQf/blib/arch:/home/perl51310/.cpan/build/Config-IniFiles-2.66-XVEgQf/blib/lib
    PERL5OPT = 
    PERL5_CPANPLUS_IS_RUNNING = 20332
    PERL5_CPAN_IS_RUNNING = 20332
    PERL5_CPAN_IS_RUNNING_IN_RECURSION = 2405,20332
    PERL_CR_SMOKER_CURRENT = Log-Statistics-0.051
    PERL_EXTUTILS_AUTOINSTALL = --defaultdeps
    PERL_MM_USE_DEFAULT = 1
    SHELL = /bin/bash
    TERM = xterm

Perl special variables (and OS-specific diagnostics, for MSWin32):

    $^X = /home/perl51310/perl51310/perl
    $UID/$EUID = 1006 / 1006
    $GID = 1006 1006
    $EGID = 1006 1006

Perl module toolchain versions installed:

    Module              Have    
    ------------------- --------
    CPAN                1.94_65 
    Cwd                 3.37    
    ExtUtils::CBuilder  0.280202
    ExtUtils::Command   1.16    
    ExtUtils::Install   1.56    
    ExtUtils::MakeMaker 6.57_05 
    ExtUtils::Manifest  1.58    
    ExtUtils::ParseXS   2.2209  
    File::Spec          3.33    
    Module::Build       0.3800  
    Module::Signature   n/a     
    Test::Harness       3.22    
    Test::More          0.97_01 
    YAML                0.72    
    YAML::Syck          1.17    
    version             0.88    


--

Summary of my perl5 (revision 5 version 13 subversion 10) configuration:
   
  Platform:
    osname=linux, osvers=2.6.35-27-generic, archname=i686-linux-thread-multi-64int-ld
    uname='linux st47-laptop 2.6.35-27-generic #47-ubuntu smp fri feb 11 21:01:29 utc 2011 i686 gnulinux '
    config_args=''
    hint=recommended, useposix=true, d_sigaction=define
    useithreads=define, usemultiplicity=define
    useperlio=define, d_sfio=undef, uselargefiles=define, usesocks=undef
    use64bitint=define, use64bitall=undef, uselongdouble=define
    usemymalloc=n, bincompat5005=undef
  Compiler:
    cc='cc', ccflags ='-D_REENTRANT -D_GNU_SOURCE -fno-strict-aliasing -pipe -fstack-protector -I/usr/local/include -D_LARGEFILE_SOURCE -D_FILE_OFFSET_BITS=64',
    optimize='-O2',
    cppflags='-D_REENTRANT -D_GNU_SOURCE -fno-strict-aliasing -pipe -fstack-protector -I/usr/local/include'
    ccversion='', gccversion='4.4.5', gccosandvers=''
    intsize=4, longsize=4, ptrsize=4, doublesize=8, byteorder=12345678
    d_longlong=define, longlongsize=8, d_longdbl=define, longdblsize=12
    ivtype='long long', ivsize=8, nvtype='long double', nvsize=12, Off_t='off_t', lseeksize=8
    alignbytes=4, prototype=define
  Linker and Libraries:
    ld='cc', ldflags =' -fstack-protector -L/usr/local/lib'
    libpth=/usr/local/lib /lib /usr/lib /usr/lib64
    libs=-lnsl -ldl -lm -lcrypt -lutil -lpthread -lc
    perllibs=-lnsl -ldl -lm -lcrypt -lutil -lpthread -lc
    libc=/lib/libc-2.12.1.so, so=so, useshrplib=false, libperl=libperl.a
    gnulibc_version='2.12.1'
  Dynamic Linking:
    dlsrc=dl_dlopen.xs, dlext=so, d_dlsymun=undef, ccdlflags='-Wl,-E'
    cccdlflags='-fPIC', lddlflags='-shared -O2 -L/usr/local/lib -fstack-protector'


Characteristics of this binary (from libperl): 
  Compile-time options: MULTIPLICITY PERL_DONT_CREATE_GVSV
                        PERL_IMPLICIT_CONTEXT PERL_MALLOC_WRAP USE_64_BIT_INT
                        USE_ITHREADS USE_LARGE_FILES USE_LONG_DOUBLE
                        USE_PERLIO USE_PERL_ATOF USE_REENTRANT_API
  Built under linux
  Compiled at Apr  6 2011 11:41:38
  %ENV:
    PERL5LIB="/home/perl51310/.cpan/build/Log-Log4perl-1.32-Ip1TE3/blib/arch:/home/perl51310/.cpan/build/Log-Log4perl-1.32-Ip1TE3/blib/lib:/home/perl51310/.cpan/build/Date-Manip-6.23-ojhY_V/blib/arch:/home/perl51310/.cpan/build/Date-Manip-6.23-ojhY_V/blib/lib:/home/perl51310/.cpan/build/Test-Inter-1.01-HHTibu/blib/arch:/home/perl51310/.cpan/build/Test-Inter-1.01-HHTibu/blib/lib:/home/perl51310/.cpan/build/File-Tail-0.99.3-B7bhJw/blib/arch:/home/perl51310/.cpan/build/File-Tail-0.99.3-B7bhJw/blib/lib:/home/perl51310/.cpan/build/XML-Writer-0.612-g9oxO6/blib/arch:/home/perl51310/.cpan/build/XML-Writer-0.612-g9oxO6/blib/lib:/home/perl51310/.cpan/build/Class-Std-Utils-v0.0.3-EZLhX6/blib/arch:/home/perl51310/.cpan/build/Class-Std-Utils-v0.0.3-EZLhX6/blib/lib:/home/perl51310/.cpan/build/Config-IniFiles-2.66-XVEgQf/blib/arch:/home/perl51310/.cpan/build/Config-IniFiles-2.66-XVEgQf/blib/lib"
    PERL5OPT=""
    PERL5_CPANPLUS_IS_RUNNING="20332"
    PERL5_CPAN_IS_RUNNING="20332"
    PERL5_CPAN_IS_RUNNING_IN_RECURSION="2405,20332"
    PERL_CR_SMOKER_CURRENT="Log-Statistics-0.051"
    PERL_EXTUTILS_AUTOINSTALL="--defaultdeps"
    PERL_MM_USE_DEFAULT="1"
  @INC:
    /home/perl51310/.cpan/build/Log-Log4perl-1.32-Ip1TE3/blib/arch
    /home/perl51310/.cpan/build/Log-Log4perl-1.32-Ip1TE3/blib/lib
    /home/perl51310/.cpan/build/Date-Manip-6.23-ojhY_V/blib/arch
    /home/perl51310/.cpan/build/Date-Manip-6.23-ojhY_V/blib/lib
    /home/perl51310/.cpan/build/Test-Inter-1.01-HHTibu/blib/arch
    /home/perl51310/.cpan/build/Test-Inter-1.01-HHTibu/blib/lib
    /home/perl51310/.cpan/build/File-Tail-0.99.3-B7bhJw/blib/arch
    /home/perl51310/.cpan/build/File-Tail-0.99.3-B7bhJw/blib/lib
    /home/perl51310/.cpan/build/XML-Writer-0.612-g9oxO6/blib/arch
    /home/perl51310/.cpan/build/XML-Writer-0.612-g9oxO6/blib/lib
    /home/perl51310/.cpan/build/Class-Std-Utils-v0.0.3-EZLhX6/blib/arch
    /home/perl51310/.cpan/build/Class-Std-Utils-v0.0.3-EZLhX6/blib/lib
    /home/perl51310/.cpan/build/Config-IniFiles-2.66-XVEgQf/blib/arch
    /home/perl51310/.cpan/build/Config-IniFiles-2.66-XVEgQf/blib/lib
    /home/perl51310/perl51310/lib/site_perl/5.13.10/i686-linux-thread-multi-64int-ld
    /home/perl51310/perl51310/lib/site_perl/5.13.10
    /home/perl51310/perl51310/lib/5.13.10/i686-linux-thread-multi-64int-ld
    /home/perl51310/perl51310/lib/5.13.10
    .