POE-Component-Client-SimpleFTP v0.004 Perl 5 v5.42.0 RC2 OpenBSD.amd64-openbsd

Status
Pass
From
Carlos Guevara
Dist
POE-Component-Client-SimpleFTP v0.004
Platform
Perl 5 v5.42.0 RC2 OpenBSD.amd64-openbsd
Date
2025-06-28 05:42:55
ID
bda0f7a4-53e2-11f0-a9fb-e6e851cd3f05
This distribution has been tested as part of the CPAN Testers
project, supporting the Perl programming language.  See
http://wiki.cpantesters.org/ for more information or email
questions to cpan-testers-discuss@perl.org


--
Dear Apocalypse,

This is a computer-generated report for POE-Component-Client-SimpleFTP-0.004
on perl 5.42.0, created by CPAN-Reporter-1.2020.

Thank you for uploading your work to CPAN.  Congratulations!
All tests were successful.

Sections of this report:

    * Tester comments
    * Program output
    * Prerequisites
    * Environment and other context

------------------------------
TESTER COMMENTS
------------------------------

Additional comments from tester:

this report is from an automated smoke testing program
and was not reviewed by a human for accuracy

------------------------------
PROGRAM OUTPUT
------------------------------

Output from './Build test':

t/00-compile.t ......... ok
# 
# Versions for all modules listed in MYMETA.json (including optional ones):
# 
# === Configure Requires ===
# 
#     Module               Want  Have
#     ------------------- ----- -----
#     ExtUtils::MakeMaker   any  7.76
#     Module::Build::Tiny 0.039 0.052
# 
# === Test Requires ===
# 
#     Module              Want     Have
#     ------------------- ---- --------
#     ExtUtils::MakeMaker  any     7.76
#     File::Spec           any     3.94
#     File::Temp           any   0.2311
#     IO::Handle           any     1.55
#     IPC::Open3           any     1.24
#     Test::Deep           any    1.205
#     Test::More           any 1.302214
# 
# === Test Recommends ===
# 
#     Module         Want     Have
#     ---------- -------- --------
#     CPAN::Meta 2.120900 2.150010
# 
# === Runtime Requires ===
# 
#     Module                       Want   Have
#     ---------------------------- ---- ------
#     DateTime::Format::Strptime    any   1.79
#     Exporter                      any   5.79
#     Moose::Util::TypeConstraints  any 2.2207
#     MooseX::POE::SweetArgs        any  0.215
#     POE                           any  1.370
#     POE::Driver::SysRW            any  1.370
#     POE::Filter::Line             any  1.370
#     POE::Filter::Stream           any  1.370
#     POE::Wheel::ReadWrite         any  1.370
#     POE::Wheel::SocketFactory     any  1.370
#     Socket                        any  2.038
#     parent                        any  0.244
#     strict                        any   1.14
#     warnings                      any   1.74
# 
t/00-report-prereqs.t .. ok
t/apocalypse.t ......... skipped: Test::Apocalypse required for validating the distribution
t/utils.t .............. ok
All tests successful.
Files=4, Tests=56,  1 wallclock secs ( 0.03 usr  0.03 sys +  0.83 cusr  0.16 csys =  1.05 CPU)
Result: PASS

------------------------------
PREREQUISITES
------------------------------

Prerequisite modules loaded:

requires:

    Module                       Need     Have    
    ---------------------------- -------- --------
    DateTime::Format::Strptime   0        1.79    
    Exporter                     0        5.79    
    Moose::Util::TypeConstraints 0        2.2207  
    MooseX::POE::SweetArgs       0        0.215   
    parent                       0        0.244   
    perl                         5.006    5.042000
    POE                          0        1.370   
    POE::Driver::SysRW           0        1.370   
    POE::Filter::Line            0        1.370   
    POE::Filter::Stream          0        1.370   
    POE::Wheel::ReadWrite        0        1.370   
    POE::Wheel::SocketFactory    0        1.370   
    Socket                       0        2.038   
    strict                       0        1.14    
    warnings                     0        1.74    

build_requires:

    Module                       Need     Have    
    ---------------------------- -------- --------
    ExtUtils::MakeMaker          0        7.76    
    File::Spec                   0        3.94    
    File::Temp                   0        0.2311  
    IO::Handle                   0        1.55    
    IPC::Open3                   0        1.24    
    perl                         5.006    5.042000
    Test::Deep                   0        1.205   
    Test::More                   0        1.302214

configure_requires:

    Module                       Need     Have    
    ---------------------------- -------- --------
    ExtUtils::MakeMaker          0        7.76    
    Module::Build::Tiny          0.039    0.052   
    perl                         5.006    5.042000

opt_build_requires:

    Module                       Need     Have    
    ---------------------------- -------- --------
    CPAN::Meta                   2.120900 2.150010


------------------------------
ENVIRONMENT AND OTHER CONTEXT
------------------------------

Environment variables:

    AUTOMATED_TESTING = 1
    DATE_MANIP_TEST_DM5 = 1
    LC_ALL = C
    NONINTERACTIVE_TESTING = 1
    NO_NETWORK_TESTING = 1
    PATH = /home/cpan/bin/perl/bin:/home/cpan/bin:/home/cpan/bin:/bin:/sbin:/usr/bin:/usr/sbin:/usr/X11R6/bin:/usr/local/bin:/usr/local/sbin
    PERL5LIB = 
    PERL5OPT = 
    PERL5_CPANPLUS_IS_RUNNING = 5716
    PERL5_CPAN_IS_RUNNING = 5716
    PERL_MM_USE_DEFAULT = 1
    PERL_USE_UNSAFE_INC = 1
    SHELL = /usr/local/bin/bash
    TERM = screen
    TMPDIR = /home/cpan/tmp

Perl special variables (and OS-specific diagnostics, for MSWin32):

    $^X = /home/cpan/bin/perl/bin/perl5.42.0
    $UID/$EUID = 1001 / 1001
    $GID = 1001 1001
    $EGID = 1001 1001

Perl module toolchain versions installed:

    Module              Have    
    ------------------- --------
    CPAN                2.38    
    CPAN::Meta          2.150010
    Cwd                 3.94    
    ExtUtils::CBuilder  0.280242
    ExtUtils::Command   7.76    
    ExtUtils::Install   2.22    
    ExtUtils::MakeMaker 7.76    
    ExtUtils::Manifest  1.75    
    ExtUtils::ParseXS   3.57    
    File::Spec          3.94    
    JSON                4.10    
    JSON::PP            4.16    
    Module::Build       0.4234  
    Module::Signature   0.92    
    Parse::CPAN::Meta   2.150010
    Test2               1.302214
    Test::Harness       3.52    
    Test::More          1.302214
    YAML                1.31    
    YAML::Syck          1.34    
    version             0.9933  


--

Summary of my perl5 (revision 5 version 42 subversion 0) configuration:
  Commit id: 3e583379b728a24083f038dcd7c98f77b1aae4b2
  Platform:
    osname=openbsd
    osvers=7.7
    archname=OpenBSD.amd64-openbsd
    uname='openbsd cjg-openbsd7 7.7 generic#1 amd64 '
    config_args='-des -Dprefix=/home/cpan/bin/perl -Dscriptdir=/home/cpan/bin/perl/bin -Dusedevel -Duse64bitall'
    hint=recommended
    useposix=true
    d_sigaction=define
    useithreads=undef
    usemultiplicity=undef
    use64bitint=define
    use64bitall=define
    uselongdouble=undef
    usemymalloc=n
    default_inc_excludes_dot=define
  Compiler:
    cc='cc'
    ccflags ='-DNO_LOCALE_NUMERIC -DNO_LOCALE_COLLATE -DNO_LOCALE_MONETARY -DNO_LOCALE_TIME -DNO_LOCALE_MESSAGES -DLIBC_HANDLES_MISMATCHED_CTYPE -fno-strict-aliasing -pipe -fstack-protector-strong -I/usr/local/include'
    optimize='-O2'
    cppflags='-DNO_LOCALE_NUMERIC -DNO_LOCALE_COLLATE -DNO_LOCALE_MONETARY -DNO_LOCALE_TIME -DNO_LOCALE_MESSAGES -DLIBC_HANDLES_MISMATCHED_CTYPE -fno-strict-aliasing -pipe -fstack-protector-strong -I/usr/local/include'
    ccversion=''
    gccversion='OpenBSD Clang 16.0.6'
    gccosandvers=''
    intsize=4
    longsize=8
    ptrsize=8
    doublesize=8
    byteorder=12345678
    doublekind=3
    d_longlong=define
    longlongsize=8
    d_longdbl=define
    longdblsize=16
    longdblkind=3
    ivtype='long'
    ivsize=8
    nvtype='double'
    nvsize=8
    Off_t='off_t'
    lseeksize=8
    alignbytes=8
    prototype=define
  Linker and Libraries:
    ld='cc'
    ldflags ='-Wl,-E  -fstack-protector-strong -L/usr/local/lib'
    libpth=/usr/lib/clang/16/lib /usr/lib /usr/local/lib
    libs=-lpthread -lm -lutil -lc
    perllibs=-lpthread -lm -lutil -lc
    libc=/usr/lib/libc.so.100.3
    so=so
    useshrplib=false
    libperl=libperl.a
    gnulibc_version=''
  Dynamic Linking:
    dlsrc=dl_dlopen.xs
    dlext=so
    d_dlsymun=undef
    ccdlflags=' '
    cccdlflags='-DPIC -fPIC '
    lddlflags='-shared -fPIC  -L/usr/local/lib -fstack-protector-strong'


Characteristics of this binary (from libperl): 
  Compile-time options:
    HAS_LONG_DOUBLE
    HAS_STRTOLD
    HAS_TIMES
    PERLIO_LAYERS
    PERL_COPY_ON_WRITE
    PERL_DONT_CREATE_GVSV
    PERL_HASH_FUNC_SIPHASH13
    PERL_HASH_USE_SBOX32
    PERL_MALLOC_WRAP
    PERL_OP_PARENT
    PERL_PRESERVE_IVUV
    PERL_USE_DEVEL
    PERL_USE_SAFE_PUTENV
    USE_64_BIT_ALL
    USE_64_BIT_INT
    USE_LARGE_FILES
    USE_LOCALE
    USE_LOCALE_CTYPE
    USE_PERLIO
    USE_PERL_ATOF
  Locally applied patches:
    RC2
  Built under openbsd
  Compiled at Jun 27 2025 12:26:12
  %ENV:
    PERL5LIB=""
    PERL5OPT=""
    PERL5_CPANPLUS_IS_RUNNING="5716"
    PERL5_CPAN_IS_RUNNING="5716"
    PERL_MM_USE_DEFAULT="1"
    PERL_USE_UNSAFE_INC="1"
  @INC:
    /home/cpan/bin/perl/lib/site_perl/5.42.0/OpenBSD.amd64-openbsd
    /home/cpan/bin/perl/lib/site_perl/5.42.0
    /home/cpan/bin/perl/lib/5.42.0/OpenBSD.amd64-openbsd
    /home/cpan/bin/perl/lib/5.42.0
    .