Report for Test-Module-Used-0.2.6

Back
From: metabase:user:30f4dfbe-2aae-11df-837a-5e0a49663a4f
Subject: PASS Test-Module-Used-0.2.6 v5.20.2 Mac OS X
Date: 2015-05-30T12:16:46Z

This distribution has been tested as part of the CPAN Testers
project, supporting the Perl programming language.  See
http://wiki.cpantesters.org/ for more information or email
questions to cpan-testers-discuss@perl.org


--
Dear Takuya Tsuchida,

This is a computer-generated report for Test-Module-Used-0.2.6
on perl 5.20.2, created by CPAN-Reporter-1.2011.

Thank you for uploading your work to CPAN.  Congratulations!
All tests were successful.

Sections of this report:

    * Tester comments
    * Program output
    * Prerequisites
    * Environment and other context

------------------------------
TESTER COMMENTS
------------------------------

Additional comments from tester:

none provided

------------------------------
PROGRAM OUTPUT
------------------------------

Output from './Build test':

t/001_use_ok.t ............ ok
t/002_default.t ........... ok
t/003_option.t ............ ok
t/004_used_ok.t ........... ok
t/005_used_module.t ....... ok
t/009_auto_get_exclude.t .. ok
t/008_test_is_empty.t ..... ok
t/006_read_meta_yml.t ..... ok
t/011_read_meta_json.t .... ok
t/007_test_myself.t ....... ok
t/013_requires_ok.t ....... ok
t/012_used_ok.t ........... ok
t/010_test_myself2.t ...... ok
t/014_requires_ok_fail.t .. ok
t/015_used_ok_fail.t ...... ok
t/016_ok_fail1.t .......... ok
t/017_ok_fail2.t .......... ok
All tests successful.
Files=17, Tests=83,  3 wallclock secs ( 0.08 usr  0.04 sys +  7.34 cusr  0.41 csys =  7.87 CPU)
Result: PASS

------------------------------
PREREQUISITES
------------------------------

Prerequisite modules loaded:

requires:

    Module                Need     Have      
    --------------------- -------- ----------
    CPAN::Meta            0        2.150001  
    List::MoreUtils       0        0.412     
    Module::CoreList      0        5.20150214
    Module::Used          0        v1.3.0    
    perl                  5.008001 5.020002  
    PPI::Document         0        1.220     
    version               0.77     0.9909    

build_requires:

    Module                Need     Have      
    --------------------- -------- ----------
    ExtUtils::MakeMaker   6.59     7.04      
    Test::Builder::Tester 0        1.28      
    Test::More            0.98     1.001014  

configure_requires:

    Module                Need     Have      
    --------------------- -------- ----------
    Module::Build         0.38     0.4211    


------------------------------
ENVIRONMENT AND OTHER CONTEXT
------------------------------

Environment variables:

    HARNESS_OPTIONS = c:j4
    LANG = en_US.UTF-8
    PATH = /Users/njh/perl5/perlbrew/bin:/Users/njh/perl5/perlbrew/perls/perl-5.20.2/bin:/usr/local/bin:/usr/bin:/bin:/usr/sbin:/sbin:/Users/njh/bin
    PERL5LIB = 
    PERL5OPT = 
    PERL5_CPANPLUS_IS_RUNNING = 12722
    PERL5_CPAN_IS_RUNNING = 12722
    PERLBREW_BASHRC_VERSION = 0.71
    PERLBREW_HOME = /Users/njh/.perlbrew
    PERLBREW_MANPATH = /Users/njh/perl5/perlbrew/perls/perl-5.20.2/man
    PERLBREW_PATH = /Users/njh/perl5/perlbrew/bin:/Users/njh/perl5/perlbrew/perls/perl-5.20.2/bin
    PERLBREW_PERL = perl-5.20.2
    PERLBREW_ROOT = /Users/njh/perl5/perlbrew
    PERLBREW_VERSION = 0.71
    SHELL = /bin/bash
    TERM = xterm-256color
    TMPDIR = /var/folders/8v/329gghld15g2ls572lrpg_yw0000gn/T/

Perl special variables (and OS-specific diagnostics, for MSWin32):

    $^X = /Users/njh/perl5/perlbrew/perls/perl-5.20.2/bin/perl5.20.2
    $UID/$EUID = 501 / 501
    $GID = 501 501 12 20 61 401 402 100
    $EGID = 501 501 12 20 61 401 402 100

Perl module toolchain versions installed:

    Module              Have    
    ------------------- --------
    CPAN                2.10    
    CPAN::Meta          2.150001
    Cwd                 3.48_01 
    ExtUtils::CBuilder  0.280217
    ExtUtils::Command   1.18    
    ExtUtils::Install   1.67    
    ExtUtils::MakeMaker 7.04    
    ExtUtils::Manifest  1.65    
    ExtUtils::ParseXS   3.24    
    File::Spec          3.48_01 
    JSON                2.90    
    JSON::PP            2.27203 
    Module::Build       0.4211  
    Module::Signature   n/a     
    Parse::CPAN::Meta   1.4414  
    Test::Harness       3.30    
    Test::More          1.001014
    YAML                1.15    
    YAML::Syck          1.29    
    version             0.9909  


--

Summary of my perl5 (revision 5 version 20 subversion 2) configuration:
   
  Platform:
    osname=darwin, osvers=14.1.0, archname=darwin-thread-multi-2level
    uname='darwin mac.bandsman.co.uk 14.1.0 darwin kernel version 14.1.0: mon dec 22 23:10:38 pst 2014; root:xnu-2782.10.72~2release_x86_64 x86_64 '
    config_args='-de -Dprefix=/Users/njh/perl5/perlbrew/perls/perl-5.20.2 -Duseithreads -Dusemultiplicity -Dusedevel -Accflags=-O2 -W -Wformat=2 -Wswitch -Wshadow -Wwrite-strings -Wuninitialized -Wall -pipe -mtune=native -march=native -Aeval:scriptdir=/Users/njh/perl5/perlbrew/perls/perl-5.20.2/bin'
    hint=recommended, useposix=true, d_sigaction=define
    useithreads=define, usemultiplicity=define
    use64bitint=define, use64bitall=define, uselongdouble=undef
    usemymalloc=n, bincompat5005=undef
  Compiler:
    cc='cc', ccflags ='-fno-common -DPERL_DARWIN -O2 -W -Wformat=2 -Wswitch -Wshadow -Wwrite-strings -Wuninitialized -Wall -pipe -mtune=native -march=native -fno-strict-aliasing -fstack-protector',
    optimize='-O3',
    cppflags='-fno-common -DPERL_DARWIN -O2 -W -Wformat=2 -Wswitch -Wshadow -Wwrite-strings -Wuninitialized -Wall -pipe -mtune=native -march=native -fno-strict-aliasing -fstack-protector'
    ccversion='', gccversion='4.2.1 Compatible Apple LLVM 6.0 (clang-600.0.56)', gccosandvers=''
    intsize=4, longsize=8, ptrsize=8, doublesize=8, byteorder=12345678
    d_longlong=define, longlongsize=8, d_longdbl=define, longdblsize=16
    ivtype='long', ivsize=8, nvtype='double', nvsize=8, Off_t='off_t', lseeksize=8
    alignbytes=8, prototype=define
  Linker and Libraries:
    ld='env MACOSX_DEPLOYMENT_TARGET=10.3 cc', ldflags =' -fstack-protector'
    libpth=/Applications/Xcode.app/Contents/Developer/Toolchains/XcodeDefault.xctoolchain/usr/bin/../lib/clang/6.0/lib /Applications/Xcode.app/Contents/Developer/Toolchains/XcodeDefault.xctoolchain/usr/lib /usr/lib
    libs=-ldbm -ldl -lm -lutil -lc
    perllibs=-ldl -lm -lutil -lc
    libc=, so=dylib, useshrplib=false, libperl=libperl.a
    gnulibc_version=''
  Dynamic Linking:
    dlsrc=dl_dlopen.xs, dlext=bundle, d_dlsymun=undef, ccdlflags=' '
    cccdlflags=' ', lddlflags=' -bundle -undefined dynamic_lookup -fstack-protector'


Characteristics of this binary (from libperl): 
  Compile-time options: HAS_TIMES MULTIPLICITY PERLIO_LAYERS
                        PERL_DONT_CREATE_GVSV
                        PERL_HASH_FUNC_ONE_AT_A_TIME_HARD
                        PERL_IMPLICIT_CONTEXT PERL_MALLOC_WRAP
                        PERL_NEW_COPY_ON_WRITE PERL_PRESERVE_IVUV
                        PERL_USE_DEVEL USE_64_BIT_ALL USE_64_BIT_INT
                        USE_ITHREADS USE_LARGE_FILES USE_LOCALE
                        USE_LOCALE_COLLATE USE_LOCALE_CTYPE
                        USE_LOCALE_NUMERIC USE_PERLIO USE_PERL_ATOF
                        USE_REENTRANT_API
  Built under darwin
  Compiled at Mar 15 2015 21:12:57
  %ENV:
    PERL5LIB=""
    PERL5OPT=""
    PERL5_CPANPLUS_IS_RUNNING="12722"
    PERL5_CPAN_IS_RUNNING="12722"
    PERLBREW_BASHRC_VERSION="0.71"
    PERLBREW_HOME="/Users/njh/.perlbrew"
    PERLBREW_MANPATH="/Users/njh/perl5/perlbrew/perls/perl-5.20.2/man"
    PERLBREW_PATH="/Users/njh/perl5/perlbrew/bin:/Users/njh/perl5/perlbrew/perls/perl-5.20.2/bin"
    PERLBREW_PERL="perl-5.20.2"
    PERLBREW_ROOT="/Users/njh/perl5/perlbrew"
    PERLBREW_VERSION="0.71"
  @INC:
    /Users/njh/perl5/perlbrew/perls/perl-5.20.2/lib/site_perl/5.20.2/darwin-thread-multi-2level
    /Users/njh/perl5/perlbrew/perls/perl-5.20.2/lib/site_perl/5.20.2
    /Users/njh/perl5/perlbrew/perls/perl-5.20.2/lib/5.20.2/darwin-thread-multi-2level
    /Users/njh/perl5/perlbrew/perls/perl-5.20.2/lib/5.20.2
    .