Back
From: metabase:user:aa011456-2c23-11e4-9f02-33022c9783ef
Subject: PASS Dist-Zilla-Plugin-Test-EOL-0.19 v5.24.0 GNU/Linux
Date: 2016-07-19T03:56:15Z
This distribution has been tested as part of the CPAN Testers
project, supporting the Perl programming language. See
http://wiki.cpantesters.org/ for more information or email
questions to cpan-testers-discuss@perl.org
--
Dear ETHER,
This is a computer-generated report for Dist-Zilla-Plugin-Test-EOL-0.19
on perl 5.24.0, created by App::cpanminus::reporter 0.17 (1.7042).
Thank you for uploading your work to CPAN. Congratulations!
All tests were successful.
Sections of this report:
* Tester comments
* Program output
* Prerequisites
* Environment and other context
------------------------------
TESTER COMMENTS
------------------------------
Additional comments from tester:
none provided
------------------------------
PROGRAM OUTPUT
------------------------------
Output from '':
Building and testing Dist-Zilla-Plugin-Test-EOL-0.19
cp lib/Dist/Zilla/Plugin/EOLTests.pm blib/lib/Dist/Zilla/Plugin/EOLTests.pm
cp lib/Dist/Zilla/Plugin/Test/EOL.pm blib/lib/Dist/Zilla/Plugin/Test/EOL.pm
#
# Versions for all modules listed in MYMETA.json (including optional ones):
#
# === Configure Requires ===
#
# Module Want Have
# ------------------- ----- -----
# Module::Build::Tiny 0.034 0.039
#
# === Test Requires ===
#
# Module Want Have
# ---------------- ----- --------
# File::Spec any 3.63
# File::pushd any 1.009
# FindBin any 1.51
# Module::Metadata any 1.000031
# Test::DZil any 6.006
# Test::Deep any 1.120
# Test::EOL any 1.6
# Test::More 0.88 1.001014
# Test::Warnings 0.009 0.026
# if any 0.0606
#
# === Test Recommends ===
#
# Module Want Have
# ---------- -------- --------
# CPAN::Meta 2.120900 2.150005
#
# === Runtime Requires ===
#
# Module Want Have
# --------------------------------- ----- --------
# Data::Section 0.004 0.200006
# Dist::Zilla::File::InMemory any 6.006
# Dist::Zilla::Role::FileFinderUser any 6.006
# Dist::Zilla::Role::FileGatherer any 6.006
# Dist::Zilla::Role::FileMunger any 6.006
# Dist::Zilla::Role::PrereqSource any 6.006
# Dist::Zilla::Role::TextTemplate any 6.006
# Moose any 2.1804
# Moose::Util::TypeConstraints any 2.1804
# Path::Tiny any 0.096
# Sub::Exporter::ForMethods any 0.100052
# namespace::autoclean any 0.28
# strict any 1.11
# warnings any 1.36
#
# === Other Modules ===
#
# Module Have
# --------------------- --------
# CPAN::Meta::Validator 2.150005
# Pod::Coverage 0.23
#
t/00-report-prereqs.t .. ok
t/01-basic.t ........... ok
t/02-eoltests.t ........ ok
t/03-finder.t .......... ok
t/04-filename.t ........ ok
t/eol.t ................ ok
t/prereqs.t ............ ok
t/zzz-check-breaks.t ... ok
All tests successful.
Files=8, Tests=66, 4 wallclock secs ( 0.06 usr 0.02 sys + 3.56 cusr 0.16 csys = 3.80 CPU)
Result: PASS
------------------------------
PREREQUISITES
------------------------------
Prerequisite modules loaded:
No requirements found
------------------------------
ENVIRONMENT AND OTHER CONTEXT
------------------------------
Environment variables:
LANG = en_US.UTF-8
LC_ALL = en_US.UTF-8
PATH = /opt/plenv/versions/5.24.0/bin:/opt/plenv/libexec:/opt/plenv/plugins/perl-build/bin:/opt/plenv/shims:/opt/plenv/bin:/opt/git/bin:/opt/plenv/shims:/opt/plenv/bin:/home/genehack/bin:/opt/node/bin:/opt/vim/bin:/opt/tmux/bin:/opt/ruby/bin:/opt/rust/bin:/opt/emacs/bin:/opt/local/bin:/opt/git/bin:/usr/local/bin:/usr/bin:/bin:/usr/local/games:/usr/games
PERL_CPANM_OPT = --skip-installed --prompt
SHELL = /bin/zsh
TERM = screen-256color
Perl special variables (and OS-specific diagnostics, for MSWin32):
EGID = 1001 24 25 27 29 30 44 46 102 1001
EUID = 1001
EXECUTABLE_NAME = /opt/plenv/versions/5.24.0/bin/perl5.24.0
GID = 1001 24 25 27 29 30 44 46 102 1001
UID = 1001
Perl module toolchain versions installed:
Module Have
------------------- --------
CPAN 2.11
CPAN::Meta 2.150005
Cwd 3.63
ExtUtils::CBuilder 0.280225
ExtUtils::Command 7.18
ExtUtils::Install 2.04
ExtUtils::MakeMaker 7.18
ExtUtils::Manifest 1.70
ExtUtils::ParseXS 3.31
File::Spec 3.63
JSON 2.90
JSON::PP 2.27300
Module::Build 0.4218
Module::Signature n/a
Parse::CPAN::Meta 1.4417
Test::Harness 3.36
Test::More 1.001014
YAML 1.18
YAML::Syck n/a
version 0.9916
--
Summary of my perl5 (revision 5 version 24 subversion 0) configuration:
Platform:
osname=linux, osvers=3.16.0-4-amd64, archname=x86_64-linux
uname='linux ferb 3.16.0-4-amd64 #1 smp debian 3.16.7-ckt25-2 (2016-04-08) x86_64 gnulinux '
config_args='-Dprefix=/opt/plenv/versions/5.24.0 -de -Dusedevel -A'eval:scriptdir=/opt/plenv/versions/5.24.0/bin''
hint=recommended, useposix=true, d_sigaction=define
useithreads=undef, usemultiplicity=undef
use64bitint=define, use64bitall=define, uselongdouble=undef
usemymalloc=n, bincompat5005=undef
Compiler:
cc='cc', ccflags ='-fwrapv -fno-strict-aliasing -pipe -fstack-protector-strong -I/usr/local/include -D_LARGEFILE_SOURCE -D_FILE_OFFSET_BITS=64 -D_FORTIFY_SOURCE=2',
optimize='-O2',
cppflags='-fwrapv -fno-strict-aliasing -pipe -fstack-protector-strong -I/usr/local/include'
ccversion='', gccversion='4.9.2', gccosandvers=''
intsize=4, longsize=8, ptrsize=8, doublesize=8, byteorder=12345678, doublekind=3
d_longlong=define, longlongsize=8, d_longdbl=define, longdblsize=16, longdblkind=3
ivtype='long', ivsize=8, nvtype='double', nvsize=8, Off_t='off_t', lseeksize=8
alignbytes=8, prototype=define
Linker and Libraries:
ld='cc', ldflags =' -fstack-protector-strong -L/usr/local/lib'
libpth=/usr/local/lib /usr/lib/gcc/x86_64-linux-gnu/4.9/include-fixed /usr/include/x86_64-linux-gnu /usr/lib /lib/x86_64-linux-gnu /lib/../lib /usr/lib/x86_64-linux-gnu /usr/lib/../lib /lib
libs=-lpthread -lnsl -lgdbm -ldl -lm -lcrypt -lutil -lc -lgdbm_compat
perllibs=-lpthread -lnsl -ldl -lm -lcrypt -lutil -lc
libc=libc-2.19.so, so=so, useshrplib=false, libperl=libperl.a
gnulibc_version='2.19'
Dynamic Linking:
dlsrc=dl_dlopen.xs, dlext=so, d_dlsymun=undef, ccdlflags='-Wl,-E'
cccdlflags='-fPIC', lddlflags='-shared -O2 -L/usr/local/lib -fstack-protector-strong'
Characteristics of this binary (from libperl):
Compile-time options: HAS_TIMES PERLIO_LAYERS PERL_COPY_ON_WRITE
PERL_DONT_CREATE_GVSV
PERL_HASH_FUNC_ONE_AT_A_TIME_HARD PERL_MALLOC_WRAP
PERL_PRESERVE_IVUV PERL_USE_DEVEL USE_64_BIT_ALL
USE_64_BIT_INT USE_LARGE_FILES USE_LOCALE
USE_LOCALE_COLLATE USE_LOCALE_CTYPE
USE_LOCALE_NUMERIC USE_LOCALE_TIME USE_PERLIO
USE_PERL_ATOF
Locally applied patches:
Devel::PatchPerl 1.40
Built under linux
Compiled at May 9 2016 09:22:04
%ENV:
PERL_CPANM_OPT="--skip-installed --prompt"
@INC:
/opt/plenv/versions/5.24.0/lib/perl5/site_perl/5.24.0/x86_64-linux
/opt/plenv/versions/5.24.0/lib/perl5/site_perl/5.24.0
/opt/plenv/versions/5.24.0/lib/perl5/5.24.0/x86_64-linux
/opt/plenv/versions/5.24.0/lib/perl5/5.24.0
.