SQL-Type-Guess v0.06 Perl 5 v5.43.5 x86_64-dragonfly-thread-multi
- Status
- Pass
- From
- Carlos Guevara
- Dist
-
SQL-Type-Guess v0.06
- Platform
- Perl 5 v5.43.5 x86_64-dragonfly-thread-multi
- Date
- 2025-10-25 09:26:52
- ID
- bde4943c-b184-11f0-b18f-a7f2f604bb9e
This distribution has been tested as part of the CPAN Testers
project, supporting the Perl programming language. See
http://wiki.cpantesters.org/ for more information or email
questions to cpan-testers-discuss@perl.org
--
Dear Max Maischein,
This is a computer-generated report for SQL-Type-Guess-0.06
on perl 5.43.5, created by CPAN-Reporter-1.2020.
Thank you for uploading your work to CPAN. Congratulations!
All tests were successful.
Sections of this report:
* Tester comments
* Program output
* Prerequisites
* Environment and other context
------------------------------
TESTER COMMENTS
------------------------------
Additional comments from tester:
this report is from an automated smoke testing program
and was not reviewed by a human for accuracy
------------------------------
PROGRAM OUTPUT
------------------------------
Output from '/usr/bin/make test':
PERL_DL_NONLAZY=1 "/home/cpan/bin/perl/bin/perl5.43.5" "-MExtUtils::Command::MM" "-MTest::Harness" "-e" "undef *Test::Harness::Switches; test_harness(0, 'blib/lib', 'blib/arch')" t/00-load.t t/01_synopsis.t t/02_data_types.t t/03_RT128024_warnings.t
# Testing SQL::Type::Guess 0.06, Perl 5.043005
# AutoLoader 5.74
# Carp 1.54
# Config 5.043005
# Cwd 3.94
# Encode 3.21
# Encode::Alias 2.25
# Encode::Config 2.05
# Encode::ConfigLocal 1761381038
# Encode::Encoding 2.08
# Encode::MIME::Name 1.03
# Exporter 5.79
# Exporter::Heavy 5.79
# ExtUtils::Liblist 7.76
# ExtUtils::Liblist::Kid 7.76
# ExtUtils::MM 7.76
# ExtUtils::MM_Any 7.76
# ExtUtils::MM_Unix 7.76
# ExtUtils::MY 7.76
# ExtUtils::MakeMaker 7.76
# ExtUtils::MakeMaker::Config 7.76
# ExtUtils::MakeMaker::Locale 7.76
# ExtUtils::MakeMaker::version 7.76
# Fcntl 1.20
# File::Basename 2.86
# File::Glob 1.42
# File::Path 2.18
# File::Spec 3.94
# File::Spec::Unix 3.94
# I18N::Langinfo 0.24
# List::Util 1.70
# Log::Agent 1.005
# Log::Agent::Formatting <unknown>
# Log::Agent::Message <unknown>
# Log::Agent::Priorities <unknown>
# SQL::Type::Guess 0.06
# Scalar::Util 1.70
# Storable 3.39
# Test::Builder 1.302214
# Test::Builder::Formatter 1.302214
# Test::Builder::Module 1.302214
# Test::Builder::TodoDiag 1.302214
# Test::More 1.302214
# Test2::API 1.302214
# Test2::API::Context 1.302214
# Test2::API::Instance 1.302214
# Test2::API::Stack 1.302214
# Test2::Event 1.302214
# Test2::Event::Bail 1.302214
# Test2::Event::Diag 1.302214
# Test2::Event::Exception 1.302214
# Test2::Event::Fail 1.302214
# Test2::Event::Note 1.302214
# Test2::Event::Ok 1.302214
# Test2::Event::Pass 1.302214
# Test2::Event::Plan 1.302214
# Test2::Event::Skip 1.302214
# Test2::Event::Subtest 1.302214
# Test2::Event::V2 1.302214
# Test2::Event::Waiting 1.302214
# Test2::EventFacet 1.302214
# Test2::EventFacet::About 1.302214
# Test2::EventFacet::Amnesty 1.302214
# Test2::EventFacet::Assert 1.302214
# Test2::EventFacet::Control 1.302214
# Test2::EventFacet::Error 1.302214
# Test2::EventFacet::Hub 1.302214
# Test2::EventFacet::Info 1.302214
# Test2::EventFacet::Meta 1.302214
# Test2::EventFacet::Parent 1.302214
# Test2::EventFacet::Plan 1.302214
# Test2::EventFacet::Trace 1.302214
# Test2::Formatter 1.302214
# Test2::Formatter::TAP 1.302214
# Test2::Hub 1.302214
# Test2::Hub::Interceptor 1.302214
# Test2::Hub::Interceptor::Terminator 1.302214
# Test2::Hub::Subtest 1.302214
# Test2::Util 1.302214
# Test2::Util::ExternalMeta 1.302214
# Test2::Util::Facets2Legacy 1.302214
# Test2::Util::HashBase 1.302214
# Test2::Util::Trace 1.302214
# Time::HiRes 1.9779
# XSLoader 0.32
# base 2.27
# bytes 1.09
# constant 1.33
# mro 1.30
# overload 1.40
# overloading 0.03
# parent 0.244
# strict 1.14
# vars 1.05
# version 0.9933
# version::regex 0.9933
# warnings 1.74
# warnings::register 1.06
t/00-load.t ............... ok
t/01_synopsis.t ........... ok
t/02_data_types.t ......... ok
t/03_RT128024_warnings.t .. ok
All tests successful.
Files=4, Tests=15, 0 wallclock secs ( 0.00 usr 0.02 sys + 0.23 cusr 0.03 csys = 0.27 CPU)
Result: PASS
------------------------------
PREREQUISITES
------------------------------
Prerequisite modules loaded:
requires:
Module Need Have
------------------- ----- --------
File::Glob 0 1.42
perl 5.014 5.043005
Pod::Usage 0 2.05
Spreadsheet::Read 0 0.93
strict 0 1.14
Text::CleanFragment 0 0.08
warnings 0 1.74
build_requires:
Module Need Have
------------------- ----- --------
Data::Dumper 0 2.192
ExtUtils::MakeMaker 0 7.76
Test::More 0 1.302214
configure_requires:
Module Need Have
------------------- ----- --------
ExtUtils::MakeMaker 0 7.76
------------------------------
ENVIRONMENT AND OTHER CONTEXT
------------------------------
Environment variables:
AUTOMATED_TESTING = 1
CJG_PERL_COMMIT = fcfa75dba0
DATE_MANIP_TEST_DM5 = 1
LC_ALL = C
NONINTERACTIVE_TESTING = 1
NO_NETWORK_TESTING = 1
PATH = /home/cpan/bin/perl/bin:/home/cpan/bin:/sbin:/bin:/usr/sbin:/usr/bin:/usr/games:/usr/local/sbin:/usr/local/bin:/usr/pkg/sbin:/usr/pkg/bin:/home/cpan/bin
PERL5LIB = /home/cpan/.cpan/build/Devel-Required-0.17-0/blib/arch:/home/cpan/.cpan/build/Devel-Required-0.17-0/blib/lib
PERL5OPT =
PERL5_CPANPLUS_IS_RUNNING = 640331
PERL5_CPAN_IS_RUNNING = 640331
PERL_MM_USE_DEFAULT = 1
PERL_PERTURB_KEYS = 0
PERL_USE_UNSAFE_INC = 1
SHELL = /usr/local/bin/bash
TERM = screen
TMPDIR = /home/cpan/tmp
Perl special variables (and OS-specific diagnostics, for MSWin32):
$^X = /home/cpan/bin/perl/bin/perl5.43.5
$UID/$EUID = 1002 / 1002
$GID = 1002 1002
$EGID = 1002 1002
Perl module toolchain versions installed:
Module Have
------------------- --------
CPAN 2.38
CPAN::Meta 2.150010
Cwd 3.94
ExtUtils::CBuilder 0.280242
ExtUtils::Command 7.76
ExtUtils::Install 2.22
ExtUtils::MakeMaker 7.76
ExtUtils::Manifest 1.75
ExtUtils::ParseXS 3.60
File::Spec 3.94
JSON 4.10
JSON::PP 4.16
Module::Build 0.4234
Module::Signature n/a
Parse::CPAN::Meta 2.150010
Test2 1.302214
Test::Harness 3.52
Test::More 1.302214
YAML 1.31
YAML::Syck 1.36
version 0.9933
--
Summary of my perl5 (revision 5 version 43 subversion 5) configuration:
Commit id: fcfa75dba08395d45c1794768e0b51f68cde6359
Platform:
osname=dragonfly
osvers=6.4-release
archname=x86_64-dragonfly-thread-multi
uname='dragonfly cjg-dragonfly6 6.4-release dragonfly v6.4.2-release #11: fri may 9 14:08:53 edt 2025 root@www.shiningsilence.com:usrobjhomejustinrelease6_4sysx86_64_generic x86_64 '
config_args='-des -Dprefix=/home/cpan/bin/perl -Dscriptdir=/home/cpan/bin/perl/bin -Dusedevel -Duse64bitall -Duseithreads'
hint=recommended
useposix=true
d_sigaction=define
useithreads=define
usemultiplicity=define
use64bitint=define
use64bitall=define
uselongdouble=undef
usemymalloc=n
default_inc_excludes_dot=define
Compiler:
cc='cc'
ccflags ='-DHAS_FPSETMASK -DHAS_FLOATINGPOINT_H -DNO_POSIX_2008_LOCALE -fwrapv -fno-strict-aliasing -pipe -fstack-protector-strong -I/usr/local/include -D_FORTIFY_SOURCE=2'
optimize='-O2'
cppflags='-DHAS_FPSETMASK -DHAS_FLOATINGPOINT_H -DNO_POSIX_2008_LOCALE -fwrapv -fno-strict-aliasing -pipe -fstack-protector-strong -I/usr/local/include'
ccversion=''
gccversion='8.3 [DragonFly] Release/2019-02-22'
gccosandvers=''
intsize=4
longsize=8
ptrsize=8
doublesize=8
byteorder=12345678
doublekind=3
d_longlong=define
longlongsize=8
d_longdbl=define
longdblsize=16
longdblkind=3
ivtype='long'
ivsize=8
nvtype='double'
nvsize=8
Off_t='off_t'
lseeksize=8
alignbytes=8
prototype=define
Linker and Libraries:
ld='cc'
ldflags ='-pthread -Wl,-E -fstack-protector-strong -L/usr/local/lib'
libpth=/usr/lib /usr/local/lib
libs=-lpthread -lgdbm -ldl -lm -lcrypt -lutil -lc
perllibs=-lpthread -ldl -lm -lcrypt -lutil -lc
libc=
so=so
useshrplib=false
libperl=libperl.a
gnulibc_version=''
Dynamic Linking:
dlsrc=dl_dlopen.xs
dlext=so
d_dlsymun=undef
ccdlflags=' '
cccdlflags='-DPIC -fPIC'
lddlflags='-shared -L/usr/local/lib -fstack-protector-strong'
Characteristics of this binary (from libperl):
Compile-time options:
HAS_LONG_DOUBLE
HAS_STRTOLD
HAS_TIMES
MULTIPLICITY
PERLIO_LAYERS
PERL_COPY_ON_WRITE
PERL_DONT_CREATE_GVSV
PERL_HASH_FUNC_SIPHASH13
PERL_HASH_USE_SBOX32
PERL_MALLOC_WRAP
PERL_OP_PARENT
PERL_PRESERVE_IVUV
PERL_USE_DEVEL
PERL_USE_SAFE_PUTENV
USE_64_BIT_ALL
USE_64_BIT_INT
USE_ITHREADS
USE_LARGE_FILES
USE_LOCALE
USE_LOCALE_COLLATE
USE_LOCALE_CTYPE
USE_LOCALE_NUMERIC
USE_LOCALE_TIME
USE_PERLIO
USE_PERL_ATOF
USE_REENTRANT_API
Built under dragonfly
Compiled at Oct 23 2025 21:46:45
%ENV:
PERL5LIB="/home/cpan/.cpan/build/Devel-Required-0.17-0/blib/arch:/home/cpan/.cpan/build/Devel-Required-0.17-0/blib/lib"
PERL5OPT=""
PERL5_CPANPLUS_IS_RUNNING="640331"
PERL5_CPAN_IS_RUNNING="640331"
PERL_MM_USE_DEFAULT="1"
PERL_PERTURB_KEYS="0"
PERL_USE_UNSAFE_INC="1"
@INC:
/home/cpan/.cpan/build/Devel-Required-0.17-0/blib/arch
/home/cpan/.cpan/build/Devel-Required-0.17-0/blib/lib
/home/cpan/bin/perl/lib/site_perl/5.43.5/x86_64-dragonfly-thread-multi
/home/cpan/bin/perl/lib/site_perl/5.43.5
/home/cpan/bin/perl/lib/5.43.5/x86_64-dragonfly-thread-multi
/home/cpan/bin/perl/lib/5.43.5
.