MooseX-Types-Structured v0.36 Perl 5 v5.26.1 x86_64-linux-thread-multi
- Status
- Pass
- From
- David Cantrell (DCANTRELL)
- Dist
-
MooseX-Types-Structured v0.36
- Platform
- Perl 5 v5.26.1 x86_64-linux-thread-multi
- Date
- 2019-07-18 10:56:49
- ID
- bdfcb4fc-a94a-11e9-80a2-2350052d0de1
This distribution has been tested as part of the CPAN Testers
project, supporting the Perl programming language. See
http://wiki.cpantesters.org/ for more information or email
questions to cpan-testers-discuss@perl.org
--
Dear Karen Etheridge,
This is a computer-generated report for MooseX-Types-Structured-0.36
on perl 5.26.1, created by CPAN-Reporter-1.2018.
Thank you for uploading your work to CPAN. Congratulations!
All tests were successful.
Sections of this report:
* Tester comments
* Program output
* Prerequisites
* Environment and other context
------------------------------
TESTER COMMENTS
------------------------------
Additional comments from tester:
this report is from an automated smoke testing program
and was not reviewed by a human for accuracy
------------------------------
PROGRAM OUTPUT
------------------------------
Output from './Build test':
t/00-load.t .................... ok
#
# Versions for all modules listed in MYMETA.json (including optional ones):
#
# === Configure Requires ===
#
# Module Want Have
# ------------------- ----- -----
# Module::Build::Tiny 0.034 0.039
#
# === Configure Suggests ===
#
# Module Want Have
# -------- ------- ----------
# JSON::PP 2.27300 2.27400_02
#
# === Test Requires ===
#
# Module Want Have
# -------------------- ---- --------
# Data::Dumper any 2.167
# DateTime any 1.51
# File::Spec any 3.67
# Module::Metadata any 1.000033
# MooseX::Types::Moose any 0.50
# Test::Fatal any 0.014
# Test::More 0.88 1.302164
# Test::Needs any 0.002006
# strict any 1.11
# warnings any 1.37
#
# === Test Recommends ===
#
# Module Want Have
# ---------- -------- --------
# CPAN::Meta 2.120900 2.150010
#
# === Test Suggests ===
#
# Module Want Have
# ----------------------- ---- -------
# MooseX::Types::DateTime any missing
#
# === Runtime Requires ===
#
# Module Want Have
# -------------------------------------------- ----- -------
# Devel::PartialDump 0.13 0.20
# Moose any 2.2011
# Moose::Meta::TypeCoercion any 2.2011
# Moose::Meta::TypeConstraint any 2.2011
# Moose::Meta::TypeConstraint::Parameterizable any 2.2011
# Moose::Util::TypeConstraints 1.06 2.2011
# MooseX::Types 0.22 0.50
# Scalar::Util any 1.46_02
# Sub::Exporter 0.982 0.987
# if any 0.0606
# namespace::clean 0.19 0.27
# overload any 1.28
#
# === Other Modules ===
#
# Module Have
# -------------------- ----------
# Dist::CheckConflicts 0.11
# JSON::PP 2.27400_02
# Sub::Name 0.21
# YAML missing
# autodie 2.29
#
t/00-report-prereqs.t .......... ok
t/01-basic.t ................... ok
t/02-tuple.t ................... ok
t/03-dict.t .................... ok
t/04-combined.t ................ ok
t/04-map.t ..................... ok
t/05-advanced.t ................ ok
t/06-api.t ..................... ok
t/07-coerce.t .................. ok
t/08-examples.t ................ skipped: Need MooseX::Types::DateTime
t/09-optional.t ................ ok
t/10-recursion.t ............... ok
t/11-overflow.t ................ ok
t/12-error.t ................... ok
t/13-deeper_error.t ............ ok
t/14-fully-qualified.t ......... ok
t/bug-incorrect-message.t ...... ok
t/bug-is-subtype.t ............. ok
t/bug-mixed-stringy.t .......... ok
t/bug-optional.t ............... ok
t/regressions/01-is_type_of.t .. ok
t/zzz-check-breaks.t ........... ok
All tests successful.
Files=23, Tests=352, 77 wallclock secs ( 0.11 usr 0.02 sys + 8.20 cusr 0.61 csys = 8.94 CPU)
Result: PASS
------------------------------
PREREQUISITES
------------------------------
Prerequisite modules loaded:
requires:
Module Need Have
-------------------------------------------- ----- --------
Devel::PartialDump 0.13 0.20
if 0 0.0606
Moose 0 2.2011
Moose::Meta::TypeCoercion 0 2.2011
Moose::Meta::TypeConstraint 0 2.2011
Moose::Meta::TypeConstraint::Parameterizable 0 2.2011
Moose::Util::TypeConstraints 1.06 2.2011
MooseX::Types 0.22 0.50
namespace::clean 0.19 0.27
overload 0 1.28
perl 5.008 5.026001
Scalar::Util 0 1.46_02
Sub::Exporter 0.982 0.987
build_requires:
Module Need Have
-------------------------------------------- ----- --------
Data::Dumper 0 2.167
DateTime 0 1.51
File::Spec 0 3.67
Module::Metadata 0 1.000033
MooseX::Types::Moose 0 0.50
perl 5.008 5.026001
strict 0 1.11
Test::Fatal 0 0.014
Test::More 0.88 1.302164
Test::Needs 0 0.002006
warnings 0 1.37
configure_requires:
Module Need Have
-------------------------------------------- ----- --------
Module::Build::Tiny 0.034 0.039
perl 5.008 5.026001
------------------------------
ENVIRONMENT AND OTHER CONTEXT
------------------------------
Environment variables:
AUTOMATED_TESTING = 1
LANG = en_US.UTF-8
NONINTERACTIVE_TESTING = 1
PATH = /usr/local/bin:/usr/bin:/bin:/usr/local/games:/usr/games
PERL = 5.26.1
PERL5LIB =
PERL5OPT =
PERL5_CPANPLUS_IS_RUNNING = 19560
PERL5_CPAN_IS_RUNNING = 19560
PERLVER = 5.26.1
PERL_INLINE_DIRECTORY = /home/david/.Inline-5.26.1
PERL_MM_USE_DEFAULT = 1
PERL_USE_UNSAFE_INC = 0
SHELL = /bin/bash
TERM = screen
Perl special variables (and OS-specific diagnostics, for MSWin32):
$^X = /home/david/cpantesting/perl-5.26.1/bin/perl
$UID/$EUID = 1000 / 1000
$GID = 1000 27 1000
$EGID = 1000 27 1000
Perl module toolchain versions installed:
Module Have
------------------- ----------
CPAN 2.18
CPAN::Meta 2.150010
Cwd 3.67
ExtUtils::CBuilder 0.280225
ExtUtils::Command 7.24
ExtUtils::Install 2.04
ExtUtils::MakeMaker 7.24
ExtUtils::Manifest 1.70
ExtUtils::ParseXS 3.34
File::Spec 3.67
JSON n/a
JSON::PP 2.27400_02
Module::Build 0.4229
Module::Signature n/a
Parse::CPAN::Meta 2.150010
Test::Harness 3.38
Test::More 1.302164
YAML n/a
YAML::Syck n/a
version 0.9917
--
Summary of my perl5 (revision 5 version 26 subversion 1) configuration:
Platform:
osname=linux
osvers=4.9.0-8-amd64
archname=x86_64-linux-thread-multi
uname='linux pigsty 4.9.0-8-amd64 #1 smp debian 4.9.144-3 (2019-02-02) x86_64 gnulinux '
config_args='-de -Duse64bitall -Dusethreads -Dprefix=/home/david/cpantesting/perl-5.26.1'
hint=recommended
useposix=true
d_sigaction=define
useithreads=define
usemultiplicity=define
use64bitint=define
use64bitall=define
uselongdouble=undef
usemymalloc=n
default_inc_excludes_dot=define
bincompat5005=undef
Compiler:
cc='cc'
ccflags ='-D_REENTRANT -D_GNU_SOURCE -fwrapv -fno-strict-aliasing -pipe -fstack-protector-strong -I/usr/local/include -D_LARGEFILE_SOURCE -D_FILE_OFFSET_BITS=64 -D_FORTIFY_SOURCE=2'
optimize='-O2'
cppflags='-D_REENTRANT -D_GNU_SOURCE -fwrapv -fno-strict-aliasing -pipe -fstack-protector-strong -I/usr/local/include'
ccversion=''
gccversion='6.3.0 20170516'
gccosandvers=''
intsize=4
longsize=8
ptrsize=8
doublesize=8
byteorder=12345678
doublekind=3
d_longlong=define
longlongsize=8
d_longdbl=define
longdblsize=16
longdblkind=3
ivtype='long'
ivsize=8
nvtype='double'
nvsize=8
Off_t='off_t'
lseeksize=8
alignbytes=8
prototype=define
Linker and Libraries:
ld='cc'
ldflags =' -fstack-protector-strong -L/usr/local/lib'
libpth=/usr/local/lib /usr/lib/gcc/x86_64-linux-gnu/6/include-fixed /usr/include/x86_64-linux-gnu /usr/lib /lib/x86_64-linux-gnu /lib/../lib /usr/lib/x86_64-linux-gnu /usr/lib/../lib /lib
libs=-lpthread -lnsl -ldb -ldl -lm -lcrypt -lutil -lc
perllibs=-lpthread -lnsl -ldl -lm -lcrypt -lutil -lc
libc=libc-2.24.so
so=so
useshrplib=false
libperl=libperl.a
gnulibc_version='2.24'
Dynamic Linking:
dlsrc=dl_dlopen.xs
dlext=so
d_dlsymun=undef
ccdlflags='-Wl,-E'
cccdlflags='-fPIC'
lddlflags='-shared -O2 -L/usr/local/lib -fstack-protector-strong'
Characteristics of this binary (from libperl):
Compile-time options:
HAS_TIMES
MULTIPLICITY
PERLIO_LAYERS
PERL_COPY_ON_WRITE
PERL_DONT_CREATE_GVSV
PERL_IMPLICIT_CONTEXT
PERL_MALLOC_WRAP
PERL_OP_PARENT
PERL_PRESERVE_IVUV
USE_64_BIT_ALL
USE_64_BIT_INT
USE_ITHREADS
USE_LARGE_FILES
USE_LOCALE
USE_LOCALE_COLLATE
USE_LOCALE_CTYPE
USE_LOCALE_NUMERIC
USE_LOCALE_TIME
USE_PERLIO
USE_PERL_ATOF
USE_REENTRANT_API
Built under linux
Compiled at Apr 25 2019 01:36:47
%ENV:
PERL="5.26.1"
PERL5LIB=""
PERL5OPT=""
PERL5_CPANPLUS_IS_RUNNING="19560"
PERL5_CPAN_IS_RUNNING="19560"
PERLVER="5.26.1"
PERL_INLINE_DIRECTORY="/home/david/.Inline-5.26.1"
PERL_MM_USE_DEFAULT="1"
PERL_USE_UNSAFE_INC="0"
@INC:
/home/david/cpantesting/perl-5.26.1/lib/site_perl/5.26.1/x86_64-linux-thread-multi
/home/david/cpantesting/perl-5.26.1/lib/site_perl/5.26.1
/home/david/cpantesting/perl-5.26.1/lib/5.26.1/x86_64-linux-thread-multi
/home/david/cpantesting/perl-5.26.1/lib/5.26.1