Cache-Memcached-Fast v0.25 Perl 5 v5.8.5 x86_64-linux-thread-multi
- Status
- Pass
- From
- Nigel Horne
- Dist
-
Cache-Memcached-Fast v0.25
- Platform
- Perl 5 v5.8.5 x86_64-linux-thread-multi
- Date
- 2018-04-02 04:10:13
- ID
- be0cab3e-362b-11e8-91ce-d3e3deac0b3f
This distribution has been tested as part of the CPAN Testers
project, supporting the Perl programming language. See
http://wiki.cpantesters.org/ for more information or email
questions to cpan-testers-discuss@perl.org
--
Dear James Raspass,
This is a computer-generated report for Cache-Memcached-Fast-0.25
on perl 5.8.5, created by CPAN-Reporter-1.2018.
Thank you for uploading your work to CPAN. Congratulations!
All tests were successful.
Sections of this report:
* Tester comments
* Program output
* Prerequisites
* Environment and other context
------------------------------
TESTER COMMENTS
------------------------------
Additional comments from tester:
this report is from an automated smoke testing program
and was not reviewed by a human for accuracy
------------------------------
PROGRAM OUTPUT
------------------------------
Output from '/usr/bin/make test':
"/home/njh/perl5/perlbrew/perls/perl-5.8.5/bin/perl" -MExtUtils::Command::MM -e 'cp_nonempty' -- Fast.bs blib/arch/auto/Cache/Memcached/Fast/Fast.bs 644
make[1]: Entering directory '/tmp/build/Cache-Memcached-Fast-0.25-7/src'
make[1]: Nothing to be done for 'all'.
make[1]: Leaving directory '/tmp/build/Cache-Memcached-Fast-0.25-7/src'
make[1]: Entering directory '/tmp/build/Cache-Memcached-Fast-0.25-7/src'
No tests defined for Cache::Memcached::Fast::libclient extension.
make[1]: Leaving directory '/tmp/build/Cache-Memcached-Fast-0.25-7/src'
PERL_DL_NONLAZY=1 "/home/njh/perl5/perlbrew/perls/perl-5.8.5/bin/perl" "-MExtUtils::Command::MM" "-MTest::Harness" "-e" "undef *Test::Harness::Switches; test_harness(0, 'blib/lib', 'blib/arch')" t/*.t
# Testing Cache::Memcached::Fast 0.25, Perl 5.008005, /home/njh/perl5/perlbrew/perls/perl-5.8.5/bin/perl
t/00-load.t ......... ok
t/errors.t .......... ok
# Connected to 2 memcached servers, lowest version 1.5.6
t/01-connect.t ...... ok
t/hash_namespace.t .. ok
t/02-isa.t .......... ok
t/key_ref.t ......... ok
t/malformed.t ....... ok
t/namespace.t ....... ok
t/big_value.t ....... ok
t/noreply.t ......... ok
t/pod-coverage.t .... ok
t/nowait.t .......... ok
t/serialize.t ....... ok
t/pod.t ............. ok
t/utf8-downgrade.t .. ok
t/utf8.t ............ ok
t/threads.t ......... ok
t/magic.t ........... ok
t/commands.t ........ ok
All tests successful.
Files=19, Tests=200, 13 wallclock secs ( 0.06 usr 0.01 sys + 1.16 cusr 0.22 csys = 1.45 CPU)
Result: PASS
------------------------------
PREREQUISITES
------------------------------
Prerequisite modules loaded:
requires:
Module Need Have
------------------- ---- --------
Test::More 0 1.302096
build_requires:
Module Need Have
------------------- ---- --------
ExtUtils::MakeMaker 0 7.22
------------------------------
ENVIRONMENT AND OTHER CONTEXT
------------------------------
Environment variables:
AUTOMATED_TESTING = 1
HARNESS_OPTIONS = j10
LANG = en_GB.UTF-8
PATH = /home/njh/perl5/perlbrew/bin:/home/njh/perl5/perlbrew/perls/perl-5.8.5/bin:src/njh/smoker/bin:/usr/bin:/bin
PERL5LIB = /tmp/build/Test-Class-Most-0.08-7/blib/arch:/tmp/build/Test-Class-Most-0.08-7/blib/lib:/tmp/build/File-Slurper-0.012-3/blib/arch:/tmp/build/File-Slurper-0.012-3/blib/lib
PERL5OPT =
PERL5_CPANPLUS_IS_RUNNING = 5362
PERL5_CPAN_IS_RUNNING = 5362
PERLBREW_HOME = /home/njh/.perlbrew
PERLBREW_MANPATH = /home/njh/perl5/perlbrew/perls/perl-5.8.5/man
PERLBREW_PATH = /home/njh/perl5/perlbrew/bin:/home/njh/perl5/perlbrew/perls/perl-5.8.5/bin
PERLBREW_PERL = perl-5.8.5
PERLBREW_ROOT = /home/njh/perl5/perlbrew
PERLBREW_SHELLRC_VERSION = 0.82
PERLBREW_VERSION = 0.82
SHELL = /bin/sh
Perl special variables (and OS-specific diagnostics, for MSWin32):
$^X = /home/njh/perl5/perlbrew/perls/perl-5.8.5/bin/perl
$UID/$EUID = 1000 / 1000
$GID = 1000 1000 118 112 107 46 44 30 29 25 24 4
$EGID = 1000 1000 118 112 107 46 44 30 29 25 24 4
Perl module toolchain versions installed:
Module Have
------------------- --------
CPAN 2.16
CPAN::Meta 2.150005
Cwd 3.62
ExtUtils::CBuilder 0.280224
ExtUtils::Command 7.22
ExtUtils::Install 2.04
ExtUtils::MakeMaker 7.22
ExtUtils::Manifest 1.70
ExtUtils::ParseXS 3.30
File::Spec 3.62
JSON 2.90
JSON::PP 2.27400
Module::Build 0.4224
Module::Signature n/a
Parse::CPAN::Meta 1.4417
Test::Harness 3.36
Test::More 1.302096
YAML 1.24
YAML::Syck 1.30
version 0.9912
--
Summary of my perl5 (revision 5 version 8 subversion 5) configuration:
Platform:
osname=linux, osvers=3.16-2-amd64, archname=x86_64-linux-thread-multi
uname='linux cyberpower2 3.16-2-amd64 #1 smp debian 3.16.3-2 (2014-09-20) x86_64 gnulinux '
config_args='-de -Dprefix=/home/njh/perl5/perlbrew/perls/perl-5.8.5 -Duseithreads -Dusemultiplicity -Dusedevel -Accflags=-O2 -W -Wformat=2 -Wswitch -Wshadow -Wwrite-strings -Wuninitialized -Wall -pipe -mtune=native -march=native -fomit-frame-pointer -msse2 -msse -mmmx -mfpmath=sse -pedantic -D_FORTIFY_SOURCE=2 -Wpointer-arith -Wstrict-prototypes -fstack-protector -Wstack-protector -Wextra -Wbad-function-cast -Wcast-align -Wcast-qual -Wdisabled-optimization -Wendif-labels -Wfloat-equal -Wformat-nonliteral -Winline -Wmissing-declarations -Wmissing-prototypes -Wnested-externs -Wpointer-arith -Wundef -Wformat-security -ftree-vectorize -fdiagnostics-color=auto -Aeval:scriptdir=/home/njh/perl5/perlbrew/perls/perl-5.8.5/bin'
hint=recommended, useposix=true, d_sigaction=define
usethreads=define use5005threads=undef useithreads=define usemultiplicity=define
useperlio=define d_sfio=undef uselargefiles=define usesocks=undef
use64bitint=define use64bitall=define uselongdouble=undef
usemymalloc=n, bincompat5005=undef
Compiler:
cc='cc', ccflags ='-D_REENTRANT -D_GNU_SOURCE -O2 -W -Wformat=2 -Wswitch -Wshadow -Wwrite-strings -Wuninitialized -Wall -pipe -mtune=native -march=native -fomit-frame-pointer -msse2 -msse -mmmx -mfpmath=sse -pedantic -D_FORTIFY_SOURCE=2 -Wpointer-arith -Wstrict-prototypes -fstack-protector -Wstack-protector -Wextra -Wbad-function-cast -Wcast-align -Wcast-qual -Wdisabled-optimization -Wendif-labels -Wfloat-equal -Wformat-nonliteral -Winline -Wmissing-declarations -Wmissing-prototypes -Wnested-externs -Wpointer-arith -Wundef -Wformat-security -ftree-vectorize -fdiagnostics-color=auto -fno-strict-aliasing -I/usr/local/include -D_LARGEFILE_SOURCE -D_FILE_OFFSET_BITS=64',
optimize='-O2',
cppflags='-D_REENTRANT -D_GNU_SOURCE -O2 -W -Wformat=2 -Wswitch -Wshadow -Wwrite-strings -Wuninitialized -Wall -pipe -mtune=native -march=native -fomit-frame-pointer -msse2 -msse -mmmx -mfpmath=sse -pedantic -D_FORTIFY_SOURCE=2 -Wpointer-arith -Wstrict-prototypes -fstack-protector -Wstack-protector -Wextra -Wbad-function-cast -Wcast-align -Wcast-qual -Wdisabled-optimization -Wendif-labels -Wfloat-equal -Wformat-nonliteral -Winline -Wmissing-declarations -Wmissing-prototypes -Wnested-externs -Wpointer-arith -Wundef -Wformat-security -ftree-vectorize -fdiagnostics-color=auto -fno-strict-aliasing -I/usr/local/include'
ccversion='', gccversion='4.9.1', gccosandvers=''
intsize=4, longsize=8, ptrsize=8, doublesize=8, byteorder=12345678
d_longlong=define, longlongsize=8, d_longdbl=define, longdblsize=16
ivtype='long', ivsize=8, nvtype='double', nvsize=8, Off_t='off_t', lseeksize=8
alignbytes=8, prototype=define
Linker and Libraries:
ld='cc', ldflags =' -L/usr/local/lib'
libpth=/usr/local/lib /lib/x86_64-linux-gnu /lib/../lib /usr/lib/x86_64-linux-gnu /usr/lib/../lib /lib /usr/lib
libs=-lnsl -lgdbm -ldb -ldl -lm -lcrypt -lutil -lpthread -lc -lgdbm_compat
perllibs=-lnsl -ldl -lm -lcrypt -lutil -lpthread -lc -lgdbm_compat
libc=libc-2.19.so, so=so, useshrplib=false, libperl=libperl.a
gnulibc_version='2.19'
Dynamic Linking:
dlsrc=dl_dlopen.xs, dlext=so, d_dlsymun=undef, ccdlflags='-Wl,-E'
cccdlflags='-fpic', lddlflags='-shared -L/usr/local/lib'
Characteristics of this binary (from libperl):
Compile-time options: MULTIPLICITY USE_ITHREADS USE_64_BIT_INT USE_64_BIT_ALL USE_LARGE_FILES PERL_IMPLICIT_CONTEXT
Built under linux
Compiled at Oct 15 2014 09:47:00
%ENV:
PERL5LIB="/tmp/build/Test-Class-Most-0.08-7/blib/arch:/tmp/build/Test-Class-Most-0.08-7/blib/lib:/tmp/build/File-Slurper-0.012-3/blib/arch:/tmp/build/File-Slurper-0.012-3/blib/lib"
PERL5OPT=""
PERL5_CPANPLUS_IS_RUNNING="5362"
PERL5_CPAN_IS_RUNNING="5362"
PERLBREW_HOME="/home/njh/.perlbrew"
PERLBREW_MANPATH="/home/njh/perl5/perlbrew/perls/perl-5.8.5/man"
PERLBREW_PATH="/home/njh/perl5/perlbrew/bin:/home/njh/perl5/perlbrew/perls/perl-5.8.5/bin"
PERLBREW_PERL="perl-5.8.5"
PERLBREW_ROOT="/home/njh/perl5/perlbrew"
PERLBREW_SHELLRC_VERSION="0.82"
PERLBREW_VERSION="0.82"
@INC:
/tmp/build/Test-Class-Most-0.08-7/blib/arch
/tmp/build/Test-Class-Most-0.08-7/blib/lib
/tmp/build/File-Slurper-0.012-3/blib/arch
/tmp/build/File-Slurper-0.012-3/blib/lib
/home/njh/perl5/perlbrew/perls/perl-5.8.5/lib/5.8.5/x86_64-linux-thread-multi
/home/njh/perl5/perlbrew/perls/perl-5.8.5/lib/5.8.5
/home/njh/perl5/perlbrew/perls/perl-5.8.5/lib/site_perl/5.8.5/x86_64-linux-thread-multi
/home/njh/perl5/perlbrew/perls/perl-5.8.5/lib/site_perl/5.8.5
/home/njh/perl5/perlbrew/perls/perl-5.8.5/lib/site_perl
.