Report for Pinto-0.09996

Back
From: metabase:user:314402c4-2aae-11df-837a-5e0a49663a4f
Subject: PASS Pinto-0.09996 v5.18.2 FreeBSD
Date: 2014-11-04T20:39:58Z

This distribution has been tested as part of the CPAN Testers
project, supporting the Perl programming language.  See
http://wiki.cpantesters.org/ for more information or email
questions to cpan-testers-discuss@perl.org


--
Dear Jeffrey Ryan Thalhammer,

This is a computer-generated report for Pinto-0.09996
on perl 5.18.2, created by CPAN-Reporter-1.2011.

Thank you for uploading your work to CPAN.  Congratulations!
All tests were successful.

Sections of this report:

    * Tester comments
    * Program output
    * Prerequisites
    * Environment and other context

------------------------------
TESTER COMMENTS
------------------------------

Additional comments from tester:

none provided

------------------------------
PROGRAM OUTPUT
------------------------------

Output from './Build test':

t/00-compile.t ........................ ok
# 
# Versions for all modules listed in MYMETA.json (including optional ones):
# 
# === Configure Requires ===
# 
#     Module                        Want   Have
#     --------------------------- ------ ------
#     Module::Build               0.4005 0.4210
#     Module::Build::CleanInstall   0.05   0.05
# 
# === Build Requires ===
# 
#     Module                        Want   Have
#     --------------------------- ------ ------
#     Module::Build               0.4005 0.4210
#     Module::Build::CleanInstall   0.05   0.05
# 
# === Test Requires ===
# 
#     Module                 Want     Have
#     --------------------- ----- --------
#     Apache::Htpasswd        any      1.9
#     Capture::Tiny           any     0.25
#     ExtUtils::MakeMaker     any     7.00
#     File::Spec              any     3.47
#     File::Temp              any   0.2304
#     FindBin                 any     1.51
#     HTTP::Body              any     1.19
#     HTTP::Response          any     6.04
#     HTTP::Server::PSGI      any    undef
#     IO::Handle              any     1.34
#     IPC::Open3              any     1.13
#     Module::Faker::Dist   0.014    0.016
#     Plack::Test             any    undef
#     Test::Builder::Module   any 1.001009
#     Test::Exception         any     0.35
#     Test::File              any     1.41
#     Test::LWP::UserAgent  0.018    0.023
#     Test::More             0.96 1.001009
#     Test::TCP               any     2.06
#     Test::Warn              any     0.30
#     lib                     any     0.63
# 
# === Test Recommends ===
# 
#     Module         Want     Have
#     ---------- -------- --------
#     CPAN::Meta 2.120900 2.142690
# 
# === Runtime Requires ===
# 
#     Module                                Want       Have
#     ------------------------------- ---------- ----------
#     App::Cmd                             0.323      0.324
#     App::Cmd::Command::help                any      0.324
#     App::Cmd::Setup                        any      0.324
#     Archive::Extract                      0.68       0.72
#     Archive::Tar                           any       2.02
#     Authen::Simple::Passwd                 any        0.6
#     CPAN::Checksums                        any       2.09
#     CPAN::DistnameInfo                     any       0.12
#     CPAN::Meta                             any   2.142690
#     CPAN::Meta::Requirements               any      2.127
#     Carp                                   any     1.3301
#     Class::Load                            any       0.22
#     Cwd                                    any       3.47
#     Cwd::Guard                             any       0.04
#     DBD::SQLite                           1.33       1.44
#     DBIx::Class                        0.08200   0.082810
#     DBIx::Class::Core                      any      undef
#     DBIx::Class::ResultSet                 any      undef
#     DBIx::Class::Schema                    any      undef
#     DateTime                               any       1.12
#     DateTime::TimeZone                     any       1.76
#     DateTime::TimeZone::Local::Unix        any       1.76
#     DateTime::TimeZone::OffsetOnly         any       1.76
#     Devel::StackTrace                      any       2.00
#     Digest::MD5                            any       2.53
#     Digest::SHA                            any       5.93
#     Dist::Metadata                       0.924      0.925
#     Encode                                 any       2.63
#     Exporter                               any       5.70
#     File::Copy                             any       2.26
#     File::Find                             any       1.23
#     File::HomeDir                          any       1.00
#     File::NFSLock                          any       1.22
#     File::Spec                             any       3.47
#     File::Temp                             any     0.2304
#     File::Which                            any       1.09
#     Getopt::Long                           any       2.42
#     HTTP::Date                             any       6.02
#     HTTP::Request::Common                  any       6.04
#     HTTP::Status                           any       6.03
#     IO::File                               any       1.16
#     IO::Handle                             any       1.34
#     IO::Interactive                        any      0.0.6
#     IO::Pipe                               any       1.15
#     IO::Prompt                             any   0.997002
#     IO::Select                             any       1.21
#     IO::String                             any       1.08
#     IO::Zlib                               any       1.10
#     JSON                                   any       2.90
#     JSON::PP                           2.27103    2.27203
#     LWP::UserAgent                         any       6.06
#     List::MoreUtils                        any       0.33
#     List::Util                             any       1.40
#     Module::CoreList                5.20141020 5.20141020
#     Moose                                  any     2.1401
#     Moose::Role                            any     2.1401
#     MooseX::Aliases                        any       0.11
#     MooseX::ClassAttribute                0.27       0.27
#     MooseX::Configuration                  any       0.02
#     MooseX::MarkAsMethods                  any       0.15
#     MooseX::NonMoose                       any       0.26
#     MooseX::SetOnce                        any   0.200002
#     MooseX::StrictConstructor              any       0.19
#     MooseX::Types                          any       0.45
#     MooseX::Types::Moose                   any       0.45
#     Path::Class                            any       0.35
#     Path::Class::Dir                       any       0.35
#     Path::Class::File                      any       0.35
#     Plack                               1.0028     1.0033
#     Plack::MIME                            any      undef
#     Plack::Middleware::Auth::Basic         any      undef
#     Plack::Request                         any     1.0033
#     Plack::Response                        any     1.0033
#     Plack::Runner                          any      undef
#     Pod::Usage                             any       1.64
#     Proc::Fork                             any      0.802
#     Proc::Terminator                       any       0.05
#     Readonly                               any       2.00
#     Router::Simple                         any       0.16
#     Scalar::Util                           any       1.40
#     Starman                             0.3014     0.4009
#     String::Format                         any       1.17
#     Term::ANSIColor                       2.02       4.03
#     Term::EditorEdit                       any     0.0016
#     Throwable::Error                  0.200005   0.200011
#     Try::Tiny                              any       0.22
#     URI                                    any       1.64
#     URI::Escape                            any       3.31
#     URI::file                              any       4.21
#     UUID::Tiny                             any       1.04
#     base                                   any       2.18
#     overload                               any       1.22
#     strict                                 any       1.07
#     utf8                                   any       1.10
#     version                                any     0.9909
#     warnings                               any       1.18
# 
# === Other Modules ===
# 
#     Module      Want     Have
#     ----------- ---- --------
#     DBD::SQLite  any     1.44
#     DBIx::Class  any 0.082810
# 
t/00-report-prereqs.t ................. ok
t/01-common/01-types.t ................ ok
t/01-common/02-target-package.t ....... ok
t/01-common/03-target-distribution.t .. ok
t/01-common/04-util.t ................. ok
t/01-common/05-pauseconfig.t .......... ok
t/02-bowels/01-config.t ............... ok
t/02-bowels/02-chrome.t ............... ok
t/02-bowels/03-package.t .............. ok
t/02-bowels/04-distribution.t ......... ok
t/02-bowels/05-compare.t .............. ok
t/02-bowels/10-init.t ................. ok
t/02-bowels/11-tester.t ............... ok
t/02-bowels/12-locator.t .............. ok
t/02-bowels/19-basic.t ................ ok
t/02-bowels/20-add.t .................. ok
t/02-bowels/21-add-no-index.t ......... ok
t/02-bowels/21-pull-vreq.t ............ ok
t/02-bowels/21-pull.t ................. ok
t/02-bowels/22-add-deep.t ............. ok
t/02-bowels/23-pull-multi.t ........... ok
t/02-bowels/24-skip-prereqs.t ......... ok
t/02-bowels/31-pin.t .................. ok
t/02-bowels/32-pin-rjbs.t ............. ok
t/02-bowels/35-delete.t ............... ok
t/02-bowels/40-list.t ................. ok
t/02-bowels/41-log.t .................. ok
t/02-bowels/42-install.t .............. skipped: Need cpanm 1.6920 or newer
t/02-bowels/43-install-and-pull.t ..... skipped: Need cpanm 1.6920 or newer
t/02-bowels/50-diff.t ................. ok
t/02-bowels/51-diff-more.t ............ ok
t/02-bowels/52-intermingle.t .......... ok
t/02-bowels/53-roots.t ................ ok
t/02-bowels/54-revert.t ............... ok
t/02-bowels/60-dryrun.t ............... ok
t/02-bowels/61-nofail.t ............... ok
t/02-bowels/62-commit.t ............... ok
t/02-bowels/63-prereq-circular.t ...... ok
t/02-bowels/63-prereq-core.t .......... ok
t/02-bowels/64-metadata.t ............. ok
t/02-bowels/70-stack-copy.t ........... ok
t/02-bowels/71-stack-kill.t ........... ok
t/02-bowels/72-stack-rename.t ......... ok
t/02-bowels/73-stack-lock.t ........... ok
t/02-bowels/74-stack-default.t ........ ok
t/02-bowels/75-stack-props.t .......... ok
t/02-bowels/80-repo-lock.t ............ ok
t/03-remote/01-requests.t ............. ok
t/03-remote/02-responses.t ............ ok
t/03-remote/03-install.t .............. skipped: Need cpanm 1.6920 or newer
t/03-remote/04-install-with-auth.t .... skipped: Need cpanm 1.6920 or newer
t/03-remote/05-timezone.t ............. ok
t/04-server/01-functional.t ........... ok
t/04-server/02-authentication.t ....... ok
t/04-server/03-security.t ............. ok
All tests successful.
Files=56, Tests=1469, 2188 wallclock secs ( 1.15 usr  0.66 sys + 956.70 cusr 109.06 csys = 1067.56 CPU)
Result: PASS

------------------------------
PREREQUISITES
------------------------------

Prerequisite modules loaded:

requires:

    Module                          Need       Have      
    ------------------------------- ---------- ----------
    App::Cmd                        0.323      0.324     
    App::Cmd::Command::help         0          0.324     
    App::Cmd::Setup                 0          0.324     
    Archive::Extract                0.68       0.72      
    Archive::Tar                    0          2.02      
    Authen::Simple::Passwd          0          0.6       
    base                            0          2.18      
    Carp                            0          1.3301    
    Class::Load                     0          0.22      
    CPAN::Checksums                 0          2.09      
    CPAN::DistnameInfo              0          0.12      
    CPAN::Meta                      0          2.142690  
    CPAN::Meta::Requirements        0          2.127     
    Cwd                             0          3.47      
    Cwd::Guard                      0          0.04      
    DateTime                        0          1.12      
    DateTime::TimeZone              0          1.76      
    DateTime::TimeZone::Local::Unix 0          1.76      
    DateTime::TimeZone::OffsetOnly  0          1.76      
    DBD::SQLite                     1.33       1.44      
    DBIx::Class                     0.08200    0.082810  
    DBIx::Class::Core               0          0         
    DBIx::Class::ResultSet          0          0         
    DBIx::Class::Schema             0          0         
    Devel::StackTrace               0          2.00      
    Digest::MD5                     0          2.53      
    Digest::SHA                     0          5.93      
    Dist::Metadata                  0.924      0.925     
    Encode                          0          2.63      
    Exporter                        0          5.70      
    File::Copy                      0          2.26      
    File::Find                      0          1.23      
    File::HomeDir                   0          1.00      
    File::NFSLock                   0          1.22      
    File::Spec                      0          3.47      
    File::Temp                      0          0.2304    
    File::Which                     0          1.09      
    Getopt::Long                    0          2.42      
    HTTP::Date                      0          6.02      
    HTTP::Request::Common           0          6.04      
    HTTP::Status                    0          6.03      
    IO::File                        0          1.16      
    IO::Handle                      0          1.34      
    IO::Interactive                 0          0.0.6     
    IO::Pipe                        0          1.15      
    IO::Prompt                      0          0.997002  
    IO::Select                      0          1.21      
    IO::String                      0          1.08      
    IO::Zlib                        0          1.10      
    JSON                            0          2.90      
    JSON::PP                        2.27103    2.27203   
    List::MoreUtils                 0          0.33      
    List::Util                      0          1.40      
    LWP::UserAgent                  0          6.06      
    Module::CoreList                5.20141020 5.20141020
    Moose                           0          2.1401    
    Moose::Role                     0          2.1401    
    MooseX::Aliases                 0          0.11      
    MooseX::ClassAttribute          0.27       0.27      
    MooseX::Configuration           0          0.02      
    MooseX::MarkAsMethods           0          0.15      
    MooseX::NonMoose                0          0.26      
    MooseX::SetOnce                 0          0.200002  
    MooseX::StrictConstructor       0          0.19      
    MooseX::Types                   0          0.45      
    MooseX::Types::Moose            0          0.45      
    overload                        0          1.22      
    Path::Class                     0          0.35      
    Path::Class::Dir                0          0.35      
    Path::Class::File               0          0.35      
    perl                            5.008      5.018002  
    Plack                           1.0028     1.0033    
    Plack::Middleware::Auth::Basic  0          0         
    Plack::MIME                     0          0         
    Plack::Request                  0          1.0033    
    Plack::Response                 0          1.0033    
    Plack::Runner                   0          0         
    Pod::Usage                      0          1.64      
    Proc::Fork                      0          0.802     
    Proc::Terminator                0          0.05      
    Readonly                        0          2.00      
    Router::Simple                  0          0.16      
    Scalar::Util                    0          1.40      
    Starman                         0.3014     0.4009    
    strict                          0          1.07      
    String::Format                  0          1.17      
    Term::ANSIColor                 2.02       4.03      
    Term::EditorEdit                0          0.0016    
    Throwable::Error                0.200005   0.200011  
    Try::Tiny                       0          0.22      
    URI                             0          1.64      
    URI::Escape                     0          3.31      
    URI::file                       0          4.21      
    utf8                            0          1.10      
    UUID::Tiny                      0          1.04      
    version                         0          0.9909    
    warnings                        0          1.18      

build_requires:

    Module                          Need       Have      
    ------------------------------- ---------- ----------
    Apache::Htpasswd                0          1.9       
    Capture::Tiny                   0          0.25      
    ExtUtils::MakeMaker             0          7.00      
    File::Spec                      0          3.47      
    File::Temp                      0          0.2304    
    FindBin                         0          1.51      
    HTTP::Body                      0          1.19      
    HTTP::Response                  0          6.04      
    HTTP::Server::PSGI              0          0         
    IO::Handle                      0          1.34      
    IPC::Open3                      0          1.13      
    lib                             0          0.63      
    Module::Build                   0.4005     0.4210    
    Module::Build::CleanInstall     0.05       0.05      
    Module::Faker::Dist             0.014      0.016     
    perl                            5.008      5.018002  
    Plack::Test                     0          0         
    Test::Builder::Module           0          1.001009  
    Test::Exception                 0          0.35      
    Test::File                      0          1.41      
    Test::LWP::UserAgent            0.018      0.023     
    Test::More                      0.96       1.001009  
    Test::TCP                       0          2.06      
    Test::Warn                      0          0.30      

configure_requires:

    Module                          Need       Have      
    ------------------------------- ---------- ----------
    Module::Build                   0.4005     0.4210    
    Module::Build::CleanInstall     0.05       0.05      
    perl                            5.006      5.018002  


------------------------------
ENVIRONMENT AND OTHER CONTEXT
------------------------------

Environment variables:

    DBIC_NO_WARN_BAD_PERL = 1
    LC_ALL = de_DE.ISO8859-1
    PATH = /usr/local/bin:/usr/bin:/bin:/usr/local/sbin:/usr/sbin:/sbin:/home/cpansand/bin/freebsd10.0:/home/cpansand/bin/sh:/home/cpansand/bin:/usr/games:/home/cpansand/devel:/home/eserte/src/srezic-misc/scripts
    PERL5LIB = 
    PERL5OPT = 
    PERL5_CPANPLUS_IS_RUNNING = 49270
    PERL5_CPAN_IS_RUNNING = 49270
    PERL5_CPAN_IS_RUNNING_IN_RECURSION = 48857,49270
    PERLDOC = -MPod::Perldoc::ToTextOverstrike
    PERL_BATCH = yes
    PERL_CPAN_REPORTER_CONFIG = /var/tmp/cpansmoker-1023/11oDvS7fXZ_config.ini
    PERL_EXTUTILS_AUTOINSTALL = --defaultdeps
    PERL_HTML_DISPLAY_CLASS = HTML::Display::Mozilla
    SHELL = /usr/local/bin/zsh
    TERM = screen
    TMPDIR = /var/tmp/cpansmoker-1023

Perl special variables (and OS-specific diagnostics, for MSWin32):

    $^X = /usr/perl5.18.2/bin/perl5.18.2
    $UID/$EUID = 1023 / 1023
    $GID = 1023 1023
    $EGID = 1023 1023

Perl module toolchain versions installed:

    Module              Have    
    ------------------- --------
    CPAN                2.05    
    CPAN::Meta          2.142690
    Cwd                 3.47    
    ExtUtils::CBuilder  0.280220
    ExtUtils::Command   1.17    
    ExtUtils::Install   2.04    
    ExtUtils::MakeMaker 7.00    
    ExtUtils::Manifest  1.68    
    ExtUtils::ParseXS   3.24    
    File::Spec          3.47    
    JSON                2.90    
    JSON::PP            2.27203 
    Module::Build       0.4210  
    Module::Signature   0.73    
    Parse::CPAN::Meta   1.4414  
    Test::Harness       3.33    
    Test::More          1.001009
    YAML                1.12    
    YAML::Syck          1.27    
    version             0.9909  


--

Summary of my perl5 (revision 5 version 18 subversion 2) configuration:
   
  Platform:
    osname=freebsd, osvers=10.0-release, archname=amd64-freebsd
    uname='freebsd cvrsnica-freebsd-10-64bit.herceg.de 10.0-release freebsd 10.0-release #0 r260789: thu jan 16 22:34:59 utc 2014 root@snap.freebsd.org:usrobjusrsrcsysgeneric amd64 '
    config_args='-ds -e -Dprefix=/usr/perl5.18.2'
    hint=recommended, useposix=true, d_sigaction=define
    useithreads=undef, usemultiplicity=undef
    useperlio=define, d_sfio=undef, uselargefiles=define, usesocks=undef
    use64bitint=define, use64bitall=define, uselongdouble=undef
    usemymalloc=n, bincompat5005=undef
  Compiler:
    cc='cc', ccflags ='-DHAS_FPSETMASK -DHAS_FLOATINGPOINT_H -fno-strict-aliasing -pipe -fstack-protector -I/usr/local/include',
    optimize='-O',
    cppflags='-DHAS_FPSETMASK -DHAS_FLOATINGPOINT_H -fno-strict-aliasing -pipe -fstack-protector -I/usr/local/include'
    ccversion='', gccversion='4.2.1 Compatible FreeBSD Clang 3.3 (tags/RELEASE_33/final 183502)', gccosandvers=''
    intsize=4, longsize=8, ptrsize=8, doublesize=8, byteorder=12345678
    d_longlong=define, longlongsize=8, d_longdbl=define, longdblsize=16
    ivtype='long', ivsize=8, nvtype='double', nvsize=8, Off_t='off_t', lseeksize=8
    alignbytes=8, prototype=define
  Linker and Libraries:
    ld='cc', ldflags ='-Wl,-E  -fstack-protector -L/usr/local/lib'
    libpth=/usr/lib /usr/local/lib
    libs=-lgdbm -lm -lcrypt -lutil -lc
    perllibs=-lm -lcrypt -lutil -lc
    libc=, so=so, useshrplib=false, libperl=libperl.a
    gnulibc_version=''
  Dynamic Linking:
    dlsrc=dl_dlopen.xs, dlext=so, d_dlsymun=undef, ccdlflags=' '
    cccdlflags='-DPIC -fPIC', lddlflags='-shared  -L/usr/local/lib -fstack-protector'


Characteristics of this binary (from libperl): 
  Compile-time options: HAS_TIMES PERLIO_LAYERS PERL_DONT_CREATE_GVSV
                        PERL_HASH_FUNC_ONE_AT_A_TIME_HARD PERL_MALLOC_WRAP
                        PERL_PRESERVE_IVUV PERL_SAWAMPERSAND USE_64_BIT_ALL
                        USE_64_BIT_INT USE_LARGE_FILES USE_LOCALE
                        USE_LOCALE_COLLATE USE_LOCALE_CTYPE
                        USE_LOCALE_NUMERIC USE_PERLIO USE_PERL_ATOF
  Built under freebsd
  Compiled at Feb 16 2014 21:09:14
  %ENV:
    PERL5LIB=""
    PERL5OPT=""
    PERL5_CPANPLUS_IS_RUNNING="49270"
    PERL5_CPAN_IS_RUNNING="49270"
    PERL5_CPAN_IS_RUNNING_IN_RECURSION="48857,49270"
    PERLDOC="-MPod::Perldoc::ToTextOverstrike"
    PERL_BATCH="yes"
    PERL_CPAN_REPORTER_CONFIG="/var/tmp/cpansmoker-1023/11oDvS7fXZ_config.ini"
    PERL_EXTUTILS_AUTOINSTALL="--defaultdeps"
    PERL_HTML_DISPLAY_CLASS="HTML::Display::Mozilla"
  @INC:
    /usr/perl5.18.2/lib/site_perl/5.18.2/amd64-freebsd
    /usr/perl5.18.2/lib/site_perl/5.18.2
    /usr/perl5.18.2/lib/5.18.2/amd64-freebsd
    /usr/perl5.18.2/lib/5.18.2
    .