Report for Crypt-SSLeay-0.72

Back
From: metabase:user:20a45eae-6c1a-1014-abaf-4bc2b30e56df
Subject: PASS Crypt-SSLeay-0.72 v5.20.0 Windows (Cygwin)
Date: 2015-05-31T04:48:14Z

This distribution has been tested as part of the CPAN Testers
project, supporting the Perl programming language.  See
http://wiki.cpantesters.org/ for more information or email
questions to cpan-testers-discuss@perl.org


--
Dear A. Sinan Unur,

This is a computer-generated report for Crypt-SSLeay-0.72
on perl 5.20.0, created by CPAN-Reporter-1.2014.

Thank you for uploading your work to CPAN.  Congratulations!
All tests were successful.

Sections of this report:

    * Tester comments
    * Program output
    * Prerequisites
    * Environment and other context

------------------------------
TESTER COMMENTS
------------------------------

Additional comments from tester:

this report is from an automated smoke testing program
and was not reviewed by a human for accuracy

------------------------------
PROGRAM OUTPUT
------------------------------

Output from '/usr/bin/make test':

Running Mkbootstrap for Crypt::SSLeay ()
chmod 644 SSLeay.bs
PERL_DL_NONLAZY=1 /opt/perl5/cygwin_nt-6.1-wow/1.7.35/i686/perl/5.20.0/cygwin-multi-64int/bin/perl.exe "-MExtUtils::Command::MM" "-MTest::Harness" "-e" "undef *Test::Harness::Switches; test_harness(0, 'blib/lib', 'blib/arch')" t/*.t
t/00-basic.t ..... ok
t/01-connect.t ... ok
# Reading configuration from 'test.config' on cygwin
# network_tests : 0
t/02-live.t ...... skipped: Network tests disabled
t/03-version.t ... ok
t/boilerplate.t .. ok
t/manifest.t ..... skipped: Author tests not required for installation
All tests successful.
Files=6, Tests=43,  5 wallclock secs ( 0.05 usr  0.14 sys +  1.63 cusr  1.86 csys =  3.69 CPU)
Result: PASS

------------------------------
PREREQUISITES
------------------------------

Prerequisite modules loaded:

requires:

    Module               Need     Have    
    -------------------- -------- --------
    LWP::Protocol::https 6.02     6.06    
    MIME::Base64         0        3.14    
    perl                 5.006    5.020000

build_requires:

    Module               Need     Have    
    -------------------- -------- --------
    ExtUtils::MakeMaker  0        6.98    
    Test::More           0.19     1.001014
    Try::Tiny            0.19     0.22    

configure_requires:

    Module               Need     Have    
    -------------------- -------- --------
    ExtUtils::CBuilder   0.280205 0.280216
    Getopt::Long         0        2.42    
    Path::Class          0.26     0.35    
    Try::Tiny            0.19     0.22    


------------------------------
ENVIRONMENT AND OTHER CONTEXT
------------------------------

Environment variables:

    AUTOMATED_TESTING = 1
    COMSPEC = C:\WINDOWS\system32\cmd.exe
    LD_LIBRARY_PATH = 
    NUMBER_OF_PROCESSORS = 8
    PATH = /opt/perl5/cygwin_nt-6.1-wow/1.7.35/i686/bin/5.20.0/cygwin-multi-64int:/opt/perl5/cygwin_nt-6.1-wow/1.7.35/i686/perl/5.20.0/cygwin-multi-64int/local/bin:/opt/perl5/cygwin_nt-6.1-wow/1.7.35/i686/perl/5.20.0/cygwin-multi-64int/bin:/usr/local/bin:/usr/bin
    PERL5LIB = /opt/perl5/cygwin_nt-6.1-wow/1.7.35/i686/cpan/5.20.0/cygwin-multi-64int/build/PerlIO-via-QuotedPrint-0.08-QBqU01/blib/arch:/opt/perl5/cygwin_nt-6.1-wow/1.7.35/i686/cpan/5.20.0/cygwin-multi-64int/build/PerlIO-via-QuotedPrint-0.08-QBqU01/blib/lib:/opt/perl5/cygwin_nt-6.1-wow/1.7.35/i686/cpan/5.20.0/cygwin-multi-64int/build/Module-Build-0.4212-vfMOFM/blib/arch:/opt/perl5/cygwin_nt-6.1-wow/1.7.35/i686/cpan/5.20.0/cygwin-multi-64int/build/Module-Build-0.4212-vfMOFM/blib/lib:/opt/perl5/cygwin_nt-6.1-wow/1.7.35/i686/perl/5.20.0/cygwin-multi-64int/local/lib/site_perl/5.20.0:/opt/perl5/cygwin_nt-6.1-wow/1.7.35/i686/perl/5.20.0/cygwin-multi-64int/local/lib/5.20.0:/opt/perl5/cygwin_nt-6.1-wow/1.7.35/i686/perl/5.20.0/cygwin-multi-64int/local/lib/perl5
    PERL5OPT = 
    PERL5_CPANPLUS_IS_RUNNING = 12400
    PERL5_CPAN_IS_RUNNING = 12400
    PERL_CPAN_REPORTER_CONFIG = /opt/perl5/cygwin_nt-6.1-wow/1.7.35/i686/cpan/5.20.0/cygwin-multi-64int/reporter/config.ini
    PERL_CPAN_REPORTER_DIR = /opt/perl5/cygwin_nt-6.1-wow/1.7.35/i686/cpan/5.20.0/cygwin-multi-64int/reporter
    PERL_EXTUTILS_AUTOINSTALL = 1
    PERL_MM_USE_DEFAULT = 1
    PERL_MY_PREFIX = /opt/perl5
    PERL_MY_SOURCE_DIR = /cygdrive/c/src/perl
    PERL_TEST_CRITIC = 1
    PERL_TEST_CRITIC = 1
    PERL_TEST_POD = 1
    PERL_TEST_POD = 1
    POD_TESTING = 1
    POD_TESTS = 1
    PROCESSOR_IDENTIFIER = Intel64 Family 6 Model 60 Stepping 3, GenuineIntel
    SHELL = /usr/bin/bash
    TEMP = /tmp
    TERM = xterm

Perl special variables (and OS-specific diagnostics, for MSWin32):

    $^X = /opt/perl5/cygwin_nt-6.1-wow/1.7.35/i686/perl/5.20.0/cygwin-multi-64int/bin/perl
    $UID/$EUID = 1061331 / 1061331
    $GID = 1049089 1049089 197608 545 4 66049 11 15 4095 66048 1104222 1098011 1051245 1113266 1090502 1081310 1090413 1061909 1058653 1081942 1122108 1083675 1088201 1093944 1090357 1122107 1083781 1051228 1057394 1090221 1056539 1057337 1089132 1100278 1051354 1104220 1059243 1089865 1087957 1105777 1049649 1069945 1095107 1059531 1090104 1090492 1068897 1081637 1095782 1111057 1119491 1069144 1081620 70145 1049147 1083352 401408
    $EGID = 1049089 1049089 197608 545 4 66049 11 15 4095 66048 1104222 1098011 1051245 1113266 1090502 1081310 1090413 1061909 1058653 1081942 1122108 1083675 1088201 1093944 1090357 1122107 1083781 1051228 1057394 1090221 1056539 1057337 1089132 1100278 1051354 1104220 1059243 1089865 1087957 1105777 1049649 1069945 1095107 1059531 1090104 1090492 1068897 1081637 1095782 1111057 1119491 1069144 1081620 70145 1049147 1083352 401408

Perl module toolchain versions installed:

    Module              Have    
    ------------------- --------
    CPAN                2.05    
    CPAN::Meta          2.150001
    Cwd                 3.47    
    ExtUtils::CBuilder  0.280216
    ExtUtils::Command   1.18    
    ExtUtils::Install   1.67    
    ExtUtils::MakeMaker 6.98    
    ExtUtils::Manifest  1.63    
    ExtUtils::ParseXS   3.24    
    File::Spec          3.47    
    JSON                n/a     
    JSON::PP            2.27203 
    Module::Build       0.4212  
    Module::Signature   n/a     
    Parse::CPAN::Meta   1.4414  
    Test::Harness       3.30    
    Test::More          1.001014
    YAML                1.15    
    YAML::Syck          n/a     
    version             0.9908  


--

Summary of my perl5 (revision 5 version 20 subversion 0) configuration:
   
  Platform:
    osname=cygwin, osvers=1.7.35(0.28753), archname=cygwin-multi-64int
    uname='cygwin_nt-6.1-wow osl110 1.7.35(0.28753) 2015-03-04 12:07 i686 cygwin '
    config_args='-de -Dmksymlinks -Dcc=gcc -Dld=g++ -Uinc_version_list -Uinstallusrbinperl -Uusethreads -Dusemultiplicity -Duse64bitint -Uuselongdouble -Dprefix=/opt/perl5/cygwin_nt-6.1-wow/1.7.35/i686/perl/5.20.0/cygwin-multi-64int'
    hint=recommended, useposix=true, d_sigaction=define
    useithreads=undef, usemultiplicity=define
    use64bitint=define, use64bitall=undef, uselongdouble=undef
    usemymalloc=y, bincompat5005=undef
  Compiler:
    cc='gcc', ccflags ='-DPERL_USE_SAFE_PUTENV -U__STRICT_ANSI__ -fwrapv -fno-strict-aliasing -pipe -fstack-protector',
    optimize='-O3',
    cppflags='-DPERL_USE_SAFE_PUTENV -U__STRICT_ANSI__ -fwrapv -fno-strict-aliasing -pipe -fstack-protector'
    ccversion='', gccversion='4.9.2', gccosandvers=''
    intsize=4, longsize=4, ptrsize=4, doublesize=8, byteorder=12345678
    d_longlong=define, longlongsize=8, d_longdbl=define, longdblsize=12
    ivtype='long long', ivsize=8, nvtype='double', nvsize=8, Off_t='off_t', lseeksize=8
    alignbytes=8, prototype=define
  Linker and Libraries:
    ld='g++', ldflags =' -Wl,--enable-auto-import -Wl,--export-all-symbols -Wl,--enable-auto-image-base -fstack-protector -L/usr/local/lib'
    libpth=/usr/lib/gcc/i686-pc-cygwin/4.9.2/include-fixed /usr/lib /usr/lib/gcc/i686-pc-cygwin/4.9.2/../../../../include/w32api /usr/local/lib /lib
    libs=-lgdbm -ldb -ldl -lcrypt -lgdbm_compat
    perllibs=-ldl -lcrypt
    libc=/usr/lib/libc.a, so=dll, useshrplib=true, libperl=cygperl5_20_0.dll
    gnulibc_version=''
  Dynamic Linking:
    dlsrc=dl_dlopen.xs, dlext=dll, d_dlsymun=undef, ccdlflags=' '
    cccdlflags=' ', lddlflags=' --shared  -Wl,--enable-auto-import -Wl,--export-all-symbols -Wl,--enable-auto-image-base -L/usr/local/lib -fstack-protector'


Characteristics of this binary (from libperl): 
  Compile-time options: HAS_TIMES MULTIPLICITY MYMALLOC PERLIO_LAYERS
                        PERL_DONT_CREATE_GVSV
                        PERL_HASH_FUNC_ONE_AT_A_TIME_HARD
                        PERL_IMPLICIT_CONTEXT PERL_NEW_COPY_ON_WRITE
                        PERL_PRESERVE_IVUV PERL_USE_SAFE_PUTENV
                        USE_64_BIT_INT USE_LARGE_FILES USE_LOCALE
                        USE_LOCALE_COLLATE USE_LOCALE_CTYPE
                        USE_LOCALE_NUMERIC USE_PERLIO USE_PERL_ATOF
  Built under cygwin
  Compiled at May  7 2015 11:20:41
  %ENV:
    PERL5LIB="/opt/perl5/cygwin_nt-6.1-wow/1.7.35/i686/cpan/5.20.0/cygwin-multi-64int/build/PerlIO-via-QuotedPrint-0.08-QBqU01/blib/arch:/opt/perl5/cygwin_nt-6.1-wow/1.7.35/i686/cpan/5.20.0/cygwin-multi-64int/build/PerlIO-via-QuotedPrint-0.08-QBqU01/blib/lib:/opt/perl5/cygwin_nt-6.1-wow/1.7.35/i686/cpan/5.20.0/cygwin-multi-64int/build/Module-Build-0.4212-vfMOFM/blib/arch:/opt/perl5/cygwin_nt-6.1-wow/1.7.35/i686/cpan/5.20.0/cygwin-multi-64int/build/Module-Build-0.4212-vfMOFM/blib/lib:/opt/perl5/cygwin_nt-6.1-wow/1.7.35/i686/perl/5.20.0/cygwin-multi-64int/local/lib/site_perl/5.20.0:/opt/perl5/cygwin_nt-6.1-wow/1.7.35/i686/perl/5.20.0/cygwin-multi-64int/local/lib/5.20.0:/opt/perl5/cygwin_nt-6.1-wow/1.7.35/i686/perl/5.20.0/cygwin-multi-64int/local/lib/perl5"
    PERL5OPT=""
    PERL5_CPANPLUS_IS_RUNNING="12400"
    PERL5_CPAN_IS_RUNNING="12400"
    PERL_CPAN_REPORTER_CONFIG="/opt/perl5/cygwin_nt-6.1-wow/1.7.35/i686/cpan/5.20.0/cygwin-multi-64int/reporter/config.ini"
    PERL_CPAN_REPORTER_DIR="/opt/perl5/cygwin_nt-6.1-wow/1.7.35/i686/cpan/5.20.0/cygwin-multi-64int/reporter"
    PERL_EXTUTILS_AUTOINSTALL="1"
    PERL_MM_USE_DEFAULT="1"
    PERL_MY_PREFIX="/opt/perl5"
    PERL_MY_SOURCE_DIR="/cygdrive/c/src/perl"
    PERL_TEST_CRITIC="1"
    PERL_TEST_POD="1"
    CYGWIN="codepage:utf8 nodosfilewarning"
  @INC:
    /opt/perl5/cygwin_nt-6.1-wow/1.7.35/i686/cpan/5.20.0/cygwin-multi-64int/build/PerlIO-via-QuotedPrint-0.08-QBqU01/blib/arch
    /opt/perl5/cygwin_nt-6.1-wow/1.7.35/i686/cpan/5.20.0/cygwin-multi-64int/build/PerlIO-via-QuotedPrint-0.08-QBqU01/blib/lib
    /opt/perl5/cygwin_nt-6.1-wow/1.7.35/i686/cpan/5.20.0/cygwin-multi-64int/build/Module-Build-0.4212-vfMOFM/blib/arch
    /opt/perl5/cygwin_nt-6.1-wow/1.7.35/i686/cpan/5.20.0/cygwin-multi-64int/build/Module-Build-0.4212-vfMOFM/blib/lib
    /opt/perl5/cygwin_nt-6.1-wow/1.7.35/i686/perl/5.20.0/cygwin-multi-64int/local/lib/site_perl/5.20.0/cygwin-multi-64int
    /opt/perl5/cygwin_nt-6.1-wow/1.7.35/i686/perl/5.20.0/cygwin-multi-64int/local/lib/site_perl/5.20.0
    /opt/perl5/cygwin_nt-6.1-wow/1.7.35/i686/perl/5.20.0/cygwin-multi-64int/local/lib/5.20.0/cygwin-multi-64int
    /opt/perl5/cygwin_nt-6.1-wow/1.7.35/i686/perl/5.20.0/cygwin-multi-64int/local/lib/5.20.0
    /opt/perl5/cygwin_nt-6.1-wow/1.7.35/i686/perl/5.20.0/cygwin-multi-64int/local/lib/perl5/cygwin-multi-64int
    /opt/perl5/cygwin_nt-6.1-wow/1.7.35/i686/perl/5.20.0/cygwin-multi-64int/local/lib/perl5
    /opt/perl5/cygwin_nt-6.1-wow/1.7.35/i686/perl/5.20.0/cygwin-multi-64int/lib/site_perl/5.20.0/cygwin-multi-64int
    /opt/perl5/cygwin_nt-6.1-wow/1.7.35/i686/perl/5.20.0/cygwin-multi-64int/lib/site_perl/5.20.0
    /opt/perl5/cygwin_nt-6.1-wow/1.7.35/i686/perl/5.20.0/cygwin-multi-64int/lib/5.20.0/cygwin-multi-64int
    /opt/perl5/cygwin_nt-6.1-wow/1.7.35/i686/perl/5.20.0/cygwin-multi-64int/lib/5.20.0
    .