Text-VimColor v0.29 Perl 5 v5.32.1 i386-openbsd

Status
Pass
From
Alceu Rodrigues de Freitas Junior
Dist
Text-VimColor v0.29
Platform
Perl 5 v5.32.1 i386-openbsd
Date
2022-06-17 13:38:16
ID
be48c852-ee42-11ec-b737-db65ffa5fe2c
This distribution has been tested as part of the CPAN Testers
project, supporting the Perl programming language.  See
http://wiki.cpantesters.org/ for more information or email
questions to cpan-testers-discuss@perl.org


--
Dear Randy Stauner,

This is a computer-generated report for Text-VimColor-0.29
on perl 5.32.1, created by CPAN-Reporter-1.2018.

Thank you for uploading your work to CPAN.  Congratulations!
All tests were successful.

Sections of this report:

    * Tester comments
    * Program output
    * Prerequisites
    * Environment and other context

------------------------------
TESTER COMMENTS
------------------------------

Additional comments from tester:

this report is from an automated smoke testing program
and was not reviewed by a human for accuracy

------------------------------
PROGRAM OUTPUT
------------------------------

Output from '/usr/bin/make test':

Skip blib/lib/auto/share/dist/Text-VimColor/mark.vim (unchanged)
Skip blib/lib/auto/share/dist/Text-VimColor/light.xsl (unchanged)
Skip blib/lib/auto/share/dist/Text-VimColor/light.css (unchanged)
Skip blib/lib/auto/share/dist/Text-VimColor/define_all.vim (unchanged)
PERL_DL_NONLAZY=1 "/usr/bin/perl" "-MExtUtils::Command::MM" "-MTest::Harness" "-e" "undef *Test::Harness::Switches; test_harness(0, 'blib/lib', 'blib/arch')" t/*.t
t/00-compile.t ......... ok
# 
# Versions for all modules listed in MYMETA.json (including optional ones):
# 
# === Configure Requires ===
# 
#     Module                  Want    Have
#     ----------------------- ---- -------
#     ExtUtils::MakeMaker      any 7.65_01
#     File::ShareDir::Install 0.06    0.13
#     File::Temp               any  0.2311
#     IO::File                 any    1.48
#     IPC::Open3               any    1.21
#     strict                   any    1.11
#     warnings                 any    1.47
# 
# === Build Requires ===
# 
#     Module              Want    Have
#     ------------------- ---- -------
#     ExtUtils::MakeMaker  any 7.65_01
# 
# === Test Requires ===
# 
#     Module                     Want     Have
#     -------------------------- ---- --------
#     Exporter                    any     5.74
#     ExtUtils::MakeMaker         any  7.65_01
#     File::Spec                  any     3.78
#     File::Temp                  any   0.2311
#     IO::Handle                  any     1.48
#     IPC::Open3                  any     1.21
#     Path::Class                0.04     0.37
#     Test::File::ShareDir::Dist  any 1.001002
#     Test::More                 0.88 1.302190
#     lib                         any     0.65
# 
# === Test Recommends ===
# 
#     Module         Want     Have
#     ---------- -------- --------
#     CPAN::Meta 2.120900 2.150010
# 
# === Runtime Requires ===
# 
#     Module          Want   Have
#     --------------- ---- ------
#     Carp             any   1.50
#     File::Copy       any   2.34
#     File::ShareDir   any  1.118
#     File::Temp       any 0.2311
#     Getopt::Long     any   2.52
#     IO::File         any   1.48
#     IPC::Open3       any   1.21
#     Path::Class     0.04   0.37
#     Symbol           any   1.08
#     Term::ANSIColor 1.03   5.01
#     constant         any   1.33
#     strict           any   1.11
#     warnings         any   1.47
# 
# === Runtime Recommends ===
# 
#     Module          Want Have
#     --------------- ---- ----
#     Term::ANSIColor    3 5.01
# 
t/00-report-prereqs.t .. ok
# vim --version
# 
# VIM - Vi IMproved 8.2 (2019 Dec 12, compiled Apr  9 2022 02:23:50)
# Included patches: 1-4600
# Compiled by _pbuild@i386-1.ports.openbsd.org
# Huge version without GUI.  Features included (+) or not (-):
# +acl               +file_in_path      +mouse_urxvt       -tag_any_white
# +arabic            +find_in_path      +mouse_xterm       -tcl
# +autocmd           +float             +multi_byte        +termguicolors
# +autochdir         +folding           +multi_lang        +terminal
# -autoservername    -footer            -mzscheme          +terminfo
# -balloon_eval      +fork()            +netbeans_intg     +termresponse
# +balloon_eval_term +gettext           +num64             +textobjects
# -browse            -hangul_input      +packages          +textprop
# ++builtin_terms    +iconv             +path_extra        +timers
# +byte_offset       +insert_expand     -perl              +title
# +channel           +ipv6              +persistent_undo   -toolbar
# +cindent           +job               +popupwin          +user_commands
# -clientserver      +jumplist          +postscript        +vartabs
# -clipboard         +keymap            +printer           +vertsplit
# +cmdline_compl     +lambda            +profile           +vim9script
# +cmdline_hist      +langmap           -python            +viminfo
# +cmdline_info      +libcall           -python3           +virtualedit
# +comments          +linebreak         +quickfix          +visual
# +conceal           +lispindent        +reltime           +visualextra
# +cryptv            +listcmds          +rightleft         +vreplace
# +cscope            +localmap          -ruby              +wildignore
# +cursorbind        -lua               +scrollbind        +wildmenu
# +cursorshape       +menu              +signs             +windows
# +dialog_con        +mksession         +smartindent       +writebackup
# +diff              +modify_fname      +sodium            -X11
# +digraphs          +mouse             -sound             -xfontset
# -dnd               -mouseshape        +spell             -xim
# -ebcdic            +mouse_dec         +startuptime       -xpm
# +emacs_tags        -mouse_gpm         +statusline        -xsmp
# +eval              -mouse_jsbterm     -sun_workshop      -xterm_clipboard
# +ex_extra          +mouse_netterm     +syntax            -xterm_save
# +extra_search      +mouse_sgr         +tag_binary        
# -farsi             -mouse_sysmouse    -tag_old_static    
#    system vimrc file: "$VIM/vimrc"
#      user vimrc file: "$HOME/.vimrc"
#  2nd user vimrc file: "~/.vim/vimrc"
#       user exrc file: "$HOME/.exrc"
#        defaults file: "$VIMRUNTIME/defaults.vim"
#   fall-back for $VIM: "/usr/local/share/vim"
# Compilation: cc -c -I. -Iproto -DHAVE_CONFIG_H -I/usr/local/include -O2 -pipe -I/usr/local/include -D_REENTRANT -U_FORTIFY_SOURCE -D_FORTIFY_SOURCE=1 
# Linking: cc -L/usr/local/lib -Wl,--as-needed -o vim -lm -lcurses -L/usr/local/lib -lsodium -liconv -lintl 
# 
t/000-vim-version.t .... ok
t/all-syntax-groups.t .. ok
t/ansi.t ............... ok
t/bin.t ................ ok
t/compare-formats.t .... ok
t/encoding.t ........... ok
t/html.t ............... ok
t/input_filename.t ..... ok
t/new.t ................ ok
t/override-options.t ... ok
t/share-dir.t .......... ok
t/tvctestsyn.t ......... ok
t/untie-std-handles.t .. ok
t/vim_let.t ............ ok
t/vim_options.t ........ ok
t/xml.t ................ ok
All tests successful.

Test Summary Report
-------------------
t/encoding.t         (Wstat: 0 Tests: 8 Failed: 0)
  TODO passed:   5-6
Files=18, Tests=146,  9 wallclock secs ( 0.14 usr  0.02 sys +  5.24 cusr  3.07 csys =  8.47 CPU)
Result: PASS

------------------------------
PREREQUISITES
------------------------------

Prerequisite modules loaded:

requires:

    Module                     Need     Have    
    -------------------------- -------- --------
    Carp                       0        1.50    
    constant                   0        1.33    
    File::Copy                 0        2.34    
    File::ShareDir             0        1.118   
    File::Temp                 0        0.2311  
    Getopt::Long               0        2.52    
    IO::File                   0        1.48    
    IPC::Open3                 0        1.21    
    Path::Class                0.04     0.37    
    perl                       5.006    5.032001
    strict                     0        1.11    
    Symbol                     0        1.08    
    Term::ANSIColor            1.03     5.01    
    warnings                   0        1.47    

build_requires:

    Module                     Need     Have    
    -------------------------- -------- --------
    Exporter                   0        5.74    
    ExtUtils::MakeMaker        0        7.65_01 
    File::Spec                 0        3.78    
    File::Temp                 0        0.2311  
    IO::Handle                 0        1.48    
    IPC::Open3                 0        1.21    
    lib                        0        0.65    
    Path::Class                0.04     0.37    
    Test::File::ShareDir::Dist 0        1.001002
    Test::More                 0.88     1.302190

configure_requires:

    Module                     Need     Have    
    -------------------------- -------- --------
    ExtUtils::MakeMaker        0        7.65_01 
    File::ShareDir::Install    0.06     0.13    
    File::Temp                 0        0.2311  
    IO::File                   0        1.48    
    IPC::Open3                 0        1.21    
    perl                       5.006    5.032001
    strict                     0        1.11    
    warnings                   0        1.47    

opt_requires:

    Module                     Need     Have    
    -------------------------- -------- --------
    Term::ANSIColor            3        5.01    

opt_build_requires:

    Module                     Need     Have    
    -------------------------- -------- --------
    CPAN::Meta                 2.120900 2.150010


------------------------------
ENVIRONMENT AND OTHER CONTEXT
------------------------------

Environment variables:

    AUTOMATED_TESTING = 1
    PATH = /home/goku/perl5/bin:/usr/bin:/bin:/usr/sbin:/sbin:/usr/X11R6/bin:/usr/local/bin:/usr/local/sbin
    PERL5LIB = /home/goku/perl5/lib/perl5
    PERL5OPT = 
    PERL5_CPANPLUS_IS_RUNNING = 60089
    PERL5_CPAN_IS_RUNNING = 60089
    PERL5_CPAN_IS_RUNNING_IN_RECURSION = 6441,60089
    PERL_CR_SMOKER_CURRENT = QuadPres-0.30.0
    PERL_EXTUTILS_AUTOINSTALL = --defaultdeps
    PERL_LOCAL_LIB_ROOT = /home/goku/perl5
    PERL_MB_OPT = --install_base "/home/goku/perl5"
    PERL_MM_OPT = INSTALL_BASE=/home/goku/perl5
    PERL_MM_USE_DEFAULT = 1
    PERL_USE_UNSAFE_INC = 1
    SHELL = /bin/ksh
    TERM = xterm-256color

Perl special variables (and OS-specific diagnostics, for MSWin32):

    $^X = /usr/bin/perl
    $UID/$EUID = 1001 / 1001
    $GID = 1002 1002 1001
    $EGID = 1002 1002 1001

Perl module toolchain versions installed:

    Module              Have    
    ------------------- --------
    CPAN                2.34    
    CPAN::Meta          2.150010
    Cwd                 3.78    
    ExtUtils::CBuilder  0.280236
    ExtUtils::Command   7.65_01 
    ExtUtils::Install   2.20    
    ExtUtils::MakeMaker 7.65_01 
    ExtUtils::Manifest  1.73    
    ExtUtils::ParseXS   3.44    
    File::Spec          3.78    
    JSON                4.06    
    JSON::PP            4.09    
    Module::Build       0.4231  
    Module::Signature   n/a     
    Parse::CPAN::Meta   2.150010
    Test::Harness       3.44    
    Test::More          1.302190
    YAML                1.30    
    YAML::Syck          1.34    
    version             0.9929  


--

Summary of my perl5 (revision 5 version 32 subversion 1) configuration:
   
  Platform:
    osname=openbsd
    osvers=7.1
    archname=i386-openbsd
    uname='openbsd'
    config_args='-dse -Dopenbsd_distribution=defined -Dmksymlinks'
    hint=recommended
    useposix=true
    d_sigaction=define
    useithreads=undef
    usemultiplicity=undef
    use64bitint=undef
    use64bitall=undef
    uselongdouble=undef
    usemymalloc=n
    default_inc_excludes_dot=define
    bincompat5005=undef
  Compiler:
    cc='cc'
    ccflags ='-DNO_LOCALE_NUMERIC -DNO_LOCALE_COLLATE -fno-strict-aliasing -fno-delete-null-pointer-checks -pipe -fstack-protector-strong -I/usr/local/include'
    optimize='-O2'
    cppflags='-DBIG_TIME -DNO_LOCALE_NUMERIC -DNO_LOCALE_COLLATE -fno-strict-aliasing -fno-delete-null-pointer-checks -pipe -fstack-protector-strong -I/usr/local/include'
    ccversion=''
    gccversion='OpenBSD Clang 13.0.0'
    gccosandvers=''
    intsize=4
    longsize=4
    ptrsize=4
    doublesize=8
    byteorder=1234
    doublekind=3
    d_longlong=define
    longlongsize=8
    d_longdbl=define
    longdblsize=12
    longdblkind=3
    ivtype='long'
    ivsize=4
    nvtype='double'
    nvsize=8
    Off_t='off_t'
    lseeksize=8
    alignbytes=4
    prototype=define
  Linker and Libraries:
    ld='cc'
    ldflags ='-Wl,-E  -fstack-protector-strong -L/usr/local/lib'
    libpth=/usr/lib /usr/lib/clang/13.0.0/lib /usr/lib
    libs=-lm -lc
    perllibs=-lm -lc
    libc=/usr/lib/libc.so.96.1
    so=so
    useshrplib=true
    libperl=libperl.so.22.0
    gnulibc_version=''
  Dynamic Linking:
    dlsrc=dl_dlopen.xs
    dlext=so
    d_dlsymun=undef
    ccdlflags='-Wl,-R/usr/libdata/perl5/i386-openbsd/CORE'
    cccdlflags='-DPIC -fpic '
    lddlflags='-shared -fpic  -fstack-protector-strong -L/usr/local/lib'


Characteristics of this binary (from libperl): 
  Compile-time options:
    HAS_TIMES
    PERLIO_LAYERS
    PERL_COPY_ON_WRITE
    PERL_DONT_CREATE_GVSV
    PERL_MALLOC_WRAP
    PERL_OP_PARENT
    PERL_PRESERVE_IVUV
    USE_LARGE_FILES
    USE_LOCALE
    USE_LOCALE_CTYPE
    USE_LOCALE_TIME
    USE_PERLIO
    USE_PERL_ATOF
  Built under openbsd
  %ENV:
    PERL5LIB="/home/goku/perl5/lib/perl5"
    PERL5OPT=""
    PERL5_CPANPLUS_IS_RUNNING="60089"
    PERL5_CPAN_IS_RUNNING="60089"
    PERL5_CPAN_IS_RUNNING_IN_RECURSION="6441,60089"
    PERL_CR_SMOKER_CURRENT="QuadPres-0.30.0"
    PERL_EXTUTILS_AUTOINSTALL="--defaultdeps"
    PERL_LOCAL_LIB_ROOT="/home/goku/perl5"
    PERL_MB_OPT="--install_base "/home/goku/perl5""
    PERL_MM_OPT="INSTALL_BASE=/home/goku/perl5"
    PERL_MM_USE_DEFAULT="1"
    PERL_USE_UNSAFE_INC="1"
  @INC:
    /home/goku/perl5/lib/perl5/i386-openbsd
    /home/goku/perl5/lib/perl5
    /usr/local/libdata/perl5/site_perl/i386-openbsd
    /usr/local/libdata/perl5/site_perl
    /usr/libdata/perl5/i386-openbsd
    /usr/libdata/perl5
    .