CGI-Application-Plugin-Authentication v0.25 Perl 5 v5.41.13 x86_64-linux-thread-multi
- Status
- Pass
- From
- Andreas J. König (ANDK)
- Dist
-
CGI-Application-Plugin-Authentication v0.25
- Platform
- Perl 5 v5.41.13 x86_64-linux-thread-multi
- Date
- 2025-06-09 12:24:52
- ID
- be4dc9da-452c-11f0-a486-cf2012a5b50f
This distribution has been tested as part of the CPAN Testers
project, supporting the Perl programming language. See
http://wiki.cpantesters.org/ for more information or email
questions to cpan-testers-discuss@perl.org
--
Dear Wes Malone,
This is a computer-generated report for CGI-Application-Plugin-Authentication-0.25
on perl 5.41.13, created by CPAN-Reporter-1.2020.
Thank you for uploading your work to CPAN. Congratulations!
All tests were successful.
Sections of this report:
* Tester comments
* Program output
* Prerequisites
* Environment and other context
------------------------------
TESTER COMMENTS
------------------------------
Additional comments from tester:
this report is from an automated smoke testing program
and was not reviewed by a human for accuracy
------------------------------
PROGRAM OUTPUT
------------------------------
Output from '/usr/bin/make test':
PERL_DL_NONLAZY=1 "/tmp/basesmoker-reloperl-4LZd/bin/perl" "-MExtUtils::Command::MM" "-MTest::Harness" "-e" "undef *Test::Harness::Switches; test_harness(0, 'blib/lib', 'blib/arch')" t/*.t
t/01_basic.t ........................ ok
t/02_config.t ....................... ok
t/03_authenticate.t ................. skipped: CGI::Application::Plugin::Session required for this test
t/03_destination.t .................. ok
# Color::Calc required for this sub test
# Color::Calc required for this sub test
# Color::Calc required for this sub test
# Color::Calc required for this sub test
t/03_login_box.t .................... ok
t/03_login_box_basic.t .............. ok
# Color::Calc required
t/03_login_box_other.t .............. skipped: Color::Calc required
t/03_missing_color.t ................ ok
t/04_attributes.t ................... ok
t/05_autorunmode.t .................. ok
# The following tests have some small time delays
t/06_timeout.t ...................... ok
t/07_protected_runmodes.t ........... ok
t/40_encoder_crypt.t ................ ok
t/40_encoder_lc.t ................... ok
t/40_encoder_md5.t .................. ok
t/40_encoder_sha1.t ................. ok
t/40_encoder_strip.t ................ ok
t/40_encoder_uc.t ................... ok
t/50_driver_missing_modules.t ....... ok
t/50_driver_undefined.t ............. ok
t/51_driver_dummy.t ................. ok
t/52_driver_generic.t ............... ok
t/53_driver_dbi.t ................... ok
t/53_driver_dbi_bad.t ............... ok
t/53_driver_dbi_die.t ............... ok
t/53_driver_dbi_syntax.t ............ ok
t/54_driver_htpasswd.t .............. ok
t/55_driver_authensimple.t .......... ok
t/55_driver_authensimple_die.t ...... ok
t/55_driver_missing_authensimple.t .. ok
t/60_parsimony.t .................... skipped: CGI::Application::Plugin::Session etc required for this test
t/60_store.t ........................ ok
t/60_store_cookie.t ................. ok
t/60_store_session.t ................ skipped: CGI::Application::Plugin::Session required for this test
t/61_cookie_badargs.t ............... ok
t/61_store_cookie_noexpiry.t ........ ok
t/61_store_cookie_other.t ........... ok
t/70_action_dispatch.t .............. skipped: CGI::Application::Plugin::ActionDispatch required
t/80_devpopup.t ..................... ok
t/98_pod.t .......................... skipped: Author test. Set $ENV{TEST_AUTHOR} to a true value to run.
t/99_pod_coverage.t ................. skipped: Author test. Set $ENV{TEST_AUTHOR} to a true value to run.
t/author-pod-syntax.t ............... skipped: these tests are for testing by the author
t/changes.t ......................... skipped: Author test. Set $ENV{TEST_AUTHOR} to a true value to run.
t/manifest.t ........................ skipped: Author test. Set $ENV{TEST_AUTHOR} to a true value to run.
t/podspell.t ........................ skipped: Author test. Set $ENV{TEST_AUTHOR} to a true value to run.
t/prereq.t .......................... skipped: Author test. Set $ENV{TEST_PREREQ} to a true value to run.
t/release-changes_has_content.t ..... skipped: these tests are for release candidate testing
All tests successful.
Files=47, Tests=544, 10 wallclock secs ( 0.17 usr 0.08 sys + 4.80 cusr 0.78 csys = 5.83 CPU)
Result: PASS
------------------------------
PREREQUISITES
------------------------------
Prerequisite modules loaded:
requires:
Module Need Have
--------------------------------- -------- ----------
Attribute::Handlers 0 1.03
CGI 3.16 4.68
CGI::Application 4 4.61
Class::ISA 0 0.36
Digest::SHA 0 6.04
MIME::Base64 0 3.16_01
perl 5.008 5.041013
Scalar::Util 0 1.69
UNIVERSAL::require 0 0.19
build_requires:
Module Need Have
--------------------------------- -------- ----------
ExtUtils::MakeMaker 0 7.76
Readonly 0 2.05
Test::Exception 0 0.43
Test::MockObject 0 1.20200122
Test::More 1.302015 1.302214
Test::NoWarnings 0 1.06
Test::Regression 0 0.08
Test::Taint 0 1.08
Test::Warn 0.11 0.37
Test::Without::Module 0 0.23
configure_requires:
Module Need Have
--------------------------------- -------- ----------
ExtUtils::MakeMaker 0 7.76
opt_requires:
Module Need Have
--------------------------------- -------- ----------
Apache::Htpasswd 1.8 1.9
! CGI::Application::Plugin::Session 0 n/a
! Color::Calc 0.12 n/a
Digest::MD5 0 2.59
------------------------------
ENVIRONMENT AND OTHER CONTEXT
------------------------------
Environment variables:
AUTOMATED_TESTING = 1
LANG = en_US.UTF-8
PATH = /home/sand/bin:/usr/local/bin:/usr/local/sbin:/usr/sbin:/usr/bin:/sbin:/bin:/usr/games:/usr/local/games:/snap/bin:/usr/local/perl/bin:/usr/X11/bin
PERL = /tmp/basesmoker-reloperl-4LZd/bin/perl
PERL5LIB = /tmp/loop_over_bdir-3076096-jK6IpR/App-rmcd-0.280-0/blib/arch:/tmp/loop_over_bdir-3076096-jK6IpR/App-rmcd-0.280-0/blib/lib:/tmp/loop_over_bdir-3076096-jK6IpR/shishi-0.0.1-0/blib/arch:/tmp/loop_over_bdir-3076096-jK6IpR/shishi-0.0.1-0/blib/lib
PERL5OPT =
PERL5_CPANPLUS_IS_RUNNING = 3076125
PERL5_CPAN_IS_RUNNING = 3076125
PERL_CANARY_STABILITY_NOPROMPT = 1
PERL_MM_USE_DEFAULT = 1
PERL_USE_UNSAFE_INC = 1
SHELL = /usr/bin/zsh
TERM = screen
Perl special variables (and OS-specific diagnostics, for MSWin32):
$^X = /tmp/basesmoker-reloperl-4LZd/bin/perl
$UID/$EUID = 1005 / 1005
$GID = 1005 1005
$EGID = 1005 1005
Perl module toolchain versions installed:
Module Have
------------------- --------
CPAN 2.38
CPAN::Meta 2.150010
Cwd 3.94
ExtUtils::CBuilder 0.280241
ExtUtils::Command 7.76
ExtUtils::Install 2.22
ExtUtils::MakeMaker 7.76
ExtUtils::Manifest 1.75
ExtUtils::ParseXS 3.57
File::Spec 3.94
JSON 4.10
JSON::PP 4.16
Module::Build 0.4234
Module::Signature 0.89
Parse::CPAN::Meta 2.150010
Test2 1.302214
Test::Harness 3.52
Test::More 1.302214
YAML 1.31
YAML::Syck 1.34
version 0.9933
--
Summary of my perl5 (revision 5 version 41 subversion 13) configuration:
Commit id: d2160cfe5bf88d5cf4234c7f8e2896a025383549
Platform:
osname=linux
osvers=5.4.0-208-generic
archname=x86_64-linux-thread-multi
uname='linux k93focal 5.4.0-208-generic #228-ubuntu smp fri feb 7 19:41:33 utc 2025 x86_64 x86_64 x86_64 gnulinux '
config_args='-Dprefix=/home/sand/src/perl/repoperls/installed-perls/host/k93focal/v5.41.13/d119 -Dmyhostname=k93focal -Dinstallusrbinperl=n -Uversiononly -Dusedevel -des -Ui_db -Dlibswanted=cl pthread socket inet nsl gdbm dbm malloc dl ld sun m crypt sec util c cposix posix ucb BSD gdbm_compat -Duseithreads -Uuselongdouble -DEBUGGING=both'
hint=recommended
useposix=true
d_sigaction=define
useithreads=define
usemultiplicity=define
use64bitint=define
use64bitall=define
uselongdouble=undef
usemymalloc=n
default_inc_excludes_dot=define
Compiler:
cc='cc'
ccflags ='-D_REENTRANT -D_GNU_SOURCE -fwrapv -DDEBUGGING -fno-strict-aliasing -pipe -fstack-protector-strong -I/usr/local/include -D_LARGEFILE_SOURCE -D_FILE_OFFSET_BITS=64'
optimize='-O2 -g'
cppflags='-D_REENTRANT -D_GNU_SOURCE -fwrapv -DDEBUGGING -fno-strict-aliasing -pipe -fstack-protector-strong -I/usr/local/include'
ccversion=''
gccversion='9.4.0'
gccosandvers=''
intsize=4
longsize=8
ptrsize=8
doublesize=8
byteorder=12345678
doublekind=3
d_longlong=define
longlongsize=8
d_longdbl=define
longdblsize=16
longdblkind=3
ivtype='long'
ivsize=8
nvtype='double'
nvsize=8
Off_t='off_t'
lseeksize=8
alignbytes=8
prototype=define
Linker and Libraries:
ld='cc'
ldflags =' -fstack-protector-strong -L/usr/local/lib'
libpth=/usr/local/lib /usr/lib/x86_64-linux-gnu /usr/lib /usr/lib64
libs=-lpthread -lnsl -ldl -lm -lcrypt -lutil -lc
perllibs=-lpthread -lnsl -ldl -lm -lcrypt -lutil -lc
libc=libc-2.31.so
so=so
useshrplib=false
libperl=libperl.a
gnulibc_version='2.31'
Dynamic Linking:
dlsrc=dl_dlopen.xs
dlext=so
d_dlsymun=undef
ccdlflags='-Wl,-E'
cccdlflags='-fPIC'
lddlflags='-shared -O2 -g -L/usr/local/lib -fstack-protector-strong'
Characteristics of this binary (from libperl):
Compile-time options:
DEBUGGING
HAS_LONG_DOUBLE
HAS_STRTOLD
HAS_TIMES
MULTIPLICITY
PERLIO_LAYERS
PERL_COPY_ON_WRITE
PERL_DONT_CREATE_GVSV
PERL_HASH_FUNC_SIPHASH13
PERL_HASH_USE_SBOX32
PERL_MALLOC_WRAP
PERL_OP_PARENT
PERL_PRESERVE_IVUV
PERL_TRACK_MEMPOOL
PERL_USE_DEVEL
PERL_USE_SAFE_PUTENV
USE_64_BIT_ALL
USE_64_BIT_INT
USE_ITHREADS
USE_LARGE_FILES
USE_LOCALE
USE_LOCALE_COLLATE
USE_LOCALE_CTYPE
USE_LOCALE_NUMERIC
USE_LOCALE_TIME
USE_PERLIO
USE_PERL_ATOF
USE_REENTRANT_API
USE_THREAD_SAFE_LOCALE
Built under linux
Compiled at May 29 2025 12:23:41
%ENV:
PERL="/tmp/basesmoker-reloperl-4LZd/bin/perl"
PERL5LIB="/tmp/loop_over_bdir-3076096-jK6IpR/App-rmcd-0.280-0/blib/arch:/tmp/loop_over_bdir-3076096-jK6IpR/App-rmcd-0.280-0/blib/lib:/tmp/loop_over_bdir-3076096-jK6IpR/shishi-0.0.1-0/blib/arch:/tmp/loop_over_bdir-3076096-jK6IpR/shishi-0.0.1-0/blib/lib"
PERL5OPT=""
PERL5_CPANPLUS_IS_RUNNING="3076125"
PERL5_CPAN_IS_RUNNING="3076125"
PERL_CANARY_STABILITY_NOPROMPT="1"
PERL_MM_USE_DEFAULT="1"
PERL_USE_UNSAFE_INC="1"
@INC:
/tmp/loop_over_bdir-3076096-jK6IpR/App-rmcd-0.280-0/blib/arch
/tmp/loop_over_bdir-3076096-jK6IpR/App-rmcd-0.280-0/blib/lib
/tmp/loop_over_bdir-3076096-jK6IpR/shishi-0.0.1-0/blib/arch
/tmp/loop_over_bdir-3076096-jK6IpR/shishi-0.0.1-0/blib/lib
/home/sand/src/perl/repoperls/installed-perls/host/k93focal/v5.41.13/d119/lib/site_perl/5.41.13/x86_64-linux-thread-multi
/home/sand/src/perl/repoperls/installed-perls/host/k93focal/v5.41.13/d119/lib/site_perl/5.41.13
/home/sand/src/perl/repoperls/installed-perls/host/k93focal/v5.41.13/d119/lib/5.41.13/x86_64-linux-thread-multi
/home/sand/src/perl/repoperls/installed-perls/host/k93focal/v5.41.13/d119/lib/5.41.13
.