Algorithm-CurveFit-Simple v1.03 Perl 5 v5.26.3 x86_64-linux
- Status
- Pass
- From
- Slaven Rezić (SREZIC)
- Dist
-
Algorithm-CurveFit-Simple v1.03
- Platform
- Perl 5 v5.26.3 x86_64-linux
- Date
- 2018-12-03 16:08:59
- ID
- be552872-f715-11e8-8cb4-f44afeb679ea
This distribution has been tested as part of the CPAN Testers
project, supporting the Perl programming language. See
http://wiki.cpantesters.org/ for more information or email
questions to cpan-testers-discuss@perl.org
--
Dear Bill Moyer,
This is a computer-generated report for Algorithm-CurveFit-Simple-1.03
on perl 5.26.3, created by CPAN-Reporter-1.2018.
Thank you for uploading your work to CPAN. Congratulations!
All tests were successful.
Sections of this report:
* Tester comments
* Program output
* Prerequisites
* Environment and other context
------------------------------
TESTER COMMENTS
------------------------------
Additional comments from tester:
none provided
------------------------------
PROGRAM OUTPUT
------------------------------
Output from '/usr/bin/make test':
PERL_DL_NONLAZY=1 "/opt/perl-5.26.3/bin/perl5.26.3" "-MExtUtils::Command::MM" "-MTest::Harness" "-e" "undef *Test::Harness::Switches; test_harness(0, 'blib/lib', 'blib/arch')" t/*.t
t/00-fit.t ................ ok
t/01-init-formula.t ....... ok
t/02-init-data.t .......... ok
t/03-init-parameters.t .... ok
t/04-implement-formula.t .. ok
All tests successful.
Files=5, Tests=94, 1 wallclock secs ( 0.05 usr 0.01 sys + 1.01 cusr 0.19 csys = 1.26 CPU)
Result: PASS
------------------------------
PREREQUISITES
------------------------------
Prerequisite modules loaded:
requires:
Module Need Have
------------------- ----- --------
Algorithm::CurveFit 0 1.05
Exporter 0 5.72
JSON::PP 0 2.97001
lib 0 0.64
strict 0 1.11
Time::HiRes 0 1.9741
warnings 0 1.37
build_requires:
Module Need Have
------------------- ----- --------
ExtUtils::MakeMaker 0 7.24
Test::Most 0 0.35
configure_requires:
Module Need Have
------------------- ----- --------
ExtUtils::MakeMaker 0 7.24
perl 5.010 5.026003
------------------------------
ENVIRONMENT AND OTHER CONTEXT
------------------------------
Environment variables:
LANG = en_US.UTF-8
LC_ALL = de_DE.UTF-8
PATH = /usr/local/bin:/usr/bin:/bin:/usr/local/sbin:/usr/sbin:/sbin:/home/cpansand/bin/linux-gnu:/home/cpansand/bin/sh:/home/cpansand/bin:/usr/games:/home/cpansand/devel:/home/eserte/src/srezic-misc/scripts
PERL5LIB = /home/cpansand/.cpan/build/2018120317/Algorithm-CurveFit-1.05-0/blib/arch:/home/cpansand/.cpan/build/2018120317/Algorithm-CurveFit-1.05-0/blib/lib:/home/cpansand/.cpan/build/2018120317/Math-Symbolic-0.612-0/blib/arch:/home/cpansand/.cpan/build/2018120317/Math-Symbolic-0.612-0/blib/lib:/home/cpansand/.cpan/build/2018120317/Math-MatrixReal-2.13-0/blib/arch:/home/cpansand/.cpan/build/2018120317/Math-MatrixReal-2.13-0/blib/lib
PERL5OPT =
PERL5_CPANPLUS_IS_RUNNING = 19142
PERL5_CPAN_IS_RUNNING = 19142
PERL5_CPAN_IS_RUNNING_IN_RECURSION = 21908,19142
PERLDOC = -MPod::Perldoc::ToTextOverstrike
PERL_BATCH = yes
PERL_CANARY_STABILITY_NOPROMPT = 1
PERL_CPAN_REPORTER_CONFIG = /var/tmp/cpansmoker-1023/2018120307/cpanreporter_001_config.ini
PERL_EXTUTILS_AUTOINSTALL = --defaultdeps
PERL_PARALLEL_SMOKER = yes
PERL_USE_UNSAFE_INC = 1
SHELL = /usr/bin/zsh
TERM = screen
TMPDIR = /var/tmp/cpansmoker-1023/2018120307
Perl special variables (and OS-specific diagnostics, for MSWin32):
$^X = /opt/perl-5.26.3/bin/perl5.26.3
$UID/$EUID = 1023 / 1023
$GID = 1023 1023
$EGID = 1023 1023
Perl module toolchain versions installed:
Module Have
------------------- --------
CPAN 2.18
CPAN::Meta 2.150010
Cwd 3.67
ExtUtils::CBuilder 0.280225
ExtUtils::Command 7.24
ExtUtils::Install 2.04
ExtUtils::MakeMaker 7.24
ExtUtils::Manifest 1.70
ExtUtils::ParseXS 3.34
File::Spec 3.67
JSON 2.97001
JSON::PP 2.97001
Module::Build 0.4224
Module::Signature 0.83
Parse::CPAN::Meta 2.150010
Test::Harness 3.38
Test::More 1.302140
YAML 1.27
YAML::Syck 1.31
version 0.9917
--
Summary of my perl5 (revision 5 version 26 subversion 3) configuration:
Platform:
osname=linux
osvers=3.10.0-862.14.4.el7.x86_64
archname=x86_64-linux
uname='linux centos-4gb-hel1-1 3.10.0-862.14.4.el7.x86_64 #1 smp wed sep 26 15:12:11 utc 2018 x86_64 x86_64 x86_64 gnulinux '
config_args='-ds -e -Dprefix=/opt/perl-5.26.3 -Dcf_email=srezic@cpan.org'
hint=recommended
useposix=true
d_sigaction=define
useithreads=undef
usemultiplicity=undef
use64bitint=define
use64bitall=define
uselongdouble=undef
usemymalloc=n
default_inc_excludes_dot=define
bincompat5005=undef
Compiler:
cc='cc'
ccflags ='-fwrapv -fno-strict-aliasing -pipe -fstack-protector-strong -I/usr/local/include -D_LARGEFILE_SOURCE -D_FILE_OFFSET_BITS=64 -D_FORTIFY_SOURCE=2'
optimize='-O2'
cppflags='-fwrapv -fno-strict-aliasing -pipe -fstack-protector-strong -I/usr/local/include'
ccversion=''
gccversion='4.8.5 20150623 (Red Hat 4.8.5-28)'
gccosandvers=''
intsize=4
longsize=8
ptrsize=8
doublesize=8
byteorder=12345678
doublekind=3
d_longlong=define
longlongsize=8
d_longdbl=define
longdblsize=16
longdblkind=3
ivtype='long'
ivsize=8
nvtype='double'
nvsize=8
Off_t='off_t'
lseeksize=8
alignbytes=8
prototype=define
Linker and Libraries:
ld='cc'
ldflags =' -fstack-protector-strong -L/usr/local/lib'
libpth=/usr/local/lib /usr/lib /lib/../lib64 /usr/lib/../lib64 /lib /lib64 /usr/lib64 /usr/local/lib64
libs=-lpthread -lnsl -lgdbm -ldb -ldl -lm -lcrypt -lutil -lc -lgdbm_compat
perllibs=-lpthread -lnsl -ldl -lm -lcrypt -lutil -lc
libc=libc-2.17.so
so=so
useshrplib=false
libperl=libperl.a
gnulibc_version='2.17'
Dynamic Linking:
dlsrc=dl_dlopen.xs
dlext=so
d_dlsymun=undef
ccdlflags='-Wl,-E'
cccdlflags='-fPIC'
lddlflags='-shared -O2 -L/usr/local/lib -fstack-protector-strong'
Characteristics of this binary (from libperl):
Compile-time options:
HAS_TIMES
PERLIO_LAYERS
PERL_COPY_ON_WRITE
PERL_DONT_CREATE_GVSV
PERL_MALLOC_WRAP
PERL_OP_PARENT
PERL_PRESERVE_IVUV
USE_64_BIT_ALL
USE_64_BIT_INT
USE_LARGE_FILES
USE_LOCALE
USE_LOCALE_COLLATE
USE_LOCALE_CTYPE
USE_LOCALE_NUMERIC
USE_LOCALE_TIME
USE_PERLIO
USE_PERL_ATOF
Built under linux
Compiled at Nov 29 2018 22:53:06
%ENV:
PERL5LIB="/home/cpansand/.cpan/build/2018120317/Algorithm-CurveFit-1.05-0/blib/arch:/home/cpansand/.cpan/build/2018120317/Algorithm-CurveFit-1.05-0/blib/lib:/home/cpansand/.cpan/build/2018120317/Math-Symbolic-0.612-0/blib/arch:/home/cpansand/.cpan/build/2018120317/Math-Symbolic-0.612-0/blib/lib:/home/cpansand/.cpan/build/2018120317/Math-MatrixReal-2.13-0/blib/arch:/home/cpansand/.cpan/build/2018120317/Math-MatrixReal-2.13-0/blib/lib"
PERL5OPT=""
PERL5_CPANPLUS_IS_RUNNING="19142"
PERL5_CPAN_IS_RUNNING="19142"
PERL5_CPAN_IS_RUNNING_IN_RECURSION="21908,19142"
PERLDOC="-MPod::Perldoc::ToTextOverstrike"
PERL_BATCH="yes"
PERL_CANARY_STABILITY_NOPROMPT="1"
PERL_CPAN_REPORTER_CONFIG="/var/tmp/cpansmoker-1023/2018120307/cpanreporter_001_config.ini"
PERL_EXTUTILS_AUTOINSTALL="--defaultdeps"
PERL_PARALLEL_SMOKER="yes"
PERL_USE_UNSAFE_INC="1"
@INC:
/home/cpansand/.cpan/build/2018120317/Algorithm-CurveFit-1.05-0/blib/arch
/home/cpansand/.cpan/build/2018120317/Algorithm-CurveFit-1.05-0/blib/lib
/home/cpansand/.cpan/build/2018120317/Math-Symbolic-0.612-0/blib/arch
/home/cpansand/.cpan/build/2018120317/Math-Symbolic-0.612-0/blib/lib
/home/cpansand/.cpan/build/2018120317/Math-MatrixReal-2.13-0/blib/arch
/home/cpansand/.cpan/build/2018120317/Math-MatrixReal-2.13-0/blib/lib
/opt/perl-5.26.3/lib/site_perl/5.26.3/x86_64-linux
/opt/perl-5.26.3/lib/site_perl/5.26.3
/opt/perl-5.26.3/lib/5.26.3/x86_64-linux
/opt/perl-5.26.3/lib/5.26.3
.