Report for Dist-Zilla-Plugin-ChangesFromYaml-0.004

Back
From: metabase:user:320bfe00-2aae-11df-837a-5e0a49663a4f
Subject: PASS Dist-Zilla-Plugin-ChangesFromYaml-0.004 v5.10.0 GNU/Linux
Date: 2014-08-02T03:54:46Z

This distribution has been tested as part of the CPAN Testers
project, supporting the Perl programming language.  See
http://wiki.cpantesters.org/ for more information or email
questions to cpan-testers-discuss@perl.org


--
Dear Carlos Lima,

This is a computer-generated report for Dist-Zilla-Plugin-ChangesFromYaml-0.004
on perl 5.10.0, created by CPAN-Reporter-1.2011.

Thank you for uploading your work to CPAN.  Congratulations!
All tests were successful.

Sections of this report:

    * Tester comments
    * Program output
    * Prerequisites
    * Environment and other context

------------------------------
TESTER COMMENTS
------------------------------

Additional comments from tester:

this report is from an automated smoke testing program
and was not reviewed by a human for accuracy

------------------------------
PROGRAM OUTPUT
------------------------------

Output from '/usr/bin/make test':

PERL_DL_NONLAZY=1 /home/sand/src/perl/repoperls/installed-perls/perl/perl-5.10.0/5da8/bin/perl "-MExtUtils::Command::MM" "-MTest::Harness" "-e" "undef *Test::Harness::Switches; test_harness(0, 'blib/lib', 'blib/arch')" t/*.t
t/00-compile.t ................ ok
# 

# Generated by Dist::Zilla::Plugin::ReportVersions::Tiny v1.10
# perl: 5.010000 (wanted 5.010) on linux from /home/sand/src/perl/repoperls/installed-perls/perl/perl-5.10.0/5da8/bin/perl
# 
# CPAN::Changes                                 => 0.30       (want any version)
# Carp                                          => 1.3301     (want any version)
# DateTime::Format::CLDR                        => 1.15       (want any version)
# Dist::Zilla::Role::FileMunger                 => 5.020      (want any version)
# Exporter                                      => 5.70       (want any version)
# ExtUtils::MakeMaker                           => 6.98       (want 6.30)   
# File::Spec                                    => 3.47       (want any version)
# File::Temp                                    => 0.2304     (want any version)
# IO::Handle                                    => 1.27       (want any version)
# IPC::Open3                                    => 1.02       (want any version)
# Moose                                         => 2.1210     (want any version)
# Test::DZil                                    => 5.020      (want any version)
# Test::More                                    => 1.301001018 (want 0.88)   
# YAML::XS                                      => 0.44       (want any version)
# namespace::autoclean                          => 0.19       (want any version)
# strict                                        => 1.04       (want any version)
# warnings                                      => 1.06       (want any version)
# 
# Thanks for using my code.  I hope it works for you.
# If not, please try and include this output in the bug report.
# That will help me reproduce the issue and solve your problem.
# 
t/000-report-versions-tiny.t .. ok
t/01basic.t ................... ok
t/02dateformat.t .............. ok
t/author-pod-spell.t .......... skipped: these tests are for testing by the author
t/release-distmeta.t .......... skipped: these tests are for release candidate testing
t/release-eol.t ............... skipped: these tests are for release candidate testing
t/release-no-tabs.t ........... skipped: these tests are for release candidate testing
t/release-pod-syntax.t ........ skipped: these tests are for release candidate testing
t/release-test-version.t ...... skipped: these tests are for release candidate testing
All tests successful.
Files=10, Tests=5,  9 wallclock secs ( 0.04 usr  0.01 sys +  4.57 cusr  0.38 csys =  5.00 CPU)
Result: PASS

------------------------------
PREREQUISITES
------------------------------

Prerequisite modules loaded:

requires:

    Module                        Need Have        
    ----------------------------- ---- ------------
    Carp                          0    1.3301      
    CPAN::Changes                 0    0.30        
    DateTime::Format::CLDR        0    1.15        
    Dist::Zilla::Role::FileMunger 0    5.020       
    Exporter                      0    5.70        
    Moose                         0    2.1210      
    namespace::autoclean          0    0.19        
    strict                        0    1.04        
    warnings                      0    1.06        
    YAML::XS                      0    0.44        

build_requires:

    Module                        Need Have        
    ----------------------------- ---- ------------
    File::Spec                    0    3.47        
    File::Temp                    0    0.2304      
    IO::Handle                    0    1.27        
    IPC::Open3                    0    1.02        
    Test::DZil                    0    5.020       
    Test::More                    0.88 1.301001_018

configure_requires:

    Module                        Need Have        
    ----------------------------- ---- ------------
    ExtUtils::MakeMaker           6.30 6.98        


------------------------------
ENVIRONMENT AND OTHER CONTEXT
------------------------------

Environment variables:

    AUTOMATED_TESTING = 1
    LANG = en_US.UTF-8
    LANGUAGE = en_US:en
    PATH = /usr/lib/ccache:/home/sand/bin:/usr/local/bin:/usr/bin:/bin:/usr/games:/usr/local/perl/bin:/usr/X11/bin:/sbin:/usr/sbin
    PERL5LIB = 
    PERL5OPT = 
    PERL5_CPANPLUS_IS_RUNNING = 18599
    PERL5_CPAN_IS_RUNNING = 18599
    PERL_MM_USE_DEFAULT = 1
    SHELL = /usr/bin/zsh
    TERM = screen

Perl special variables (and OS-specific diagnostics, for MSWin32):

    $^X = /home/sand/src/perl/repoperls/installed-perls/perl/perl-5.10.0/5da8/bin/perl
    $UID/$EUID = 1005 / 1005
    $GID = 1005 1005
    $EGID = 1005 1005

Perl module toolchain versions installed:

    Module              Have        
    ------------------- ------------
    CPAN                2.05        
    CPAN::Meta          2.142060    
    Cwd                 3.47        
    ExtUtils::CBuilder  0.280216    
    ExtUtils::Command   1.16        
    ExtUtils::Install   1.54        
    ExtUtils::MakeMaker 6.98        
    ExtUtils::Manifest  1.60        
    ExtUtils::ParseXS   3.24        
    File::Spec          3.47        
    JSON                2.90        
    JSON::PP            2.27203     
    Module::Build       0.4206      
    Module::Signature   0.73        
    Parse::CPAN::Meta   1.4414      
    Test::Harness       3.32        
    Test::More          1.301001_018
    YAML                0.98        
    YAML::Syck          1.27        
    version             0.88        


--

Summary of my perl5 (revision 5 version 10 subversion 0) configuration:
  Platform:
    osname=linux, osvers=3.14-2-amd64, archname=x86_64-linux
    uname='linux k83 3.14-2-amd64 #1 smp debian 3.14.13-2 (2014-07-24) x86_64 gnulinux '
    config_args='-Dprefix=/home/sand/src/perl/repoperls/installed-perls/perl/perl-5.10.0/5da8 -Dmyhostname=k83 -Dinstallusrbinperl=n -Uversiononly -Dusedevel -des -Ui_db -Uuseithreads -Uuselongdouble -DDEBUGGING=-g -Dusedl -Ddlsrc=dl_dlopen.xs -Dlibs=-lnsl -ldb -ldl -lm -lcrypt -lutil -lc -Dlibpth=/usr/lib/x86_64-linux-gnu /usr/local/lib /lib /usr/lib'
    hint=recommended, useposix=true, d_sigaction=define
    useithreads=undef, usemultiplicity=undef
    useperlio=define, d_sfio=undef, uselargefiles=define, usesocks=undef
    use64bitint=define, use64bitall=define, uselongdouble=undef
    usemymalloc=n, bincompat5005=undef
  Compiler:
    cc='cc', ccflags ='-fno-strict-aliasing -pipe -I/usr/local/include -D_LARGEFILE_SOURCE -D_FILE_OFFSET_BITS=64',
    optimize='-O2 -g',
    cppflags='-fno-strict-aliasing -pipe -I/usr/local/include'
    ccversion='', gccversion='4.9.1', gccosandvers=''
    intsize=4, longsize=8, ptrsize=8, doublesize=8, byteorder=12345678
    d_longlong=define, longlongsize=8, d_longdbl=define, longdblsize=16
    ivtype='long', ivsize=8, nvtype='double', nvsize=8, Off_t='off_t', lseeksize=8
    alignbytes=8, prototype=define
  Linker and Libraries:
    ld='cc', ldflags =' -L/usr/local/lib'
    libpth=/usr/lib/x86_64-linux-gnu /usr/local/lib /lib /usr/lib
    libs=-lnsl -ldb -ldl -lm -lcrypt -lutil -lc
    perllibs=-lnsl -ldl -lm -lcrypt -lutil -lc
    libc=, so=so, useshrplib=false, libperl=libperl.a
    gnulibc_version='2.19'
  Dynamic Linking:
    dlsrc=dl_dlopen.xs, dlext=so, d_dlsymun=undef, ccdlflags='-Wl,-E'
    cccdlflags='-fPIC', lddlflags='-shared -O2 -g -L/usr/local/lib'


Characteristics of this binary (from libperl): 
  Compile-time options: PERL_DONT_CREATE_GVSV PERL_MALLOC_WRAP USE_64_BIT_ALL
                        USE_64_BIT_INT USE_LARGE_FILES USE_PERLIO
  Built under linux
  Compiled at Aug  1 2014 13:44:16
  %ENV:
    PERL5LIB=""
    PERL5OPT=""
    PERL5_CPANPLUS_IS_RUNNING="18599"
    PERL5_CPAN_IS_RUNNING="18599"
    PERL_MM_USE_DEFAULT="1"
  @INC:
    /home/sand/src/perl/repoperls/installed-perls/perl/perl-5.10.0/5da8/lib/5.10.0/x86_64-linux
    /home/sand/src/perl/repoperls/installed-perls/perl/perl-5.10.0/5da8/lib/5.10.0
    /home/sand/src/perl/repoperls/installed-perls/perl/perl-5.10.0/5da8/lib/site_perl/5.10.0/x86_64-linux
    /home/sand/src/perl/repoperls/installed-perls/perl/perl-5.10.0/5da8/lib/site_perl/5.10.0
    .