Report for Dist-Zilla-PluginBundle-Author-Celogeek-1.1

Back
From: metabase:user:b53c7f44-4c0e-11e4-9ced-a04ade49192c
Subject: PASS Dist-Zilla-PluginBundle-Author-Celogeek-1.1 v5.14.1 GNU/Linux
Date: 2015-05-18T09:17:45Z

This distribution has been tested as part of the CPAN Testers
project, supporting the Perl programming language.  See
http://wiki.cpantesters.org/ for more information or email
questions to cpan-testers-discuss@perl.org


--
Dear celogeek,

This is a computer-generated report for Dist-Zilla-PluginBundle-Author-Celogeek-1.1
on perl 5.14.1, created by CPAN-Reporter-1.2011.

Thank you for uploading your work to CPAN.  Congratulations!
All tests were successful.

Sections of this report:

    * Tester comments
    * Program output
    * Prerequisites
    * Environment and other context

------------------------------
TESTER COMMENTS
------------------------------

Additional comments from tester:

this report is from an automated smoke testing program
and was not reviewed by a human for accuracy

------------------------------
PROGRAM OUTPUT
------------------------------

Output from './Build test':

t/00-compile.t ............ ok
# Testing with Perl 5.014001, /opt/perl492-32-O0-5.14.1/bin/perl
#     Carp version is 1.36
#     Class::MOP version is 2.1404
#     Dist::Zilla::App::Command::cover version is 1.101001
#     Dist::Zilla::Plugin::AutoPrereqs version is 5.036
#     Dist::Zilla::Plugin::CheckChangeLog version is 0.02
#     Dist::Zilla::Plugin::Git::NextVersion version is 2.033
#     Dist::Zilla::Plugin::MetaConfig version is 5.036
#     Dist::Zilla::Plugin::MetaJSON version is 5.036
#     Dist::Zilla::Plugin::MetaResourcesFromGit version is 1.103620
#     Dist::Zilla::Plugin::MinimumPerl version is 1.006
#     Dist::Zilla::Plugin::ModuleBuild version is 5.036
#     Dist::Zilla::Plugin::NextRelease version is 5.036
#     Dist::Zilla::Plugin::OurPkgVersion version is 0.06
#     Dist::Zilla::Plugin::PerlTidy version is 0.21
#     Dist::Zilla::Plugin::PodCoverageTests version is 5.036
#     Dist::Zilla::Plugin::PodWeaver version is 4.006
#     Dist::Zilla::Plugin::Prepender version is 2.001
#     Dist::Zilla::Plugin::Prereqs version is 5.036
#     Dist::Zilla::Plugin::PruneFiles version is 5.036
#     Dist::Zilla::Plugin::ReadmeMarkdownFromPod version is 0.141140
#     Dist::Zilla::Plugin::ReportVersions version is 1.110730
#     Dist::Zilla::Plugin::Run::BeforeRelease version is 0.037
#     Dist::Zilla::Plugin::Test::Compile version is 2.052
#     Dist::Zilla::Plugin::Test::Perl::Critic version is 3.000
#     Dist::Zilla::Plugin::Test::UnusedVars version is 2.000007
#     Dist::Zilla::PluginBundle::Filter version is 5.036
#     Dist::Zilla::PluginBundle::Git version is 2.033
#     Dist::Zilla::Role::PluginBundle::Easy version is 5.036
#     Dist::Zilla::Role::PluginBundle::PluginRemover version is 0.103
#     File::Spec version is 3.47
#     IO::All version is 0.86
#     IO::Handle version is 1.31
#     IPC::Open3 version is 1.09
#     Module::Build version is 0.4212
#     Moose version is 2.1404
#     Pod::Coverage::TrustPod version is 0.100003
#     Pod::Weaver::Config::Assembler version is 4.012
#     Scalar::Util version is 1.42
#     Test::More version is 1.001014
#     Test::Perl::Critic version is 1.03
#     namespace::autoclean version is 0.24
#     strict version is 1.04
#     warnings version is 1.12
t/000-report-versions.t ... ok
t/author-critic.t ......... skipped: these tests are for testing by the author
t/release-pod-coverage.t .. skipped: these tests are for release candidate testing
t/release-unused-vars.t ... skipped: these tests are for release candidate testing
All tests successful.
Files=5, Tests=45, 24 wallclock secs ( 0.21 usr  0.02 sys + 22.93 cusr  0.71 csys = 23.87 CPU)
Result: PASS

------------------------------
PREREQUISITES
------------------------------

Prerequisite modules loaded:

requires:

    Module                                         Need   Have    
    ---------------------------------------------- ------ --------
    Class::MOP                                     0      2.1404  
    Devel::Cover                                   0      1.18    
    Dist::Zilla::App::Command::cover               0      1.101001
    Dist::Zilla::Plugin::AutoPrereqs               0      5.036   
    Dist::Zilla::Plugin::CheckChangeLog            0      0.02    
    Dist::Zilla::Plugin::Git::NextVersion          0      2.033   
    Dist::Zilla::Plugin::MetaConfig                0      5.036   
    Dist::Zilla::Plugin::MetaJSON                  0      5.036   
    Dist::Zilla::Plugin::MetaResourcesFromGit      0      1.103620
    Dist::Zilla::Plugin::MinimumPerl               0      1.006   
    Dist::Zilla::Plugin::ModuleBuild               0      5.036   
    Dist::Zilla::Plugin::NextRelease               0      5.036   
    Dist::Zilla::Plugin::OurPkgVersion             0      0.06    
    Dist::Zilla::Plugin::PerlTidy                  0      0.21    
    Dist::Zilla::Plugin::PodCoverageTests          0      5.036   
    Dist::Zilla::Plugin::PodWeaver                 0      4.006   
    Dist::Zilla::Plugin::Prepender                 0      2.001   
    Dist::Zilla::Plugin::Prereqs                   0      5.036   
    Dist::Zilla::Plugin::PruneFiles                0      5.036   
    Dist::Zilla::Plugin::ReadmeMarkdownFromPod     0      0.141140
    Dist::Zilla::Plugin::ReportVersions            0      1.110730
    Dist::Zilla::Plugin::Run::BeforeRelease        0      0.037   
    Dist::Zilla::Plugin::Test::Compile             0      2.052   
    Dist::Zilla::Plugin::Test::Perl::Critic        0      3.000   
    Dist::Zilla::Plugin::Test::UnusedVars          0      2.000007
    Dist::Zilla::PluginBundle::Filter              0      5.036   
    Dist::Zilla::PluginBundle::Git                 0      2.033   
    Dist::Zilla::Role::PluginBundle::Easy          0      5.036   
    Dist::Zilla::Role::PluginBundle::PluginRemover 0      0.103   
    IO::All                                        0.45   0.86    
    Moose                                          0      2.1404  
    namespace::autoclean                           0      0.24    
    perl                                           5.006  5.014001
    Pod::Coverage::TrustPod                        0      0.100003
    Pod::Weaver::Config::Assembler                 0      4.012   
    strict                                         0      1.04    
    Test::Perl::Critic                             0      1.03    
    Test::Pod::Coverage                            1.08   1.10    
    warnings                                       0      1.12    

build_requires:

    Module                                         Need   Have    
    ---------------------------------------------- ------ --------
    Carp                                           0      1.36    
    File::Spec                                     0      3.47    
    IO::Handle                                     0      1.31    
    IPC::Open3                                     0      1.09    
    Module::Build                                  0.3601 0.4212  
    perl                                           5.006  5.014001
    Scalar::Util                                   0      1.42    
    Test::More                                     0.94   1.001014

configure_requires:

    Module                                         Need   Have    
    ---------------------------------------------- ------ --------
    Module::Build                                  0.3601 0.4212  


------------------------------
ENVIRONMENT AND OTHER CONTEXT
------------------------------

Environment variables:

    AUTOMATED_TESTING = 1
    LANG = en_US.utf8
    LD_LIBRARY_PATH = /usr/lib/alliance/lib
    MB_TEST_EXPERIMENTAL = 1
    NONINTERACTIVE_TESTING = 1
    PATH = /usr/lib/qt-3.3/bin:/usr/kerberos/sbin:/usr/kerberos/bin:/usr/lib/ccache:/usr/local/sbin:/usr/local/bin:/sbin:/bin:/usr/sbin:/usr/bin:/usr/lib/alliance/bin:/usr/lib/firebird/bin:/opt/real/RealPlayer:/root/bin
    PERL5LIB = 
    PERL5OPT = 
    PERL5_CPANPLUS_IS_RUNNING = 26301
    PERL5_CPAN_IS_RUNNING = 26301
    PERL_EXTUTILS_AUTOINSTALL = --defaultdeps
    PERL_MM_USE_DEFAULT = 1
    SHELL = /bin/bash
    TERM = linux

Perl special variables (and OS-specific diagnostics, for MSWin32):

    $^X = /opt/perl492-32-O0-5.14.1/bin/perl
    $UID/$EUID = 0 / 0
    $GID = 0 0 1 2 3 4 6 10
    $EGID = 0 0 1 2 3 4 6 10

Perl module toolchain versions installed:

    Module              Have    
    ------------------- --------
    CPAN                2.10    
    CPAN::Meta          2.150001
    Cwd                 3.47    
    ExtUtils::CBuilder  0.280220
    ExtUtils::Command   1.17    
    ExtUtils::Install   2.04    
    ExtUtils::MakeMaker 7.04    
    ExtUtils::Manifest  1.70    
    ExtUtils::ParseXS   3.24    
    File::Spec          3.47    
    JSON                2.90    
    JSON::PP            2.27300 
    Module::Build       0.4212  
    Module::Signature   0.73    
    Parse::CPAN::Meta   1.4414  
    Test::Harness       3.35    
    Test::More          1.001014
    YAML                1.15    
    YAML::Syck          1.29    
    version             0.9912  


--

Summary of my perl5 (revision 5 version 14 subversion 1) configuration:
   
  Platform:
    osname=linux, osvers=2.6.32.63, archname=i686-linux-thread-multi-64int-ld
    uname='linux localhost.localdomain 2.6.32.63 #2 smp fri jan 30 10:45:01 pst 2015 i686 i686 i386 gnulinux '
    config_args='-Dcc=/opt/492/bin/gcc -Dprefix=/opt/perl492-32-O0-5.14.1 -DDEBUGGING'
    hint=recommended, useposix=true, d_sigaction=define
    useithreads=define, usemultiplicity=define
    useperlio=define, d_sfio=undef, uselargefiles=define, usesocks=undef
    use64bitint=define, use64bitall=undef, uselongdouble=define
    usemymalloc=y, bincompat5005=undef
  Compiler:
    cc='/opt/492/bin/gcc', ccflags ='-D_REENTRANT -D_GNU_SOURCE -DDEBUGGING -fno-strict-aliasing -pipe -fstack-protector -I/usr/local/include -D_LARGEFILE_SOURCE -D_FILE_OFFSET_BITS=64',
    optimize='-O0 -g',
    cppflags='-D_REENTRANT -D_GNU_SOURCE -DDEBUGGING -fno-strict-aliasing -pipe -fstack-protector -I/usr/local/include'
    ccversion='', gccversion='4.9.2', gccosandvers=''
    intsize=4, longsize=4, ptrsize=4, doublesize=8, byteorder=12345678
    d_longlong=define, longlongsize=8, d_longdbl=define, longdblsize=12
    ivtype='long long', ivsize=8, nvtype='long double', nvsize=12, Off_t='off_t', lseeksize=8
    alignbytes=4, prototype=define
  Linker and Libraries:
    ld='/opt/492/bin/gcc', ldflags =' -fstack-protector -L/usr/local/lib'
    libpth=/usr/local/lib /lib /usr/lib
    libs=-lnsl -lgdbm -ldb -ldl -lm -lcrypt -lutil -lpthread -lc
    perllibs=-lnsl -ldl -lm -lcrypt -lutil -lpthread -lc
    libc=/lib/libc-2.8.so, so=so, useshrplib=true, libperl=libperl.so
    gnulibc_version='2.8'
  Dynamic Linking:
    dlsrc=dl_dlopen.xs, dlext=so, d_dlsymun=undef, ccdlflags='-Wl,-E -Wl,-rpath,/opt/perl492-32-O0-5.14.1/lib/5.14.1/i686-linux-thread-multi-64int-ld/CORE'
    cccdlflags='-fPIC', lddlflags='-shared -O0 -g -L/usr/local/lib -fstack-protector'


Characteristics of this binary (from libperl): 
  Compile-time options: DEBUGGING MULTIPLICITY MYMALLOC PERL_DONT_CREATE_GVSV
                        PERL_IMPLICIT_CONTEXT PERL_MAD PERL_MALLOC_WRAP
                        PERL_PRESERVE_IVUV PERL_TRACK_MEMPOOL USE_64_BIT_INT
                        USE_FAST_STDIO USE_ITHREADS USE_LARGE_FILES
                        USE_LONG_DOUBLE USE_PERLIO USE_PERL_ATOF
                        USE_REENTRANT_API
  Built under linux
  Compiled at Mar 22 2015 09:29:55
  %ENV:
    PERL5LIB=""
    PERL5OPT=""
    PERL5_CPANPLUS_IS_RUNNING="26301"
    PERL5_CPAN_IS_RUNNING="26301"
    PERL_EXTUTILS_AUTOINSTALL="--defaultdeps"
    PERL_MM_USE_DEFAULT="1"
  @INC:
    /opt/perl492-32-O0-5.14.1/lib/site_perl/5.14.1/i686-linux-thread-multi-64int-ld
    /opt/perl492-32-O0-5.14.1/lib/site_perl/5.14.1
    /opt/perl492-32-O0-5.14.1/lib/5.14.1/i686-linux-thread-multi-64int-ld
    /opt/perl492-32-O0-5.14.1/lib/5.14.1
    .