Alien-libpid v0.033 Perl 5 v5.43.2 x86_64-linux

Status
Pass
From
Andreas J. König (ANDK)
Dist
Alien-libpid v0.033
Platform
Perl 5 v5.43.2 x86_64-linux
Date
2025-09-06 18:24:36
ID
be9350be-8b4e-11f0-af5c-e147bbeca76a
This distribution has been tested as part of the CPAN Testers
project, supporting the Perl programming language.  See
http://wiki.cpantesters.org/ for more information or email
questions to cpan-testers-discuss@perl.org


--
Dear Ahmad Fatoum,

This is a computer-generated report for Alien-libpid-0.033
on perl 5.43.2, created by CPAN-Reporter-1.2020.

Thank you for uploading your work to CPAN.  Congratulations!
All tests were successful.

Sections of this report:

    * Tester comments
    * Program output
    * Prerequisites
    * Environment and other context

------------------------------
TESTER COMMENTS
------------------------------

Additional comments from tester:

this report is from an automated smoke testing program
and was not reviewed by a human for accuracy

------------------------------
PROGRAM OUTPUT
------------------------------

Output from '/usr/bin/make test':

"/tmp/basesmoker-reloperl-qmjf/bin/perl" -MAlien::Build::MM=cmd -e test
Useless use of string ne in void context at /tmp/loop_over_bdir-4169-TC4rda/Alien-libpid-0.033-0/alienfile line 29.
Alien::Build::Plugin::PkgConfig::Negotiate> Using PkgConfig plugin: PkgConfig::CommandLine
PERL_DL_NONLAZY=1 "/tmp/basesmoker-reloperl-qmjf/bin/perl" "-MExtUtils::Command::MM" "-MTest::Harness" "-e" "undef *Test::Harness::Switches; test_harness(0, 'blib/lib', 'blib/arch')" t/*.t
t/00-compile.t ......... ok
# 
# Versions for all modules listed in MYMETA.json (including optional ones):
# 
# === Configure Requires ===
# 
#     Module                             Want Have
#     ---------------------------------- ---- ----
#     Alien::Build                       0.32 2.84
#     Alien::Build::MM                   0.32 2.84
#     Alien::Build::Plugin::Build::CMake 0.99 2.84
#     ExtUtils::MakeMaker                6.52 7.76
# 
# === Build Requires ===
# 
#     Module                                        Want     Have
#     -------------------------------------------- ----- --------
#     Alien::Build                                  0.32     2.84
#     Alien::Build::MM                              0.32     2.84
#     Alien::Build::Plugin::Gather::IsolateDynamic  0.48     2.84
#     Alien::cmake3                                 0.02     0.10
#     Archive::Tar                                   any     3.04
#     Config                                         any 5.043002
#     ExtUtils::MakeMaker                           6.52     7.76
#     HTTP::Tiny                                   0.044    0.090
#     IO::Socket::SSL                               1.56    2.095
#     IO::Zlib                                       any     1.15
#     Mozilla::CA                                    any 20250602
#     Net::SSLeay                                   1.49     1.94
#     URI                                            any     5.32
# 
# === Test Requires ===
# 
#     Module              Want     Have
#     ------------------- ---- --------
#     ExtUtils::MakeMaker 6.52     7.76
#     File::Spec           any     3.94
#     IO::Handle           any     1.55
#     IPC::Open3           any     1.24
#     Test2::Bundle::More  any 1.302214
#     Test::Alien         0.05     2.84
#     Test::More           any 1.302214
# 
# === Test Recommends ===
# 
#     Module         Want     Have
#     ---------- -------- --------
#     CPAN::Meta 2.120900 2.150010
# 
# === Runtime Requires ===
# 
#     Module        Want  Have
#     ------------ ----- -----
#     Alien::Base  0.038  2.84
#     Alien::Build  0.25  2.84
#     parent         any 0.244
#     strict         any  1.14
#     warnings       any  1.74
# 
t/00-report-prereqs.t .. ok
t/init.t ............... ok
All tests successful.
Files=3, Tests=5,  1 wallclock secs ( 0.03 usr  0.01 sys +  0.83 cusr  0.12 csys =  0.99 CPU)
Result: PASS

------------------------------
PREREQUISITES
------------------------------

Prerequisite modules loaded:

requires:

    Module                                       Need     Have    
    -------------------------------------------- -------- --------
    Alien::Base                                  0.038    2.84    
    Alien::Build                                 0.25     2.84    
    parent                                       0        0.244   
    perl                                         5.008    5.043002
    strict                                       0        1.14    
    warnings                                     0        1.74    

build_requires:

    Module                                       Need     Have    
    -------------------------------------------- -------- --------
    Alien::Build                                 0.32     2.84    
    Alien::Build::MM                             0.32     2.84    
    Alien::Build::Plugin::Gather::IsolateDynamic 0.48     2.84    
    Alien::cmake3                                0.02     0.10    
    Archive::Tar                                 0        3.04    
    Config                                       0        5.043002
    ExtUtils::MakeMaker                          6.52     7.76    
    File::Spec                                   0        3.94    
    HTTP::Tiny                                   0.044    0.090   
    IO::Handle                                   0        1.55    
    IO::Socket::SSL                              1.56     2.095   
    IO::Zlib                                     0        1.15    
    IPC::Open3                                   0        1.24    
    Mozilla::CA                                  0        20250602
    Net::SSLeay                                  1.49     1.94    
    Test2::Bundle::More                          0        1.302214
    Test::Alien                                  0.05     2.84    
    Test::More                                   0        1.302214
    URI                                          0        5.32    

configure_requires:

    Module                                       Need     Have    
    -------------------------------------------- -------- --------
    Alien::Build                                 0.32     2.84    
    Alien::Build::MM                             0.32     2.84    
    Alien::Build::Plugin::Build::CMake           0.99     2.84    
    ExtUtils::MakeMaker                          6.52     7.76    

opt_build_requires:

    Module                                       Need     Have    
    -------------------------------------------- -------- --------
    CPAN::Meta                                   2.120900 2.150010


------------------------------
ENVIRONMENT AND OTHER CONTEXT
------------------------------

Environment variables:

    AUTOMATED_TESTING = 1
    LANG = en_US.UTF-8
    PATH = /home/sand/bin:/usr/local/bin:/usr/local/sbin:/usr/sbin:/usr/bin:/sbin:/bin:/usr/games:/usr/local/games:/snap/bin:/usr/local/perl/bin:/usr/X11/bin
    PERL5LIB = /tmp/loop_over_bdir-4169-TC4rda/DBIx-Migration-Directories-0.12-0/blib/arch:/tmp/loop_over_bdir-4169-TC4rda/DBIx-Migration-Directories-0.12-0/blib/lib
    PERL5OPT = 
    PERL5_CPANPLUS_IS_RUNNING = 4178
    PERL5_CPAN_IS_RUNNING = 4178
    PERL_CANARY_STABILITY_NOPROMPT = 1
    PERL_MM_USE_DEFAULT = 1
    PERL_USE_UNSAFE_INC = 1
    SHELL = /usr/bin/zsh
    TERM = screen

Perl special variables (and OS-specific diagnostics, for MSWin32):

    $^X = /tmp/basesmoker-reloperl-qmjf/bin/perl
    $UID/$EUID = 1005 / 1005
    $GID = 1005 1005
    $EGID = 1005 1005

Perl module toolchain versions installed:

    Module              Have    
    ------------------- --------
    CPAN                2.38    
    CPAN::Meta          2.150010
    Cwd                 3.94    
    ExtUtils::CBuilder  0.280242
    ExtUtils::Command   7.76    
    ExtUtils::Install   2.22    
    ExtUtils::MakeMaker 7.76    
    ExtUtils::Manifest  1.75    
    ExtUtils::ParseXS   3.59    
    File::Spec          3.94    
    JSON                4.10    
    JSON::PP            4.16    
    Module::Build       0.4234  
    Module::Signature   0.93    
    Parse::CPAN::Meta   2.150010
    Test2               1.302214
    Test::Harness       3.52    
    Test::More          1.302214
    YAML                1.31    
    YAML::Syck          1.34    
    version             0.9933  


--

Summary of my perl5 (revision 5 version 43 subversion 2) configuration:
  Commit id: 7afd3f158f75d5730469889406f8f98c681d58c1
  Platform:
    osname=linux
    osvers=5.4.0-216-generic
    archname=x86_64-linux
    uname='linux k93focal 5.4.0-216-generic #236-ubuntu smp fri apr 11 19:53:21 utc 2025 x86_64 x86_64 x86_64 gnulinux '
    config_args='-Dprefix=/home/sand/src/perl/repoperls/installed-perls/host/k93focal/v5.43.2/b254 -Dmyhostname=k93focal -Dinstallusrbinperl=n -Uversiononly -Dusedevel -des -Ui_db -Dlibswanted=cl pthread socket inet nsl gdbm dbm malloc dl ld sun m crypt sec util c cposix posix ucb BSD gdbm_compat -Uuseithreads -Uuselongdouble -DEBUGGING=both'
    hint=recommended
    useposix=true
    d_sigaction=define
    useithreads=undef
    usemultiplicity=undef
    use64bitint=define
    use64bitall=define
    uselongdouble=undef
    usemymalloc=n
    default_inc_excludes_dot=define
  Compiler:
    cc='cc'
    ccflags ='-fwrapv -DDEBUGGING -fno-strict-aliasing -pipe -fstack-protector-strong -I/usr/local/include -D_LARGEFILE_SOURCE -D_FILE_OFFSET_BITS=64'
    optimize='-O2 -g'
    cppflags='-fwrapv -DDEBUGGING -fno-strict-aliasing -pipe -fstack-protector-strong -I/usr/local/include'
    ccversion=''
    gccversion='9.4.0'
    gccosandvers=''
    intsize=4
    longsize=8
    ptrsize=8
    doublesize=8
    byteorder=12345678
    doublekind=3
    d_longlong=define
    longlongsize=8
    d_longdbl=define
    longdblsize=16
    longdblkind=3
    ivtype='long'
    ivsize=8
    nvtype='double'
    nvsize=8
    Off_t='off_t'
    lseeksize=8
    alignbytes=8
    prototype=define
  Linker and Libraries:
    ld='cc'
    ldflags =' -fstack-protector-strong -L/usr/local/lib'
    libpth=/usr/local/lib /usr/lib/x86_64-linux-gnu /usr/lib /usr/lib64
    libs=-lpthread -lnsl -ldl -lm -lcrypt -lutil -lc
    perllibs=-lpthread -lnsl -ldl -lm -lcrypt -lutil -lc
    libc=libc-2.31.so
    so=so
    useshrplib=false
    libperl=libperl.a
    gnulibc_version='2.31'
  Dynamic Linking:
    dlsrc=dl_dlopen.xs
    dlext=so
    d_dlsymun=undef
    ccdlflags='-Wl,-E'
    cccdlflags='-fPIC'
    lddlflags='-shared -O2 -g -L/usr/local/lib -fstack-protector-strong'


Characteristics of this binary (from libperl): 
  Compile-time options:
    DEBUGGING
    HAS_LONG_DOUBLE
    HAS_STRTOLD
    HAS_TIMES
    PERLIO_LAYERS
    PERL_COPY_ON_WRITE
    PERL_DONT_CREATE_GVSV
    PERL_HASH_FUNC_SIPHASH13
    PERL_HASH_USE_SBOX32
    PERL_MALLOC_WRAP
    PERL_OP_PARENT
    PERL_PRESERVE_IVUV
    PERL_USE_DEVEL
    PERL_USE_SAFE_PUTENV
    USE_64_BIT_ALL
    USE_64_BIT_INT
    USE_LARGE_FILES
    USE_LOCALE
    USE_LOCALE_COLLATE
    USE_LOCALE_CTYPE
    USE_LOCALE_NUMERIC
    USE_LOCALE_TIME
    USE_PERLIO
    USE_PERL_ATOF
  Built under linux
  Compiled at Aug 26 2025 20:20:28
  %ENV:
    PERL5LIB="/tmp/loop_over_bdir-4169-TC4rda/DBIx-Migration-Directories-0.12-0/blib/arch:/tmp/loop_over_bdir-4169-TC4rda/DBIx-Migration-Directories-0.12-0/blib/lib"
    PERL5OPT=""
    PERL5_CPANPLUS_IS_RUNNING="4178"
    PERL5_CPAN_IS_RUNNING="4178"
    PERL_CANARY_STABILITY_NOPROMPT="1"
    PERL_MM_USE_DEFAULT="1"
    PERL_USE_UNSAFE_INC="1"
  @INC:
    /tmp/loop_over_bdir-4169-TC4rda/DBIx-Migration-Directories-0.12-0/blib/arch
    /tmp/loop_over_bdir-4169-TC4rda/DBIx-Migration-Directories-0.12-0/blib/lib
    /home/sand/src/perl/repoperls/installed-perls/host/k93focal/v5.43.2/b254/lib/site_perl/5.43.2/x86_64-linux
    /home/sand/src/perl/repoperls/installed-perls/host/k93focal/v5.43.2/b254/lib/site_perl/5.43.2
    /home/sand/src/perl/repoperls/installed-perls/host/k93focal/v5.43.2/b254/lib/5.43.2/x86_64-linux
    /home/sand/src/perl/repoperls/installed-perls/host/k93focal/v5.43.2/b254/lib/5.43.2
    .