Back
From: metabase:user:82d9afc2-0d4c-11e0-9281-bfa05983890b
Subject: PASS Class-Throwable-0.11 v5.10.0 GNU/Linux
Date: 2010-12-22T22:42:24Z
This distribution has been tested as part of the CPAN Testers
project, supporting the Perl programming language. See
http://wiki.cpantesters.org/ for more information or email
questions to cpan-testers-discuss@perl.org
--
Dear kmx,
This is a computer-generated report for Class-Throwable-0.11
on perl 5.10.0, created by CPAN-Reporter-1.1803.
Thank you for uploading your work to CPAN. Congratulations!
All tests were successful.
Sections of this report:
* Tester comments
* Program output
* Prerequisites
* Environment and other context
------------------------------
TESTER COMMENTS
------------------------------
Additional comments from tester:
this report is from an automated smoke testing program
and was not reviewed by a human for accuracy
------------------------------
PROGRAM OUTPUT
------------------------------
Output from '/usr/bin/make test':
PERL_DL_NONLAZY=1 /usr/bin/perl "-MExtUtils::Command::MM" "-e" "test_harness(0, 'blib/lib', 'blib/arch')" t/*.t
t/10_Class_Throwable_test.t .................... ok
t/20_Class_Throwable_subException_test.t ....... ok
t/30_Class_Throwable_inline_exceptions_test.t .. ok
t/35_Class_Throwable_sub_class_test.t .......... ok
t/40_Class_Throwable_misc_test.t ............... ok
no_plan takes no arguments at t/50_Class_Throwable_retrofit_test.t line 6.
t/50_Class_Throwable_retrofit_test.t ........... ok
t/pod.t ........................................ skipped: Test::Pod 1.14 required for testing POD
t/pod_coverage.t ............................... skipped: Test::Pod::Coverage 1.04 required for testing POD coverage
All tests successful.
Files=8, Tests=75, 1 wallclock secs ( 0.05 usr 0.04 sys + 0.26 cusr 0.06 csys = 0.41 CPU)
Result: PASS
------------------------------
PREREQUISITES
------------------------------
Prerequisite modules loaded:
requires:
Module Need Have
------------ ---- ----
Scalar::Util 1.1 1.23
Test::More 0.47 0.96
------------------------------
ENVIRONMENT AND OTHER CONTEXT
------------------------------
Environment variables:
AUTOMATED_TESTING = 1
LANG = en_US.UTF-8
PATH = /usr/local/sbin:/usr/local/bin:/usr/sbin:/usr/bin:/sbin:/bin:/usr/X11R6/bin
PERL5LIB = /home/ari/.cpan/build/Mouse-0.88-MVC9qI/blib/arch:/home/ari/.cpan/build/Mouse-0.88-MVC9qI/blib/lib:/home/ari/.cpan/build/XSLoader-0.10-ibpvGm/blib/arch:/home/ari/.cpan/build/XSLoader-0.10-ibpvGm/blib/lib:/home/ari/.cpan/build/Devel-PPPort-3.19-sGTJn8/blib/arch:/home/ari/.cpan/build/Devel-PPPort-3.19-sGTJn8/blib/lib
PERL5OPT =
PERL5_CPANPLUS_IS_RUNNING = 24351
PERL5_CPAN_IS_RUNNING = 24351
PERL5_CPAN_IS_RUNNING_IN_RECURSION = 7919,24351
PERL_CR_SMOKER_CURRENT = CogWiki-0.02
PERL_EXTUTILS_AUTOINSTALL = --defaultdeps
PERL_MM_USE_DEFAULT = 1
SHELL = /bin/bash
TERM = screen
Perl special variables (and OS-specific diagnostics, for MSWin32):
$^X = /usr/bin/perl
$UID/$EUID = 0 / 0
$GID = 0 0
$EGID = 0 0
Perl module toolchain versions installed:
Module Have
------------------- ------
CPAN 1.9402
Cwd 3.33
ExtUtils::CBuilder 0.2802
ExtUtils::Command 1.16
ExtUtils::Install 1.52
ExtUtils::MakeMaker 6.56
ExtUtils::Manifest 1.56
ExtUtils::ParseXS 2.2206
File::Spec 3.33
Module::Build 0.3607
Module::Signature n/a
Test::Harness 3.22
Test::More 0.96
YAML 0.72
YAML::Syck n/a
version 0.74
--
Summary of my perl5 (revision 5 version 10 subversion 0) configuration:
Platform:
osname=linux, osvers=2.6.26-2-amd64, archname=i486-linux-gnu-thread-multi
uname='linux puccini 2.6.26-2-amd64 #1 smp fri aug 14 07:12:04 utc 2009 i686 gnulinux '
config_args='-Dusethreads -Duselargefiles -Dccflags=-DDEBIAN -Dcccdlflags=-fPIC -Darchname=i486-linux-gnu -Dprefix=/usr -Dprivlib=/usr/share/perl/5.10 -Darchlib=/usr/lib/perl/5.10 -Dvendorprefix=/usr -Dvendorlib=/usr/share/perl5 -Dvendorarch=/usr/lib/perl5 -Dsiteprefix=/usr/local -Dsitelib=/usr/local/share/perl/5.10.0 -Dsitearch=/usr/local/lib/perl/5.10.0 -Dman1dir=/usr/share/man/man1 -Dman3dir=/usr/share/man/man3 -Dsiteman1dir=/usr/local/man/man1 -Dsiteman3dir=/usr/local/man/man3 -Dman1ext=1 -Dman3ext=3perl -Dpager=/usr/bin/sensible-pager -Uafs -Ud_csh -Ud_ualarm -Uusesfio -Uusenm -DDEBUGGING=-g -Doptimize=-O2 -Duseshrplib -Dlibperl=libperl.so.5.10.0 -Dd_dosuid -des'
hint=recommended, useposix=true, d_sigaction=define
useithreads=define, usemultiplicity=define
useperlio=define, d_sfio=undef, uselargefiles=define, usesocks=undef
use64bitint=undef, use64bitall=undef, uselongdouble=undef
usemymalloc=n, bincompat5005=undef
Compiler:
cc='cc', ccflags ='-D_REENTRANT -D_GNU_SOURCE -DDEBIAN -fno-strict-aliasing -pipe -I/usr/local/include -D_LARGEFILE_SOURCE -D_FILE_OFFSET_BITS=64',
optimize='-O2 -g',
cppflags='-D_REENTRANT -D_GNU_SOURCE -DDEBIAN -fno-strict-aliasing -pipe -I/usr/local/include'
ccversion='', gccversion='4.3.2', gccosandvers=''
intsize=4, longsize=4, ptrsize=4, doublesize=8, byteorder=1234
d_longlong=define, longlongsize=8, d_longdbl=define, longdblsize=12
ivtype='long', ivsize=4, nvtype='double', nvsize=8, Off_t='off_t', lseeksize=8
alignbytes=4, prototype=define
Linker and Libraries:
ld='cc', ldflags =' -L/usr/local/lib'
libpth=/usr/local/lib /lib /usr/lib /usr/lib64
libs=-lgdbm -lgdbm_compat -ldb -ldl -lm -lpthread -lc -lcrypt
perllibs=-ldl -lm -lpthread -lc -lcrypt
libc=/lib/libc-2.7.so, so=so, useshrplib=true, libperl=libperl.so.5.10.0
gnulibc_version='2.7'
Dynamic Linking:
dlsrc=dl_dlopen.xs, dlext=so, d_dlsymun=undef, ccdlflags='-Wl,-E'
cccdlflags='-fPIC', lddlflags='-shared -O2 -g -L/usr/local/lib'
Characteristics of this binary (from libperl):
Compile-time options: MULTIPLICITY PERL_DONT_CREATE_GVSV
PERL_IMPLICIT_CONTEXT PERL_MALLOC_WRAP USE_ITHREADS
USE_LARGE_FILES USE_PERLIO USE_REENTRANT_API
Built under linux
Compiled at Aug 28 2009 22:15:29
%ENV:
PERL5LIB="/home/ari/.cpan/build/Mouse-0.88-MVC9qI/blib/arch:/home/ari/.cpan/build/Mouse-0.88-MVC9qI/blib/lib:/home/ari/.cpan/build/XSLoader-0.10-ibpvGm/blib/arch:/home/ari/.cpan/build/XSLoader-0.10-ibpvGm/blib/lib:/home/ari/.cpan/build/Devel-PPPort-3.19-sGTJn8/blib/arch:/home/ari/.cpan/build/Devel-PPPort-3.19-sGTJn8/blib/lib"
PERL5OPT=""
PERL5_CPANPLUS_IS_RUNNING="24351"
PERL5_CPAN_IS_RUNNING="24351"
PERL5_CPAN_IS_RUNNING_IN_RECURSION="7919,24351"
PERL_CR_SMOKER_CURRENT="CogWiki-0.02"
PERL_EXTUTILS_AUTOINSTALL="--defaultdeps"
PERL_MM_USE_DEFAULT="1"
@INC:
/home/ari/.cpan/build/Mouse-0.88-MVC9qI/blib/arch
/home/ari/.cpan/build/Mouse-0.88-MVC9qI/blib/lib
/home/ari/.cpan/build/XSLoader-0.10-ibpvGm/blib/arch
/home/ari/.cpan/build/XSLoader-0.10-ibpvGm/blib/lib
/home/ari/.cpan/build/Devel-PPPort-3.19-sGTJn8/blib/arch
/home/ari/.cpan/build/Devel-PPPort-3.19-sGTJn8/blib/lib
/etc/perl
/usr/local/lib/perl/5.10.0
/usr/local/share/perl/5.10.0
/usr/lib/perl5
/usr/share/perl5
/usr/lib/perl/5.10
/usr/share/perl/5.10
/usr/local/lib/site_perl
.