Back
From: metabase:user:30f4dfbe-2aae-11df-837a-5e0a49663a4f
Subject: PASS String-Clean-0.031 v5.21.3 GNU/Linux
Date: 2014-10-05T15:03:20Z
This distribution has been tested as part of the CPAN Testers
project, supporting the Perl programming language. See
http://wiki.cpantesters.org/ for more information or email
questions to cpan-testers-discuss@perl.org
--
Dear ben hengst,
This is a computer-generated report for String-Clean-0.031
on perl 5.21.3, created by CPAN-Reporter-1.2011.
Thank you for uploading your work to CPAN. Congratulations!
All tests were successful.
Sections of this report:
* Tester comments
* Program output
* Prerequisites
* Environment and other context
------------------------------
TESTER COMMENTS
------------------------------
Additional comments from tester:
none provided
------------------------------
PROGRAM OUTPUT
------------------------------
Output from './Build test':
# Testing String::Clean 0.031, Perl 5.021003, /home/njh/perl5/perlbrew/perls/perl-5.21.3/bin/perl5.21.3
t/00-load.t .......... ok
t/10-string_clean.t .. ok
t/11-clean_XSS.t ..... ok
t/boilerplate.t ...... ok
t/pod-coverage.t ..... skipped: Test::Pod::Coverage 1.08 required for testing POD coverage
t/pod.t .............. ok
All tests successful.
Test Summary Report
-------------------
t/boilerplate.t (Wstat: 0 Tests: 3 Failed: 0)
TODO passed: 1-3
Files=6, Tests=26, 10 wallclock secs ( 0.55 usr 0.05 sys + 8.11 cusr 0.31 csys = 9.02 CPU)
Result: PASS
------------------------------
PREREQUISITES
------------------------------
Prerequisite modules loaded:
requires:
Module Need Have
------------------- ------ --------
Carp::Assert::More 0 1.14
Test::More 0 1.001003
YAML::Any 0 1.12
build_requires:
Module Need Have
------------------- ------ --------
Module::Build 0.3601 0.4208
configure_requires:
Module Need Have
------------------- ------ --------
ExtUtils::MakeMaker 6.31 6.98
Module::Build 0.3601 0.4208
------------------------------
ENVIRONMENT AND OTHER CONTEXT
------------------------------
Environment variables:
LANG = en_GB
PATH = /home/njh/perl5/perlbrew/bin:/home/njh/perl5/perlbrew/perls/perl-5.21.3/bin:/home/njh/perl5/perlbrew/bin:/usr/bin:/bin
PERL5LIB =
PERL5OPT =
PERL5_CPANPLUS_IS_RUNNING = 7756
PERL5_CPAN_IS_RUNNING = 7756
PERLBREW_BASHRC_VERSION = 0.67
PERLBREW_HOME = /home/njh/.perlbrew
PERLBREW_MANPATH = /home/njh/perl5/perlbrew/perls/perl-5.21.3/man
PERLBREW_PATH = /home/njh/perl5/perlbrew/bin:/home/njh/perl5/perlbrew/perls/perl-5.21.3/bin
PERLBREW_PERL = perl-5.21.3
PERLBREW_ROOT = /home/njh/perl5/perlbrew
PERLBREW_VERSION = 0.67
SHELL = /bin/sh
TMPDIR = /tmp
Perl special variables (and OS-specific diagnostics, for MSWin32):
$^X = /home/njh/perl5/perlbrew/perls/perl-5.21.3/bin/perl5.21.3
$UID/$EUID = 1000 / 1000
$GID = 1000 4 24 25 29 30 44 46 200 1000
$EGID = 1000 4 24 25 29 30 44 46 200 1000
Perl module toolchain versions installed:
Module Have
------------------- --------
CPAN 2.05
CPAN::Meta 2.142060
Cwd 3.49
ExtUtils::CBuilder 0.280217
ExtUtils::Command 1.18
ExtUtils::Install 1.68
ExtUtils::MakeMaker 6.98
ExtUtils::Manifest 1.65
ExtUtils::ParseXS 3.25
File::Spec 3.49
JSON n/a
JSON::PP 2.27203
Module::Build 0.4208
Module::Signature n/a
Parse::CPAN::Meta 1.4414
Test::Harness 3.32
Test::More 1.001003
YAML 1.12
YAML::Syck n/a
version 0.9908
--
Summary of my perl5 (revision 5 version 21 subversion 3) configuration:
Platform:
osname=linux, osvers=2.6.32-isobel-wii, archname=ppc-linux-thread-multi
uname='linux wii.bandsman.co.uk 2.6.32-isobel-wii #1 preempt sun dec 6 20:42:34 cet 2009 ppc gnulinux '
config_args='-de -Dprefix=/home/njh/perl5/perlbrew/perls/perl-5.21.3 -Duseithreads -Dusemultiplicity -Dusedevel -Accflags=-Os -W -Wformat=2 -Wswitch -Wshadow -Wwrite-strings -Wuninitialized -Wall -pipe -mcpu=750 -fomit-frame-pointer -pedantic -D_FORTIFY_SOURCE=2 -Wpointer-arith -Wstrict-prototypes -fstack-protector -Wstack-protector -Wextra -Wbad-function-cast -Wcast-align -Wcast-qual -Wdisabled-optimization -Wendif-labels -Wfloat-equal -Wformat-nonliteral -Winline -Wmissing-declarations -Wmissing-prototypes -Wnested-externs -Wpointer-arith -Wundef -Wformat-security -Aeval:scriptdir=/home/njh/perl5/perlbrew/perls/perl-5.21.3/bin'
hint=recommended, useposix=true, d_sigaction=define
useithreads=define, usemultiplicity=define
use64bitint=undef, use64bitall=undef, uselongdouble=undef
usemymalloc=n, bincompat5005=undef
Compiler:
cc='cc', ccflags ='-D_REENTRANT -D_GNU_SOURCE -Os -W -Wformat=2 -Wswitch -Wshadow -Wwrite-strings -Wuninitialized -Wall -pipe -mcpu=750 -fomit-frame-pointer -pedantic -D_FORTIFY_SOURCE=2 -Wpointer-arith -Wstrict-prototypes -fstack-protector -Wstack-protector -Wextra -Wbad-function-cast -Wcast-align -Wcast-qual -Wdisabled-optimization -Wendif-labels -Wfloat-equal -Wformat-nonliteral -Winline -Wmissing-declarations -Wmissing-prototypes -Wnested-externs -Wpointer-arith -Wundef -Wformat-security -fwrapv -fno-strict-aliasing -I/usr/local/include -D_LARGEFILE_SOURCE -D_FILE_OFFSET_BITS=64',
optimize='-O1',
cppflags='-D_REENTRANT -D_GNU_SOURCE -Os -W -Wformat=2 -Wswitch -Wshadow -Wwrite-strings -Wuninitialized -Wall -pipe -mcpu=750 -fomit-frame-pointer -pedantic -D_FORTIFY_SOURCE=2 -Wpointer-arith -Wstrict-prototypes -fstack-protector -Wstack-protector -Wextra -Wbad-function-cast -Wcast-align -Wcast-qual -Wdisabled-optimization -Wendif-labels -Wfloat-equal -Wformat-nonliteral -Winline -Wmissing-declarations -Wmissing-prototypes -Wnested-externs -Wpointer-arith -Wundef -Wformat-security -fwrapv -fno-strict-aliasing -I/usr/local/include'
ccversion='', gccversion='4.4.5', gccosandvers=''
intsize=4, longsize=4, ptrsize=4, doublesize=8, byteorder=4321
d_longlong=define, longlongsize=8, d_longdbl=define, longdblsize=16, longdblkind=6
ivtype='long', ivsize=4, nvtype='double', nvsize=8, Off_t='off_t', lseeksize=8
alignbytes=8, prototype=define
Linker and Libraries:
ld='cc', ldflags =' -fstack-protector -L/usr/local/lib'
libpth=/usr/local/lib /usr/lib/gcc/powerpc-linux-gnu/4.4.5/include-fixed /usr/lib /lib/../lib /usr/lib/../lib /lib /usr/lib64
libs=-lnsl -lgdbm -ldb -ldl -lm -lcrypt -lutil -lpthread -lc -lgdbm_compat
perllibs=-lnsl -ldl -lm -lcrypt -lutil -lpthread -lc
libc=/lib/libc-2.11.3.so, so=so, useshrplib=false, libperl=libperl.a
gnulibc_version='2.11.3'
Dynamic Linking:
dlsrc=dl_dlopen.xs, dlext=so, d_dlsymun=undef, ccdlflags='-Wl,-E'
cccdlflags='-fPIC', lddlflags='-shared -O1 -L/usr/local/lib -fstack-protector'
Characteristics of this binary (from libperl):
Compile-time options: HAS_TIMES MULTIPLICITY PERLIO_LAYERS
PERL_DONT_CREATE_GVSV
PERL_HASH_FUNC_ONE_AT_A_TIME_HARD
PERL_IMPLICIT_CONTEXT PERL_MALLOC_WRAP
PERL_NEW_COPY_ON_WRITE PERL_PRESERVE_IVUV
PERL_USE_DEVEL USE_ITHREADS USE_LARGE_FILES
USE_LOCALE USE_LOCALE_COLLATE USE_LOCALE_CTYPE
USE_LOCALE_NUMERIC USE_LOCALE_TIME USE_PERLIO
USE_PERL_ATOF USE_REENTRANT_API
Built under linux
Compiled at Aug 22 2014 12:44:43
%ENV:
PERL5LIB=""
PERL5OPT=""
PERL5_CPANPLUS_IS_RUNNING="7756"
PERL5_CPAN_IS_RUNNING="7756"
PERLBREW_BASHRC_VERSION="0.67"
PERLBREW_HOME="/home/njh/.perlbrew"
PERLBREW_MANPATH="/home/njh/perl5/perlbrew/perls/perl-5.21.3/man"
PERLBREW_PATH="/home/njh/perl5/perlbrew/bin:/home/njh/perl5/perlbrew/perls/perl-5.21.3/bin"
PERLBREW_PERL="perl-5.21.3"
PERLBREW_ROOT="/home/njh/perl5/perlbrew"
PERLBREW_VERSION="0.67"
@INC:
/home/njh/perl5/perlbrew/perls/perl-5.21.3/lib/site_perl/5.21.3/ppc-linux-thread-multi
/home/njh/perl5/perlbrew/perls/perl-5.21.3/lib/site_perl/5.21.3
/home/njh/perl5/perlbrew/perls/perl-5.21.3/lib/5.21.3/ppc-linux-thread-multi
/home/njh/perl5/perlbrew/perls/perl-5.21.3/lib/5.21.3
.