POE-Loop-Glib v0.038 Perl 5 v5.27.10 x86_64-linux

Status
Pass
From
Slaven Rezić (SREZIC)
Dist
POE-Loop-Glib v0.038
Platform
Perl 5 v5.27.10 x86_64-linux
Date
2018-03-24 09:57:21
ID
bf1488f0-2f49-11e8-9f18-8962b2a582f5
This distribution has been tested as part of the CPAN Testers
project, supporting the Perl programming language.  See
http://wiki.cpantesters.org/ for more information or email
questions to cpan-testers-discuss@perl.org


--
Dear Apocalypse,

This is a computer-generated report for POE-Loop-Glib-0.038
on perl 5.27.10, created by CPAN-Reporter-1.2018.

Thank you for uploading your work to CPAN.  Congratulations!
All tests were successful.

Sections of this report:

    * Tester comments
    * Program output
    * Prerequisites
    * Environment and other context

------------------------------
TESTER COMMENTS
------------------------------

Additional comments from tester:

none provided

------------------------------
PROGRAM OUTPUT
------------------------------

Output from './Build test':

t/1_load.t ............................. ok
t/apocalypse.t ......................... skipped: Test::Apocalypse required for validating the distribution
# Testing POE 1.367, POE::Test::Loops 1.360, Using Loop(POE::Loop::Glib), Perl 5.027010, /opt/perl-5.27.10/bin/perl5.27.10 on linux
t/glib/00_info.t ....................... ok
t/glib/all_errors.t .................... skipped: most of these should move into other test files
GLib-CRITICAL **: Source ID 4 was not found when attempting to remove it at /home/cpansand/.cpan/build/2018032406/POE-Loop-Glib-0.038-0/blib/lib/POE/Loop/Glib.pm line 53.
GLib-CRITICAL **: Source ID 10 was not found when attempting to remove it at /home/cpansand/.cpan/build/2018032406/POE-Loop-Glib-0.038-0/blib/lib/POE/Loop/Glib.pm line 53.
t/glib/comp_tcp.t ...................... ok
# You might see a 'disconnect' error during this test.
# It may be ignored.
GLib-CRITICAL **: Source ID 4 was not found when attempting to remove it at /home/cpansand/.cpan/build/2018032406/POE-Loop-Glib-0.038-0/blib/lib/POE/Loop/Glib.pm line 53.
GLib-CRITICAL **: Source ID 26 was not found when attempting to remove it at /home/cpansand/.cpan/build/2018032406/POE-Loop-Glib-0.038-0/blib/lib/POE/Loop/Glib.pm line 53.
GLib-CRITICAL **: Source ID 87 was not found when attempting to remove it at /home/cpansand/.cpan/build/2018032406/POE-Loop-Glib-0.038-0/blib/lib/POE/Loop/Glib.pm line 53.
GLib-CRITICAL **: Source ID 94 was not found when attempting to remove it at /home/cpansand/.cpan/build/2018032406/POE-Loop-Glib-0.038-0/blib/lib/POE/Loop/Glib.pm line 53.
GLib-CRITICAL **: Source ID 96 was not found when attempting to remove it at /home/cpansand/.cpan/build/2018032406/POE-Loop-Glib-0.038-0/blib/lib/POE/Loop/Glib.pm line 53.
GLib-CRITICAL **: Source ID 99 was not found when attempting to remove it at /home/cpansand/.cpan/build/2018032406/POE-Loop-Glib-0.038-0/blib/lib/POE/Loop/Glib.pm line 53.
GLib-CRITICAL **: Source ID 110 was not found when attempting to remove it at /home/cpansand/.cpan/build/2018032406/POE-Loop-Glib-0.038-0/blib/lib/POE/Loop/Glib.pm line 53.
GLib-CRITICAL **: Source ID 115 was not found when attempting to remove it at /home/cpansand/.cpan/build/2018032406/POE-Loop-Glib-0.038-0/blib/lib/POE/Loop/Glib.pm line 53.
GLib-CRITICAL **: Source ID 119 was not found when attempting to remove it at /home/cpansand/.cpan/build/2018032406/POE-Loop-Glib-0.038-0/blib/lib/POE/Loop/Glib.pm line 53.
GLib-CRITICAL **: Source ID 127 was not found when attempting to remove it at /home/cpansand/.cpan/build/2018032406/POE-Loop-Glib-0.038-0/blib/lib/POE/Loop/Glib.pm line 53.
GLib-CRITICAL **: Source ID 129 was not found when attempting to remove it at /home/cpansand/.cpan/build/2018032406/POE-Loop-Glib-0.038-0/blib/lib/POE/Loop/Glib.pm line 53.
GLib-CRITICAL **: Source ID 131 was not found when attempting to remove it at /home/cpansand/.cpan/build/2018032406/POE-Loop-Glib-0.038-0/blib/lib/POE/Loop/Glib.pm line 53.
GLib-CRITICAL **: Source ID 135 was not found when attempting to remove it at /home/cpansand/.cpan/build/2018032406/POE-Loop-Glib-0.038-0/blib/lib/POE/Loop/Glib.pm line 53.
GLib-CRITICAL **: Source ID 136 was not found when attempting to remove it at /home/cpansand/.cpan/build/2018032406/POE-Loop-Glib-0.038-0/blib/lib/POE/Loop/Glib.pm line 53.
GLib-CRITICAL **: Source ID 140 was not found when attempting to remove it at /home/cpansand/.cpan/build/2018032406/POE-Loop-Glib-0.038-0/blib/lib/POE/Loop/Glib.pm line 53.
GLib-CRITICAL **: Source ID 142 was not found when attempting to remove it at /home/cpansand/.cpan/build/2018032406/POE-Loop-Glib-0.038-0/blib/lib/POE/Loop/Glib.pm line 53.
GLib-CRITICAL **: Source ID 143 was not found when attempting to remove it at /home/cpansand/.cpan/build/2018032406/POE-Loop-Glib-0.038-0/blib/lib/POE/Loop/Glib.pm line 53.
GLib-CRITICAL **: Source ID 147 was not found when attempting to remove it at /home/cpansand/.cpan/build/2018032406/POE-Loop-Glib-0.038-0/blib/lib/POE/Loop/Glib.pm line 53.
GLib-CRITICAL **: Source ID 149 was not found when attempting to remove it at /home/cpansand/.cpan/build/2018032406/POE-Loop-Glib-0.038-0/blib/lib/POE/Loop/Glib.pm line 53.
GLib-CRITICAL **: Source ID 150 was not found when attempting to remove it at /home/cpansand/.cpan/build/2018032406/POE-Loop-Glib-0.038-0/blib/lib/POE/Loop/Glib.pm line 53.
GLib-CRITICAL **: Source ID 154 was not found when attempting to remove it at /home/cpansand/.cpan/build/2018032406/POE-Loop-Glib-0.038-0/blib/lib/POE/Loop/Glib.pm line 53.
GLib-CRITICAL **: Source ID 156 was not found when attempting to remove it at /home/cpansand/.cpan/build/2018032406/POE-Loop-Glib-0.038-0/blib/lib/POE/Loop/Glib.pm line 53.
GLib-CRITICAL **: Source ID 157 was not found when attempting to remove it at /home/cpansand/.cpan/build/2018032406/POE-Loop-Glib-0.038-0/blib/lib/POE/Loop/Glib.pm line 53.
GLib-CRITICAL **: Source ID 161 was not found when attempting to remove it at /home/cpansand/.cpan/build/2018032406/POE-Loop-Glib-0.038-0/blib/lib/POE/Loop/Glib.pm line 53.
GLib-CRITICAL **: Source ID 163 was not found when attempting to remove it at /home/cpansand/.cpan/build/2018032406/POE-Loop-Glib-0.038-0/blib/lib/POE/Loop/Glib.pm line 53.
GLib-CRITICAL **: Source ID 164 was not found when attempting to remove it at /home/cpansand/.cpan/build/2018032406/POE-Loop-Glib-0.038-0/blib/lib/POE/Loop/Glib.pm line 53.
GLib-CRITICAL **: Source ID 168 was not found when attempting to remove it at /home/cpansand/.cpan/build/2018032406/POE-Loop-Glib-0.038-0/blib/lib/POE/Loop/Glib.pm line 53.
GLib-CRITICAL **: Source ID 171 was not found when attempting to remove it at /home/cpansand/.cpan/build/2018032406/POE-Loop-Glib-0.038-0/blib/lib/POE/Loop/Glib.pm line 53.
t/glib/comp_tcp_concurrent.t ........... ok
t/glib/connect_errors.t ................ ok
t/glib/k_alarms.t ...................... ok
t/glib/k_aliases.t ..................... ok
t/glib/k_detach.t ...................... ok
t/glib/k_run_returns.t ................. ok
GLib-CRITICAL **: Source ID 6 was not found when attempting to remove it at /home/cpansand/.cpan/build/2018032406/POE-Loop-Glib-0.038-0/blib/lib/POE/Loop/Glib.pm line 53.
GLib-CRITICAL **: Source ID 411939 was not found when attempting to remove it at /home/cpansand/.cpan/build/2018032406/POE-Loop-Glib-0.038-0/blib/lib/POE/Loop/Glib.pm line 53.
t/glib/k_selects.t ..................... ok
t/glib/k_sig_child.t ................... ok
t/glib/k_signals.t ..................... ok
GLib-CRITICAL **: Source ID 3 was not found when attempting to remove it at /home/cpansand/.cpan/build/2018032406/POE-Loop-Glib-0.038-0/blib/lib/POE/Loop/Glib.pm line 53.
GLib-CRITICAL **: Source ID 14 was not found when attempting to remove it at /home/cpansand/.cpan/build/2018032406/POE-Loop-Glib-0.038-0/blib/lib/POE/Loop/Glib.pm line 53.
GLib-CRITICAL **: Source ID 25 was not found when attempting to remove it at /home/cpansand/.cpan/build/2018032406/POE-Loop-Glib-0.038-0/blib/lib/POE/Loop/Glib.pm line 53.
GLib-CRITICAL **: Source ID 36 was not found when attempting to remove it at /home/cpansand/.cpan/build/2018032406/POE-Loop-Glib-0.038-0/blib/lib/POE/Loop/Glib.pm line 53.
GLib-CRITICAL **: Source ID 47 was not found when attempting to remove it at /home/cpansand/.cpan/build/2018032406/POE-Loop-Glib-0.038-0/blib/lib/POE/Loop/Glib.pm line 53.
GLib-CRITICAL **: Source ID 58 was not found when attempting to remove it at /home/cpansand/.cpan/build/2018032406/POE-Loop-Glib-0.038-0/blib/lib/POE/Loop/Glib.pm line 53.
GLib-CRITICAL **: Source ID 69 was not found when attempting to remove it at /home/cpansand/.cpan/build/2018032406/POE-Loop-Glib-0.038-0/blib/lib/POE/Loop/Glib.pm line 53.
GLib-CRITICAL **: Source ID 80 was not found when attempting to remove it at /home/cpansand/.cpan/build/2018032406/POE-Loop-Glib-0.038-0/blib/lib/POE/Loop/Glib.pm line 53.
t/glib/k_signals_rerun.t ............... ok
t/glib/sbk_signal_init.t ............... ok
t/glib/ses_nfa.t ....................... ok
# This test generates some STDERR during trace testing.
=== 13741 === 23 -> _start (from /opt/perl-5.27.10/lib/site_perl/5.27.10/POE/Kernel.pm at 1497)
=== 13741 === 23 -> woot (from /opt/perl-5.27.10/lib/site_perl/5.27.10/POE/Test/Loops/ses_session.pm at 691)
=== 13741 === 23 -> narf (from /opt/perl-5.27.10/lib/site_perl/5.27.10/POE/Test/Loops/ses_session.pm at 692)
=== 13741 === 23 -> _stop (from /opt/perl-5.27.10/lib/site_perl/5.27.10/POE/Resource/Sessions.pm at 571)
t/glib/ses_session.t ................... ok
t/glib/wheel_accept.t .................. ok
t/glib/wheel_curses.t .................. skipped: Need help with Curses functions blocking under ptys
t/glib/wheel_readline.t ................ ok
GLib-CRITICAL **: Source ID 114649 was not found when attempting to remove it at /home/cpansand/.cpan/build/2018032406/POE-Loop-Glib-0.038-0/blib/lib/POE/Loop/Glib.pm line 53.
t/glib/wheel_readwrite.t ............... ok
t/glib/wheel_run.t ..................... ok
GLib-CRITICAL **: Source ID 3 was not found when attempting to remove it at /home/cpansand/.cpan/build/2018032406/POE-Loop-Glib-0.038-0/blib/lib/POE/Loop/Glib.pm line 53.
t/glib/wheel_run_size.t ................ ok
t/glib/wheel_sf_ipv6.t ................. skipped: Socket::GetAddrInfo is needed for IPv6 tests
GLib-CRITICAL **: Source ID 4 was not found when attempting to remove it at /home/cpansand/.cpan/build/2018032406/POE-Loop-Glib-0.038-0/blib/lib/POE/Loop/Glib.pm line 53.
t/glib/wheel_sf_tcp.t .................. ok
t/glib/wheel_sf_udp.t .................. ok
GLib-CRITICAL **: Source ID 4 was not found when attempting to remove it at /home/cpansand/.cpan/build/2018032406/POE-Loop-Glib-0.038-0/blib/lib/POE/Loop/Glib.pm line 53.
t/glib/wheel_sf_unix.t ................. ok
t/glib/wheel_tail.t .................... ok
t/glib/z_kogman_sig_order.t ............ ok
t/glib/z_leolo_wheel_run.t ............. ok
# Using '/bin/true' as our thing to run under system()
t/glib/z_merijn_sigchld_system.t ....... ok
GLib-CRITICAL **: Source ID 6 was not found when attempting to remove it at /home/cpansand/.cpan/build/2018032406/POE-Loop-Glib-0.038-0/blib/lib/POE/Loop/Glib.pm line 53.
GLib-CRITICAL **: Source ID 49591 was not found when attempting to remove it at /home/cpansand/.cpan/build/2018032406/POE-Loop-Glib-0.038-0/blib/lib/POE/Loop/Glib.pm line 53.
t/glib/z_rt39872_sigchld.t ............. ok
# Parent 13805 waiting 3sec for slow systems to settle.
# sending sigusr1
# sent sigusr1
13806: GLib-CRITICAL **: Source ID 5 was not found when attempting to remove it at /home/cpansand/.cpan/build/2018032406/POE-Loop-Glib-0.038-0/blib/lib/POE/Loop/Glib.pm line 53.
13805: GLib-CRITICAL **: Source ID 627578 was not found when attempting to remove it at /home/cpansand/.cpan/build/2018032406/POE-Loop-Glib-0.038-0/blib/lib/POE/Loop/Glib.pm line 53.
13807: GLib-CRITICAL **: Source ID 5 was not found when attempting to remove it at /home/cpansand/.cpan/build/2018032406/POE-Loop-Glib-0.038-0/blib/lib/POE/Loop/Glib.pm line 53.
13805: GLib-CRITICAL **: Source ID 627584 was not found when attempting to remove it at /home/cpansand/.cpan/build/2018032406/POE-Loop-Glib-0.038-0/blib/lib/POE/Loop/Glib.pm line 53.
t/glib/z_rt39872_sigchld_stop.t ........ ok
GLib-CRITICAL **: Source ID 14 was not found when attempting to remove it at /home/cpansand/.cpan/build/2018032406/POE-Loop-Glib-0.038-0/blib/lib/POE/Loop/Glib.pm line 53.
GLib-CRITICAL **: Source ID 34 was not found when attempting to remove it at /home/cpansand/.cpan/build/2018032406/POE-Loop-Glib-0.038-0/blib/lib/POE/Loop/Glib.pm line 53.
t/glib/z_rt53302_fh_watchers.t ......... ok
t/glib/z_rt54319_bazerka_followtail.t .. ok
t/glib/z_steinert_signal_integrity.t ... ok
All tests successful.
Files=37, Tests=491, 28 wallclock secs ( 0.09 usr  0.23 sys + 19.63 cusr  5.24 csys = 25.19 CPU)
Result: PASS

------------------------------
PREREQUISITES
------------------------------

Prerequisite modules loaded:

requires:

    Module           Need  Have    
    ---------------- ----- --------
    Glib             1.222 1.326   
    perl             5.006 5.027010
    POE              1.288 1.367   

configure_requires:

    Module           Need  Have    
    ---------------- ----- --------
    Module::Build    0.36  0.4224  
    POE::Test::Loops 1.034 1.360   

opt_requires:

    Module           Need  Have    
    ---------------- ----- --------
    IO::Pty          0     1.12    
    Socket6          0     0.28    
  ! Term::Readkey    0     n/a     
  ! Win32::Console   0     n/a     


------------------------------
ENVIRONMENT AND OTHER CONTEXT
------------------------------

Environment variables:

    LANG = C
    LC_ALL = de_DE.UTF-8
    PATH = /usr/local/bin:/usr/bin:/bin:/usr/local/sbin:/usr/sbin:/sbin:/home/cpansand/bin/linux-gnu:/home/cpansand/bin/sh:/home/cpansand/bin:/usr/games:/home/cpansand/devel:/home/eserte/src/srezic-misc/scripts
    PERL5LIB = 
    PERL5OPT = 
    PERL5_CPANPLUS_IS_RUNNING = 9919
    PERL5_CPAN_IS_RUNNING = 9919
    PERL5_CPAN_IS_RUNNING_IN_RECURSION = 19808,9919
    PERLDOC = -MPod::Perldoc::ToTextOverstrike
    PERL_BATCH = yes
    PERL_CANARY_STABILITY_NOPROMPT = 1
    PERL_CPAN_REPORTER_CONFIG = /var/tmp/cpansmoker-1023/2018032406/cpanreporter_002_config.ini
    PERL_EXTUTILS_AUTOINSTALL = --defaultdeps
    PERL_PARALLEL_SMOKER = yes
    PERL_USE_UNSAFE_INC = 1
    SHELL = /usr/bin/zsh
    TERM = screen
    TMPDIR = /var/tmp/cpansmoker-1023/2018032406

Perl special variables (and OS-specific diagnostics, for MSWin32):

    $^X = /opt/perl-5.27.10/bin/perl5.27.10
    $UID/$EUID = 1023 / 1023
    $GID = 1023 1023
    $EGID = 1023 1023

Perl module toolchain versions installed:

    Module              Have    
    ------------------- --------
    CPAN                2.16    
    CPAN::Meta          2.150010
    Cwd                 3.74    
    ExtUtils::CBuilder  0.280230
    ExtUtils::Command   7.34    
    ExtUtils::Install   2.14    
    ExtUtils::MakeMaker 7.34    
    ExtUtils::Manifest  1.70    
    ExtUtils::ParseXS   3.35    
    File::Spec          3.74    
    JSON                2.97001 
    JSON::PP            2.97001 
    Module::Build       0.4224  
    Module::Signature   0.81    
    Parse::CPAN::Meta   2.150010
    Test::Harness       3.42    
    Test::More          1.302133
    YAML                1.24    
    YAML::Syck          1.30    
    version             0.9918  


--

Summary of my perl5 (revision 5 version 27 subversion 10) configuration:
   
  Platform:
    osname=linux
    osvers=4.9.0-3-amd64
    archname=x86_64-linux
    uname='linux debian9 4.9.0-3-amd64 #1 smp debian 4.9.30-2+deb9u5 (2017-09-19) x86_64 gnulinux '
    config_args='-ds -e -Dprefix=/opt/perl-5.27.10 -Dusedevel -Dusemallocwrap=no -Dcf_email=srezic@cpan.org'
    hint=recommended
    useposix=true
    d_sigaction=define
    useithreads=undef
    usemultiplicity=undef
    use64bitint=define
    use64bitall=define
    uselongdouble=undef
    usemymalloc=n
    default_inc_excludes_dot=define
    bincompat5005=undef
  Compiler:
    cc='cc'
    ccflags ='-fwrapv -fno-strict-aliasing -pipe -fstack-protector-strong -I/usr/local/include -D_LARGEFILE_SOURCE -D_FILE_OFFSET_BITS=64 -D_FORTIFY_SOURCE=2'
    optimize='-O2'
    cppflags='-fwrapv -fno-strict-aliasing -pipe -fstack-protector-strong -I/usr/local/include'
    ccversion=''
    gccversion='6.3.0 20170516'
    gccosandvers=''
    intsize=4
    longsize=8
    ptrsize=8
    doublesize=8
    byteorder=12345678
    doublekind=3
    d_longlong=define
    longlongsize=8
    d_longdbl=define
    longdblsize=16
    longdblkind=3
    ivtype='long'
    ivsize=8
    nvtype='double'
    nvsize=8
    Off_t='off_t'
    lseeksize=8
    alignbytes=8
    prototype=define
  Linker and Libraries:
    ld='cc'
    ldflags =' -fstack-protector-strong -L/usr/local/lib'
    libpth=/usr/local/lib /usr/lib/gcc/x86_64-linux-gnu/6/include-fixed /usr/include/x86_64-linux-gnu /usr/lib /lib/x86_64-linux-gnu /lib/../lib /usr/lib/x86_64-linux-gnu /usr/lib/../lib /lib
    libs=-lpthread -lnsl -lgdbm -ldb -ldl -lm -lcrypt -lutil -lc -lgdbm_compat
    perllibs=-lpthread -lnsl -ldl -lm -lcrypt -lutil -lc
    libc=libc-2.24.so
    so=so
    useshrplib=false
    libperl=libperl.a
    gnulibc_version='2.24'
  Dynamic Linking:
    dlsrc=dl_dlopen.xs
    dlext=so
    d_dlsymun=undef
    ccdlflags='-Wl,-E'
    cccdlflags='-fPIC'
    lddlflags='-shared -O2 -L/usr/local/lib -fstack-protector-strong'


Characteristics of this binary (from libperl): 
  Compile-time options:
    HAS_TIMES
    PERLIO_LAYERS
    PERL_COPY_ON_WRITE
    PERL_DONT_CREATE_GVSV
    PERL_OP_PARENT
    PERL_PRESERVE_IVUV
    PERL_USE_DEVEL
    USE_64_BIT_ALL
    USE_64_BIT_INT
    USE_LARGE_FILES
    USE_LOCALE
    USE_LOCALE_COLLATE
    USE_LOCALE_CTYPE
    USE_LOCALE_NUMERIC
    USE_LOCALE_TIME
    USE_PERLIO
    USE_PERL_ATOF
  Built under linux
  Compiled at Mar 20 2018 21:34:28
  %ENV:
    PERL5LIB=""
    PERL5OPT=""
    PERL5_CPANPLUS_IS_RUNNING="9919"
    PERL5_CPAN_IS_RUNNING="9919"
    PERL5_CPAN_IS_RUNNING_IN_RECURSION="19808,9919"
    PERLDOC="-MPod::Perldoc::ToTextOverstrike"
    PERL_BATCH="yes"
    PERL_CANARY_STABILITY_NOPROMPT="1"
    PERL_CPAN_REPORTER_CONFIG="/var/tmp/cpansmoker-1023/2018032406/cpanreporter_002_config.ini"
    PERL_EXTUTILS_AUTOINSTALL="--defaultdeps"
    PERL_PARALLEL_SMOKER="yes"
    PERL_USE_UNSAFE_INC="1"
  @INC:
    /opt/perl-5.27.10/lib/site_perl/5.27.10/x86_64-linux
    /opt/perl-5.27.10/lib/site_perl/5.27.10
    /opt/perl-5.27.10/lib/5.27.10/x86_64-linux
    /opt/perl-5.27.10/lib/5.27.10
    .