Report for Task-BeLike-LESPEA-2.005000

Back
From: metabase:user:30ae4450-2aae-11df-837a-5e0a49663a4f
Subject: PASS Task-BeLike-LESPEA-2.005000 v5.23.9 
Date: 2016-03-31T13:06:23Z

This distribution has been tested as part of the CPAN Testers
project, supporting the Perl programming language.  See
http://wiki.cpantesters.org/ for more information or email
questions to cpan-testers-discuss@perl.org


--
Dear Adam Lesperance,

This is a computer-generated report for Task-BeLike-LESPEA-2.005000
on perl 5.23.9, created by CPAN-Reporter-1.2017.

Thank you for uploading your work to CPAN.  Congratulations!
All tests were successful.

Sections of this report:

    * Tester comments
    * Program output
    * Prerequisites
    * Environment and other context

------------------------------
TESTER COMMENTS
------------------------------

Additional comments from tester:

this report is from an automated smoke testing program
and was not reviewed by a human for accuracy

------------------------------
PROGRAM OUTPUT
------------------------------

Output from 'C:\Strawberry239\perl\bin\perl.exe ./Build test':

t/00-compile.t .................. ok
# 
# Readonly::XS: Readonly::XS is not a standalone module. You should not use it directly. at C:/Strawberry239/perl/site/lib/Readonly/XS.pm line 34.
# BEGIN failed--compilation aborted at C:/Strawberry239/perl/site/lib/Readonly/XS.pm line 34.
# Compilation failed in require at (eval 1081)[t/000-report-versions-tiny.t:26] line 1.
# 
# Generated by Dist::Zilla::Plugin::ReportVersions::Tiny v1.10
# perl: 5.023009 (wanted 5.008) on MSWin32 from C:\Strawberry239\perl\bin\perl.exe
# 
# Any::Moose                                    => 0.26       (want any version)
# AnyEvent                                      => 7.12       (want any version)
# Async::Interrupt                              => module not found. (want any version)
# Coro                                          => module not found. (want any version)
# DBD::CSV                                      => 0.48       (want any version)
# DBI                                           => 1.634      (want any version)
# Data::Dumper::Perltidy                        => 0.03       (want any version)
# Data::Printer                                 => 0.38       (want any version)
# Date::Calc                                    => 6.4        (want any version)
# Date::Manip                                   => 6.53       (want any version)
# DateTime                                      => 1.26       (want any version)
# DateTime::Format::DB2                         => 0.05       (want any version)
# DateTime::Format::DBI                         => 0.041      (want any version)
# DateTime::Format::DateManip                   => module not found. (want any version)
# DateTime::Format::DateParse                   => 0.05       (want any version)
# DateTime::Format::Duration                    => 1.04       (want any version)
# DateTime::Format::Duration::DurationString    => 0.04       (want any version)
# DateTime::Format::Duration::XSD               => 0.01       (want any version)
# DateTime::Format::Epoch                       => 0.16       (want any version)
# DateTime::Format::Epoch::ActiveDirectory      => 0.13       (want any version)
# DateTime::Format::Epoch::MacOS                => 0.13       (want any version)
# DateTime::Format::Epoch::Unix                 => 0.13       (want any version)
# DateTime::Format::Excel                       => 0.31       (want any version)
# DateTime::Format::Flexible                    => 0.26       (want any version)
# DateTime::Format::HTTP                        => 0.42       (want any version)
# DateTime::Format::Human                       => 0.01       (want any version)
# DateTime::Format::Human::Duration             => module not found. (want any version)
# DateTime::Format::ISO8601                     => 0.08       (want any version)
# DateTime::Format::MSSQL                       => 1.001000   (want any version)
# DateTime::Format::MySQL                       => 0.06       (want any version)
# DateTime::Format::Natural                     => 1.03       (want any version)
# DateTime::Format::Natural::Calc               => 1.40       (want any version)
# DateTime::Format::Natural::Compat             => 0.07       (want any version)
# DateTime::Format::Natural::Duration           => 0.06       (want any version)
# DateTime::Format::Natural::Duration::Checks   => 0.04       (want any version)
# DateTime::Format::Natural::Expand             => 0.03       (want any version)
# DateTime::Format::Natural::Extract            => 0.11       (want any version)
# DateTime::Format::Natural::Formatted          => 0.07       (want any version)
# DateTime::Format::Natural::Helpers            => 0.06       (want any version)
# DateTime::Format::Natural::Lang::Base         => 1.08       (want any version)
# DateTime::Format::Natural::Lang::EN           => 1.60       (want any version)
# DateTime::Format::Natural::Rewrite            => 0.06       (want any version)
# DateTime::Format::Natural::Test               => 0.10       (want any version)
# DateTime::Format::Natural::Utils              => 0.05       (want any version)
# DateTime::Format::Natural::Wrappers           => 0.03       (want any version)
# DateTime::Format::Oracle                      => 0.06       (want any version)
# DateTime::Format::Pg                          => 0.16011    (want any version)
# DateTime::Format::RFC3339                     => v1.2.0     (want any version)
# DateTime::Format::RFC3501                     => 0.02       (want any version)
# DateTime::Format::RSS                         => 0.03000    (want any version)
# DateTime::Format::Roman                       => module not found. (want any version)
# DateTime::Format::SQLite                      => 0.11       (want any version)
# DateTime::Format::Strptime                    => 1.66       (want any version)
# DateTime::Format::Sybase                      => 0.04       (want any version)
# DateTime::Format::WindowsFileTime             => 0.02       (want any version)
# DateTime::Format::XSD                         => 0.2        (want any version)
# Devel::Cover                                  => 1.21       (want any version)
# Devel::NYTProf                                => 6.03       (want any version)
# Devel::REPL                                   => 1.003028   (want any version)
# Devel::REPL::Plugin::DataPrinter              => 0.007      (want any version)
# Dist::Zilla                                   => 5.043      (want any version)
# Dist::Zilla::App::Command::cover              => 1.101001   (want any version)
# Dist::Zilla::App::Command::perltidy           => 0.21       (want any version)
# Dist::Zilla::App::Command::shell              => 0.005      (want any version)
# Dist::Zilla::PluginBundle::Author::LESPEA     => 1.008000   (want 1.005001)
# Dist::Zilla::Shell                            => 0.005      (want any version)
# EV                                            => 4.22       (want any version)
# Encode                                        => 2.83       (want any version)
# Event                                         => 1.24       (want any version)
# Excel::Writer::XLSX                           => 0.88       (want any version)
# Exporter::Easy                                => 0.18       (want any version)
# File::HomeDir                                 => 1.00       (want any version)
# File::Next                                    => 1.12       (want any version)
# File::ShareDir                                => 1.102      (want any version)
# File::Slurp                                   => 9999.19    (want any version)
# File::Spec                                    => 3.63       (want any version)
# Getopt::Long::Descriptive                     => 0.099      (want any version)
# Guard                                         => 1.023      (want any version)
# HTML::Entities                                => 3.69       (want any version)
# HTML::Tree                                    => 5.03       (want any version)
# HTML::TreeBuilder::XPath                      => 0.14       (want any version)
# IO::Handle                                    => 1.35       (want any version)
# IO::Scalar                                    => 2.111      (want any version)
# IPC::Open3                                    => 1.20       (want any version)
# JSON                                          => 2.90       (want any version)
# JSON::Any                                     => 1.39       (want any version)
# JSON::XS                                      => 3.02       (want any version)
# LWP                                           => 6.15       (want any version)
# LWP::Protocol::https                          => 6.06       (want any version)
# List::AllUtils                                => 0.09       (want any version)
# List::Gen                                     => module not found. (want any version)
# List::MoreUtils                               => 0.413      (want any version)
# Locale::US                                    => 3.04       (want any version)
# Math::Big                                     => 1.12       (want any version)
# Math::Big::Factors                            => 1.02       (want any version)
# Modern::Perl                                  => 1.20150127 (want 1.201205)
# Module::Build                                 => 0.4216     (want 0.3601) 
# Module::Install                               => 1.16       (want any version)
# Module::Install::AuthorTests                  => 0.002      (want any version)
# Module::Install::ExtraTests                   => 0.008      (want any version)
# Module::Refresh                               => 0.17       (want any version)
# Module::Reload                                => 1.10       (want any version)
# Moose                                         => 2.1605     (want any version)
# Moose::Meta::Attribute::Native                => 2.1605     (want any version)
# MooseX::Aliases                               => 0.11       (want any version)
# MooseX::App                                   => 1.34       (want any version)
# MooseX::App::Cmd                              => 0.32       (want any version)
# MooseX::Log::Log4perl                         => 0.47       (want any version)
# MooseX::Method::Signatures                    => 0.49       (want any version)
# MooseX::Singleton                             => 0.29       (want any version)
# MooseX::StrictConstructor                     => 0.19       (want any version)
# MooseX::Types                                 => 0.46       (want any version)
# MooseX::Types::Common                         => 0.001013   (want any version)
# MooseX::Types::Common::Numeric                => 0.001013   (want any version)
# MooseX::Types::Common::String                 => 0.001013   (want any version)
# MooseX::Types::DateTime::ButMaintained        => module not found. (want any version)
# MooseX::Types::Email                          => 0.007      (want any version)
# MooseX::Types::IPv4                           => 0.03       (want any version)
# MooseX::Types::JSON                           => 1.00       (want any version)
# MooseX::Types::NetAddr::IP                    => 0.07       (want any version)
# MooseX::Types::PortNumber                     => 0.01       (want any version)
# MooseX::Types::Structured                     => 0.35       (want any version)
# MooseX::Types::URI                            => 0.08       (want any version)
# MooseX::Types::UUID                           => 0.03       (want any version)
# MouseX::Types                                 => 0.06       (want any version)
# Net::CIDR::Lite                               => 0.21       (want any version)
# Net::DNS                                      => 1.05       (want any version)
# Net::IP                                       => 1.26       (want any version)
# Net::Netmask                                  => 1.9022     (want any version)
# Net::Ping                                     => 2.43       (want any version)
# NetAddr::MAC                                  => 0.94       (want any version)
# PPI::HTML                                     => 1.08       (want any version)
# Perl::Critic                                  => 1.126      (want any version)
# Perl::Tidy                                    => 20160302   (want any version)
# Readonly::XS                                  => died during require. (want any version)
# Regexp::Common                                => 2016020301 (want any version)
# Scalar::Util                                  => 1.45       (want any version)
# Spreadsheet::ParseExcel                       => 0.65       (want any version)
# Spreadsheet::WriteExcel                       => 2.40       (want any version)
# Spreadsheet::XLSX                             => module not found. (want any version)
# Task::Weaken                                  => 1.04       (want any version)
# Template                                      => 2.26       (want any version)
# Test::Fatal                                   => 0.014      (want any version)
# Test::File                                    => 1.44       (want any version)
# Test::LeakTrace                               => 0.15       (want any version)
# Test::Memory::Cycle                           => 1.06       (want any version)
# Test::More                                    => 1.001014   (want 0.88)   
# Test::Most                                    => 0.34       (want any version)
# Test::Output                                  => 1.03       (want any version)
# Test::Perl::Critic                            => 1.03       (want any version)
# Test::Pod                                     => 1.51       (want any version)
# Test::Pod::Coverage                           => 1.10       (want any version)
# Test::Taint                                   => 1.06       (want any version)
# Text::CSV_XS                                  => 1.23       (want any version)
# Text::Trim                                    => 1.02       (want any version)
# Try::Tiny                                     => 0.24       (want any version)
# WWW::Mechanize                                => 1.75       (want any version)
# XML::LibXML                                   => 2.0124     (want any version)
# XML::SAX                                      => 0.99       (want any version)
# XML::Simple                                   => 2.22       (want any version)
# XML::Twig                                     => 3.49       (want any version)
# YAML                                          => 1.15       (want any version)
# YAML::Any                                     => 1.15       (want any version)
# YAML::Syck                                    => 1.29       (want any version)
# YAML::XS                                      => 0.62       (want any version)
# autodie                                       => 2.29       (want any version)
# autovivification                              => 0.16       (want any version)
# namespace::autoclean                          => 0.28       (want any version)
# strict                                        => 1.11       (want any version)
# utf8                                          => 1.19       (want any version)
# warnings                                      => 1.36       (want any version)
# 
# Thanks for using my code.  I hope it works for you.
# If not, please try and include this output in the bug report.
# That will help me reproduce the issue and solve your problem.
# 
t/000-report-versions-tiny.t .... ok
t/author-critic.t ............... skipped: these tests are for testing by the author
t/release-common_spelling.t ..... skipped: these tests are for release candidate testing
t/release-consistent-version.t .. skipped: these tests are for release candidate testing
t/release-cpan-changes.t ........ skipped: these tests are for release candidate testing
t/release-dist-manifest.t ....... skipped: these tests are for release candidate testing
t/release-distmeta.t ............ skipped: these tests are for release candidate testing
t/release-has-version.t ......... skipped: these tests are for release candidate testing
t/release-minimum-version.t ..... skipped: these tests are for release candidate testing
t/release-no-tabs.t ............. skipped: these tests are for release candidate testing
t/release-pod-coverage.t ........ skipped: these tests are for release candidate testing
t/release-pod-syntax.t .......... skipped: these tests are for release candidate testing
t/release-portability.t ......... skipped: these tests are for release candidate testing
t/release-synopsis.t ............ skipped: these tests are for release candidate testing
All tests successful.
Files=15, Tests=2, 59 wallclock secs ( 0.03 usr +  0.08 sys =  0.11 CPU)
Result: PASS

------------------------------
PREREQUISITES
------------------------------

Prerequisite modules loaded:

requires:

    Module                                      Need     Have      
    ------------------------------------------- -------- ----------
    Any::Moose                                  0.000000 0.26      
    AnyEvent                                    0.000000 7.12      
  ! Async::Interrupt                            0.000000 n/a       
    autodie                                     0.000000 2.29      
    autovivification                            0.000000 0.16      
  ! Coro                                        0.000000 n/a       
    Data::Dumper::Perltidy                      0.000000 0.03      
    Data::Printer                               0.000000 0.38      
    Date::Calc                                  0.000000 6.4       
    Date::Manip                                 0.000000 6.53      
    DateTime                                    0.000000 1.26      
  ! DateTime::Format::DateManip                 0.000000 n/a       
    DateTime::Format::DateParse                 0.000000 0.05      
    DateTime::Format::DB2                       0.000000 0.05      
    DateTime::Format::DBI                       0.000000 0.041     
    DateTime::Format::Duration                  0.000000 1.04      
    DateTime::Format::Duration::DurationString  0.000000 0.04      
    DateTime::Format::Duration::XSD             0.000000 0.01      
    DateTime::Format::Epoch                     0.000000 0.16      
    DateTime::Format::Epoch::ActiveDirectory    0.000000 0.13      
    DateTime::Format::Epoch::MacOS              0.000000 0.13      
    DateTime::Format::Epoch::Unix               0.000000 0.13      
    DateTime::Format::Excel                     0.000000 0.31      
    DateTime::Format::Flexible                  0.000000 0.26      
    DateTime::Format::HTTP                      0.000000 0.42      
    DateTime::Format::Human                     0.000000 0.01      
  ! DateTime::Format::Human::Duration           0.000000 n/a       
    DateTime::Format::ISO8601                   0.000000 0.08      
    DateTime::Format::MSSQL                     0.000000 1.001000  
    DateTime::Format::MySQL                     0.000000 0.06      
    DateTime::Format::Natural                   0.000000 1.03      
    DateTime::Format::Natural::Calc             0.000000 1.40      
    DateTime::Format::Natural::Compat           0.000000 0.07      
    DateTime::Format::Natural::Duration         0.000000 0.06      
    DateTime::Format::Natural::Duration::Checks 0.000000 0.04      
    DateTime::Format::Natural::Expand           0.000000 0.03      
    DateTime::Format::Natural::Extract          0.000000 0.11      
    DateTime::Format::Natural::Formatted        0.000000 0.07      
    DateTime::Format::Natural::Helpers          0.000000 0.06      
    DateTime::Format::Natural::Lang::Base       0.000000 1.08      
    DateTime::Format::Natural::Lang::EN         0.000000 1.60      
    DateTime::Format::Natural::Rewrite          0.000000 0.06      
    DateTime::Format::Natural::Test             0.000000 0.10      
    DateTime::Format::Natural::Utils            0.000000 0.05      
    DateTime::Format::Natural::Wrappers         0.000000 0.03      
    DateTime::Format::Oracle                    0.000000 0.06      
    DateTime::Format::Pg                        0.000000 0.16011   
    DateTime::Format::RFC3339                   0.000000 v1.2.0    
    DateTime::Format::RFC3501                   0.000000 0.02      
  ! DateTime::Format::Roman                     0.000000 n/a       
    DateTime::Format::RSS                       0.000000 0.03000   
    DateTime::Format::SQLite                    0.000000 0.11      
    DateTime::Format::Strptime                  0.000000 1.66      
    DateTime::Format::Sybase                    0.000000 0.04      
    DateTime::Format::WindowsFileTime           0.000000 0.02      
    DateTime::Format::XSD                       0.000000 0.2       
    DBD::CSV                                    0.000000 0.48      
    DBI                                         0.000000 1.634     
    Devel::Cover                                0.000000 1.21      
    Devel::NYTProf                              0.000000 6.03      
    Devel::REPL                                 0.000000 1.003028  
    Devel::REPL::Plugin::DataPrinter            0.000000 0.007     
    Dist::Zilla                                 0.000000 5.043     
    Dist::Zilla::App::Command::cover            0.000000 1.101001  
    Dist::Zilla::App::Command::perltidy         0.000000 0.21      
    Dist::Zilla::App::Command::shell            0.000000 0.005     
    Dist::Zilla::PluginBundle::Author::LESPEA   1.005001 1.008000  
    Dist::Zilla::Shell                          0.000000 0.005     
    Encode                                      0.000000 2.83      
    EV                                          0.000000 4.22      
    Event                                       0.000000 1.24      
    Excel::Writer::XLSX                         0.000000 0.88      
    Exporter::Easy                              0.000000 0.18      
    File::HomeDir                               0.000000 1.00      
    File::Next                                  0.000000 1.12      
    File::ShareDir                              0.000000 1.102     
    File::Slurp                                 0.000000 9999.19   
    Getopt::Long::Descriptive                   0.000000 0.099     
    Guard                                       0.000000 1.023     
    HTML::Entities                              0.000000 3.69      
    HTML::Tree                                  0.000000 5.03      
    HTML::TreeBuilder::XPath                    0.000000 0.14      
    IO::Scalar                                  0.000000 2.111     
    JSON                                        0.000000 2.90      
    JSON::Any                                   0.000000 1.39      
    JSON::XS                                    0.000000 3.02      
    List::AllUtils                              0.000000 0.09      
  ! List::Gen                                   0.000000 n/a       
    List::MoreUtils                             0.000000 0.413     
    Locale::US                                  0.000000 3.04      
    LWP                                         0.000000 6.15      
    LWP::Protocol::https                        0.000000 6.06      
    Math::Big                                   0.000000 1.12      
    Math::Big::Factors                          0.000000 1.02      
    Modern::Perl                                1.201205 1.20150127
    Module::Build                               0.3601   0.4216    
    Module::Install                             0.000000 1.16      
    Module::Install::AuthorTests                0.000000 0.002     
    Module::Install::ExtraTests                 0.000000 0.008     
    Module::Refresh                             0.000000 0.17      
    Module::Reload                              0.000000 1.10      
    Moose                                       0.000000 2.1605    
    Moose::Meta::Attribute::Native              0.000000 2.1605    
    MooseX::Aliases                             0.000000 0.11      
    MooseX::App                                 0.000000 1.34      
    MooseX::App::Cmd                            0.000000 0.32      
    MooseX::Log::Log4perl                       0.000000 0.47      
    MooseX::Method::Signatures                  0.000000 0.49      
    MooseX::Singleton                           0.000000 0.29      
    MooseX::StrictConstructor                   0.000000 0.19      
    MooseX::Types                               0.000000 0.46      
    MooseX::Types::Common                       0.000000 0.001013  
    MooseX::Types::Common::Numeric              0.000000 0.001013  
    MooseX::Types::Common::String               0.000000 0.001013  
  ! MooseX::Types::DateTime::ButMaintained      0.000000 n/a       
    MooseX::Types::Email                        0.000000 0.007     
    MooseX::Types::IPv4                         0.000000 0.03      
    MooseX::Types::JSON                         0.000000 1.00      
    MooseX::Types::NetAddr::IP                  0.000000 0.07      
    MooseX::Types::PortNumber                   0.000000 0.01      
    MooseX::Types::Structured                   0.000000 0.35      
    MooseX::Types::URI                          0.000000 0.08      
    MooseX::Types::UUID                         0.000000 0.03      
    MouseX::Types                               0.000000 0.06      
    namespace::autoclean                        0.000000 0.28      
    Net::CIDR::Lite                             0.000000 0.21      
    Net::DNS                                    0.000000 1.05      
    Net::IP                                     0.000000 1.26      
    Net::Netmask                                0.000000 1.9022    
    Net::Ping                                   0.000000 2.43      
    NetAddr::MAC                                0.000000 0.94      
    perl                                        5.008    5.023009  
    Perl::Critic                                0.000000 1.126     
    Perl::Tidy                                  0.000000 20160302  
    PPI::HTML                                   0.000000 1.08      
    Readonly::XS                                0.000000 1.05      
    Regexp::Common                              0.000000 2016020301
    Scalar::Util                                0.000000 1.45      
    Spreadsheet::ParseExcel                     0.000000 0.65      
    Spreadsheet::WriteExcel                     0.000000 2.40      
  ! Spreadsheet::XLSX                           0.000000 n/a       
    strict                                      0        1.11      
    Task::Weaken                                0.000000 1.04      
    Template                                    0.000000 2.26      
    Test::Fatal                                 0.000000 0.014     
    Test::File                                  0.000000 1.44      
    Test::LeakTrace                             0.000000 0.15      
    Test::Memory::Cycle                         0.000000 1.06      
    Test::Most                                  0.000000 0.34      
    Test::Output                                0.000000 1.03      
    Test::Perl::Critic                          0.000000 1.03      
    Test::Pod                                   0.000000 1.51      
    Test::Pod::Coverage                         0.000000 1.10      
    Test::Taint                                 0.000000 1.06      
    Text::CSV_XS                                0.000000 1.23      
    Text::Trim                                  0.000000 1.02      
    Try::Tiny                                   0.000000 0.24      
    utf8                                        0        1.19      
    warnings                                    0        1.36      
    WWW::Mechanize                              0.000000 1.75      
    XML::LibXML                                 0.000000 2.0124    
    XML::SAX                                    0.000000 0.99      
    XML::Simple                                 0.000000 2.22      
    XML::Twig                                   0.000000 3.49      
    YAML                                        0.000000 1.15      
    YAML::Any                                   0.000000 1.15      
    YAML::Syck                                  0.000000 1.29      
    YAML::XS                                    0.000000 0.62      

build_requires:

    Module                                      Need     Have      
    ------------------------------------------- -------- ----------
    File::Spec                                  0        3.63      
    IO::Handle                                  0        1.35      
    IPC::Open3                                  0        1.20      
    Module::Build                               0.3601   0.4216    
    perl                                        5.008    5.023009  
    Test::More                                  0.88     1.001014  

configure_requires:

    Module                                      Need     Have      
    ------------------------------------------- -------- ----------
    Module::Build                               0.3601   0.4216    


------------------------------
ENVIRONMENT AND OTHER CONTEXT
------------------------------

Environment variables:

    AUTOMATED_TESTING = 1
    COMSPEC = C:\WINDOWS\system32\cmd.exe
    NONINTERACTIVE_TESTING = 1
    NUMBER_OF_PROCESSORS = 1
    PATH = C:\Program Files\Far Manager\;C:\WINDOWS\system32;C:\WINDOWS;C:\WINDOWS\System32\Wbem;C:\Strawberry239\c\bin;C:\Strawberry239\perl\site\bin;C:\Strawberry239\perl\bin;C:\Git\cmd
    PERL5LIB = 
    PERL5OPT = 
    PERL5_CPANPLUS_IS_RUNNING = 1348
    PERL5_CPAN_IS_RUNNING = 1348
    PERL5_CPAN_IS_RUNNING_IN_RECURSION = 1236,1348
    PERL_CR_SMOKER_CURRENT = Task::BeLike::LESPEA
    PERL_EXTUTILS_AUTOINSTALL = --defaultdeps
    PERL_HASH_SEED = 0x11111111
    PERL_MM_USE_DEFAULT = 1
    PROCESSOR_IDENTIFIER = x86 Family 16 Model 5 Stepping 3, AuthenticAMD
    TEMP = C:\DOCUME~1\c\LOCALS~1\Temp

Perl special variables (and OS-specific diagnostics, for MSWin32):

    $^X = C:\Strawberry239\perl\bin\perl.exe
    $UID/$EUID = 0 / 0
    $GID = 0
    $EGID = 0
    Win32::GetOSName = WinXP/.Net
    Win32::GetOSVersion = Service Pack 3, 5, 1, 2600, 2, 3, 0, 256, 1
    Win32::FsType = NTFS
    Win32::IsAdminUser = 1

Perl module toolchain versions installed:

    Module              Have    
    ------------------- --------
    CPAN                2.11    
    CPAN::Meta          2.150005
    Cwd                 3.63    
    ExtUtils::CBuilder  0.280225
    ExtUtils::Command   7.10    
    ExtUtils::Install   2.04    
    ExtUtils::MakeMaker 7.10_01 
    ExtUtils::Manifest  1.70    
    ExtUtils::ParseXS   3.31    
    File::Spec          3.63    
    JSON                2.90    
    JSON::PP            2.27300 
    Module::Build       0.4216  
    Module::Signature   0.79    
    Parse::CPAN::Meta   1.4417  
    Test::Harness       3.36    
    Test::More          1.001014
    YAML                1.15    
    YAML::Syck          1.29    
    version             0.9916  


--

Summary of my perl5 (revision 5 version 23 subversion 9) configuration:
   
  Platform:
    osname=MSWin32, osvers=4.0, archname=MSWin32-x86-multi-thread-64int
    uname='Win32 strawberry-perl 5.23.9.1 #1 Fri Mar 25 14:40:30 2016 i386'
    config_args='undef'
    hint=recommended, useposix=true, d_sigaction=undef
    useithreads=define, usemultiplicity=define
    use64bitint=define, use64bitall=undef, uselongdouble=undef
    usemymalloc=n, bincompat5005=undef
  Compiler:
    cc='gcc', ccflags =' -s -O2 -DWIN32  -DPERL_TEXTMODE_SCRIPTS -DPERL_IMPLICIT_CONTEXT -DPERL_IMPLICIT_SYS -fwrapv -fno-strict-aliasing -mms-bitfields',
    optimize='-s -O2',
    cppflags='-DWIN32'
    ccversion='', gccversion='4.9.2', gccosandvers=''
    intsize=4, longsize=4, ptrsize=4, doublesize=8, byteorder=12345678, doublekind=3
    d_longlong=define, longlongsize=8, d_longdbl=define, longdblsize=12, longdblkind=3
    ivtype='long long', ivsize=8, nvtype='double', nvsize=8, Off_t='long long', lseeksize=8
    alignbytes=8, prototype=define
  Linker and Libraries:
    ld='g++', ldflags ='-s -L"C:\STRAWB~1\perl\lib\CORE" -L"C:\STRAWB~1\c\lib"'
    libpth=C:\STRAWB~1\c\lib C:\STRAWB~1\c\i686-w64-mingw32\lib C:\STRAWB~1\c\lib\gcc\i686-w64-mingw32\4.9.2
    libs=-lmoldname -lkernel32 -luser32 -lgdi32 -lwinspool -lcomdlg32 -ladvapi32 -lshell32 -lole32 -loleaut32 -lnetapi32 -luuid -lws2_32 -lmpr -lwinmm -lversion -lodbc32 -lodbccp32 -lcomctl32
    perllibs=-lmoldname -lkernel32 -luser32 -lgdi32 -lwinspool -lcomdlg32 -ladvapi32 -lshell32 -lole32 -loleaut32 -lnetapi32 -luuid -lws2_32 -lmpr -lwinmm -lversion -lodbc32 -lodbccp32 -lcomctl32
    libc=, so=dll, useshrplib=true, libperl=libperl523.a
    gnulibc_version=''
  Dynamic Linking:
    dlsrc=dl_win32.xs, dlext=xs.dll, d_dlsymun=undef, ccdlflags=' '
    cccdlflags=' ', lddlflags='-mdll -s -L"C:\STRAWB~1\perl\lib\CORE" -L"C:\STRAWB~1\c\lib"'


Characteristics of this binary (from libperl): 
  Compile-time options: HAS_TIMES HAVE_INTERP_INTERN MULTIPLICITY
                        PERLIO_LAYERS PERL_COPY_ON_WRITE
                        PERL_DONT_CREATE_GVSV
                        PERL_HASH_FUNC_ONE_AT_A_TIME_HARD
                        PERL_IMPLICIT_CONTEXT PERL_IMPLICIT_SYS
                        PERL_MALLOC_WRAP PERL_PRESERVE_IVUV USE_64_BIT_INT
                        USE_ITHREADS USE_LARGE_FILES USE_LOCALE
                        USE_LOCALE_COLLATE USE_LOCALE_CTYPE
                        USE_LOCALE_NUMERIC USE_LOCALE_TIME USE_PERLIO
                        USE_PERL_ATOF
  Built under MSWin32
  Compiled at Mar 25 2016 14:50:46
  %ENV:
    PERL5_CPANPLUS_IS_RUNNING="1348"
    PERL5_CPAN_IS_RUNNING="1348"
    PERL5_CPAN_IS_RUNNING_IN_RECURSION="1236,1348"
    PERL_CR_SMOKER_CURRENT="Task::BeLike::LESPEA"
    PERL_EXTUTILS_AUTOINSTALL="--defaultdeps"
    PERL_HASH_SEED="0x11111111"
    PERL_MM_USE_DEFAULT="1"
  @INC:
    C:/Strawberry239/perl/site/lib
    C:/Strawberry239/perl/vendor/lib
    C:/Strawberry239/perl/lib
    .