DBIx-QueryLog v0.42 Perl 5 v5.26.3 x86_64-linux-thread-multi
- Status
- Pass
- From
- Slaven Rezić (SREZIC)
- Dist
-
DBIx-QueryLog v0.42
- Platform
- Perl 5 v5.26.3 x86_64-linux-thread-multi
- Date
- 2019-02-01 18:11:07
- ID
- bf309aa4-264c-11e9-aa40-d36c4a270dba
This distribution has been tested as part of the CPAN Testers
project, supporting the Perl programming language. See
http://wiki.cpantesters.org/ for more information or email
questions to cpan-testers-discuss@perl.org
--
Dear Yuji Shimada,
This is a computer-generated report for DBIx-QueryLog-0.42
on perl 5.26.3, created by CPAN-Reporter-1.2018.
Thank you for uploading your work to CPAN. Congratulations!
All tests were successful.
Sections of this report:
* Tester comments
* Program output
* Prerequisites
* Environment and other context
------------------------------
TESTER COMMENTS
------------------------------
Additional comments from tester:
none provided
------------------------------
PROGRAM OUTPUT
------------------------------
Output from './Build test':
t/00_compile.t ................ ok
t/01_accessors.t .............. ok
t/10_simple.t ................. ok
t/11_bind.t ................... ok
t/12_skip_bind.t .............. ok
t/13_threshold.t .............. ok
t/14_probability.t ............ ok
t/15_selectrow_array.t ........ ok
t/16_multi_line.t ............. ok
t/18_bind_param.t ............. ok
t/20_localizetion.t ........... ok
t/21_guard.t .................. ok
t/22_ignore_trace.t ........... ok
t/23_do_explain.t ............. ok
t/30_logger.t ................. ok
t/31_output.t ................. ok
t/32_color.t .................. ok
t/33_useqq.t .................. ok
t/34_compact.t ................ ok
t/35_useqq_and_compact.t ...... ok
t/36_show_data_srouce.t ....... ok
t/90_alias.t .................. ok
t/99_regression_sqlite_148.t .. ok
t/mysql/01_simple.t ........... ok
t/mysql/02_bind.t ............. ok
t/mysql/10_do.t ............... ok
t/mysql/11_do_dind.t .......... ok
t/mysql/12_do_skip_bind.t ..... ok
t/mysql/13_do_probability.t ... ok
t/mysql/14_do_logger.t ........ ok
t/mysql/15_selectrow_array.t .. ok
t/mysql/16_multi_line.t ....... ok
t/mysql/17_limit.t ............ ok
t/mysql/18_bind_param.t ....... ok
t/mysql/19_bind_with_type.t ... ok
t/mysql/20_reuse_sql_type.t ... ok
t/mysql/21_do_explain.t ....... ok
t/pg/01_simple.t .............. skipped: Test requires module 'Test::PostgreSQL' but it's not found
t/pg/02_bind.t ................ skipped: Test requires module 'Test::PostgreSQL' but it's not found
t/pg/10_do.t .................. skipped: Test requires module 'Test::PostgreSQL' but it's not found
t/pg/11_do_dind.t ............. skipped: Test requires module 'Test::PostgreSQL' but it's not found
t/pg/12_do_skip_bind.t ........ skipped: Test requires module 'Test::PostgreSQL' but it's not found
t/pg/13_do_probability.t ...... skipped: Test requires module 'Test::PostgreSQL' but it's not found
t/pg/14_do_logger.t ........... skipped: Test requires module 'Test::PostgreSQL' but it's not found
t/pg/15_selectrow_array.t ..... skipped: Test requires module 'Test::PostgreSQL' but it's not found
t/pg/16_multi_line.t .......... skipped: Test requires module 'Test::PostgreSQL' but it's not found
t/pg/17_limit.t ............... skipped: Test requires module 'Test::PostgreSQL' but it's not found
t/pg/18_bind_param.t .......... skipped: Test requires module 'Test::PostgreSQL' but it's not found
t/pg/19_bind_with_type.t ...... skipped: Test requires module 'Test::PostgreSQL' but it's not found
t/pg/20_reuse_sql_type.t ...... skipped: Test requires module 'Test::PostgreSQL' but it's not found
t/pg/21_do_explain.t .......... skipped: Test requires module 'Test::PostgreSQL' but it's not found
All tests successful.
Files=51, Tests=130, 51 wallclock secs ( 0.10 usr 0.26 sys + 6.40 cusr 2.96 csys = 9.72 CPU)
Result: PASS
------------------------------
PREREQUISITES
------------------------------
Prerequisite modules loaded:
requires:
Module Need Have
------------------- -------- --------
Data::Dumper 0 2.167
DBI 0 1.642
perl 5.008001 5.026003
Term::ANSIColor 0 4.06
Text::ASCIITable 0 0.22
Time::HiRes 0 1.9741
build_requires:
Module Need Have
------------------- -------- --------
ExtUtils::MakeMaker 6.59 7.34
Test::More 0.96 1.302160
Test::Requires 0 0.10
configure_requires:
Module Need Have
------------------- -------- --------
Module::Build::Tiny 0.035 0.039
opt_requires:
Module Need Have
------------------- -------- --------
DBD::mysql 0 4.049
DBD::Pg 0 3.7.4
DBD::SQLite 0 1.62
opt_build_requires:
Module Need Have
------------------- -------- --------
Test::mysqld 0.17 1.0012
! Test::PostgreSQL 0.10 n/a
------------------------------
ENVIRONMENT AND OTHER CONTEXT
------------------------------
Environment variables:
LANG = C
PATH = /usr/local/bin:/usr/bin:/bin:/usr/local/sbin:/usr/sbin:/sbin:/home/cpansand/bin/linux-gnu:/home/cpansand/bin/sh:/home/cpansand/bin:/usr/games:/home/cpansand/devel:/home/eserte/src/srezic-misc/scripts
PERL5LIB =
PERL5OPT =
PERL5_CPANPLUS_IS_RUNNING = 1760
PERL5_CPAN_IS_RUNNING = 1760
PERL5_CPAN_IS_RUNNING_IN_RECURSION = 26479,1760
PERLDOC = -MPod::Perldoc::ToTextOverstrike
PERL_BATCH = yes
PERL_CANARY_STABILITY_NOPROMPT = 1
PERL_CPAN_REPORTER_CONFIG = /var/tmp/cpansmoker-1023/2019020118/cpanreporter_000_config.ini
PERL_EXTUTILS_AUTOINSTALL = --defaultdeps
PERL_USE_UNSAFE_INC = 1
SHELL = /usr/bin/zsh
TERM = screen
TMPDIR = /var/tmp/cpansmoker-1023/2019020118
Perl special variables (and OS-specific diagnostics, for MSWin32):
$^X = /opt/perl-5.26.3t/bin/perl
$UID/$EUID = 1023 / 1023
$GID = 1023 1023
$EGID = 1023 1023
Perl module toolchain versions installed:
Module Have
------------------- ----------
CPAN 2.18
CPAN::Meta 2.150010
Cwd 3.75
ExtUtils::CBuilder 0.280225
ExtUtils::Command 7.34
ExtUtils::Install 2.06
ExtUtils::MakeMaker 7.34
ExtUtils::Manifest 1.70
ExtUtils::ParseXS 3.34
File::Spec 3.75
JSON 4.01
JSON::PP 2.27400_02
Module::Build 0.4224
Module::Signature 0.83
Parse::CPAN::Meta 2.150010
Test::Harness 3.38
Test::More 1.302160
YAML 1.27
YAML::Syck 1.31
version 0.9917
--
Summary of my perl5 (revision 5 version 26 subversion 3) configuration:
Platform:
osname=linux
osvers=3.16.0-7-amd64
archname=x86_64-linux-thread-multi
uname='linux debian8 3.16.0-7-amd64 #1 smp debian 3.16.59-1 (2018-10-03) x86_64 gnulinux '
config_args='-ds -e -Dprefix=/opt/perl-5.26.3t -Dusethreads -Dcf_email=srezic@cpan.org'
hint=previous
useposix=true
d_sigaction=define
useithreads=define
usemultiplicity=define
use64bitint=define
use64bitall=define
uselongdouble=undef
usemymalloc=n
default_inc_excludes_dot=define
bincompat5005=undef
Compiler:
cc='cc'
ccflags ='-D_REENTRANT -D_GNU_SOURCE -fwrapv -fno-strict-aliasing -pipe -fstack-protector-strong -I/usr/local/include -D_LARGEFILE_SOURCE -D_FILE_OFFSET_BITS=64 -D_FORTIFY_SOURCE=2'
optimize='-O2'
cppflags='-D_REENTRANT -D_GNU_SOURCE -fwrapv -fno-strict-aliasing -pipe -fstack-protector-strong -I/usr/local/include'
ccversion=''
gccversion='4.9.2'
gccosandvers=''
intsize=4
longsize=8
ptrsize=8
doublesize=8
byteorder=12345678
doublekind=3
d_longlong=define
longlongsize=8
d_longdbl=define
longdblsize=16
longdblkind=3
ivtype='long'
ivsize=8
nvtype='double'
nvsize=8
Off_t='off_t'
lseeksize=8
alignbytes=8
prototype=define
Linker and Libraries:
ld='cc'
ldflags =' -fstack-protector-strong -L/usr/local/lib'
libpth=/usr/local/lib /usr/lib/gcc/x86_64-linux-gnu/4.9/include-fixed /usr/include/x86_64-linux-gnu /usr/lib /lib/x86_64-linux-gnu /lib/../lib /usr/lib/x86_64-linux-gnu /usr/lib/../lib /lib /usr/local/lib /usr/lib/gcc/x86_64-linux-gnu/4.9/include-fixed /usr/include/x86_64-linux-gnu /usr/lib /usr/local/lib /usr/lib/gcc/x86_64-linux-gnu/4.9/include-fixed /usr/include/x86_64-linux-gnu /usr/lib
libs=-lpthread -lnsl -lgdbm -ldb -ldl -lm -lcrypt -lutil -lc -lgdbm_compat
perllibs=-lpthread -lnsl -ldl -lm -lcrypt -lutil -lc
libc=libc-2.19.so
so=so
useshrplib=false
libperl=libperl.a
gnulibc_version='2.19'
Dynamic Linking:
dlsrc=dl_dlopen.xs
dlext=so
d_dlsymun=undef
ccdlflags='-Wl,-E'
cccdlflags='-fPIC'
lddlflags='-shared -O2 -L/usr/local/lib -fstack-protector-strong'
Characteristics of this binary (from libperl):
Compile-time options:
HAS_TIMES
MULTIPLICITY
PERLIO_LAYERS
PERL_COPY_ON_WRITE
PERL_DONT_CREATE_GVSV
PERL_IMPLICIT_CONTEXT
PERL_MALLOC_WRAP
PERL_OP_PARENT
PERL_PRESERVE_IVUV
USE_64_BIT_ALL
USE_64_BIT_INT
USE_ITHREADS
USE_LARGE_FILES
USE_LOCALE
USE_LOCALE_COLLATE
USE_LOCALE_CTYPE
USE_LOCALE_NUMERIC
USE_LOCALE_TIME
USE_PERLIO
USE_PERL_ATOF
USE_REENTRANT_API
Built under linux
Compiled at Nov 29 2018 22:08:38
%ENV:
PERL5LIB=""
PERL5OPT=""
PERL5_CPANPLUS_IS_RUNNING="1760"
PERL5_CPAN_IS_RUNNING="1760"
PERL5_CPAN_IS_RUNNING_IN_RECURSION="26479,1760"
PERLDOC="-MPod::Perldoc::ToTextOverstrike"
PERL_BATCH="yes"
PERL_CANARY_STABILITY_NOPROMPT="1"
PERL_CPAN_REPORTER_CONFIG="/var/tmp/cpansmoker-1023/2019020118/cpanreporter_000_config.ini"
PERL_EXTUTILS_AUTOINSTALL="--defaultdeps"
PERL_USE_UNSAFE_INC="1"
@INC:
/opt/perl-5.26.3t/lib/site_perl/5.26.3/x86_64-linux-thread-multi
/opt/perl-5.26.3t/lib/site_perl/5.26.3
/opt/perl-5.26.3t/lib/5.26.3/x86_64-linux-thread-multi
/opt/perl-5.26.3t/lib/5.26.3
.