Dist-Zilla-Plugin-StaticInstall v0.012 Perl 5 v5.37.3 x86_64-linux-quadmath
- Status
- Pass
- From
- Andreas J. König (ANDK)
- Dist
-
Dist-Zilla-Plugin-StaticInstall v0.012
- Platform
- Perl 5 v5.37.3 x86_64-linux-quadmath
- Date
- 2023-08-22 06:47:22
- ID
- bf66b03c-40b7-11ee-8f8d-9d928a10a41d
This distribution has been tested as part of the CPAN Testers
project, supporting the Perl programming language. See
http://wiki.cpantesters.org/ for more information or email
questions to cpan-testers-discuss@perl.org
--
Dear Karen Etheridge,
This is a computer-generated report for Dist-Zilla-Plugin-StaticInstall-0.012
on perl 5.37.3, created by CPAN-Reporter-1.2018.
Thank you for uploading your work to CPAN. Congratulations!
All tests were successful.
Sections of this report:
* Tester comments
* Program output
* Prerequisites
* Environment and other context
------------------------------
TESTER COMMENTS
------------------------------
Additional comments from tester:
this report is from an automated smoke testing program
and was not reviewed by a human for accuracy
------------------------------
PROGRAM OUTPUT
------------------------------
Output from './Build test':
#
# Versions for all modules listed in MYMETA.json (including optional ones):
#
# === Configure Requires ===
#
# Module Want Have
# ------------------- ----- -----
# Module::Build::Tiny 0.034 0.045
#
# === Test Requires ===
#
# Module Want Have
# ------------------------------- ---- --------
# Dist::Zilla::Role::FileMunger any 6.029
# Dist::Zilla::Role::PrereqSource any 6.029
# File::Spec any 3.86
# Module::Metadata any 1.000037
# Module::Runtime any 0.016
# Test::DZil any 6.029
# Test::Deep any 1.130
# Test::Fatal any 0.016
# Test::More 0.96 1.302194
# Test::Needs any 0.002009
# if any 0.0610
# lib any 0.65
#
# === Test Recommends ===
#
# Module Want Have
# ---------- -------- --------
# CPAN::Meta 2.120900 2.150010
#
# === Runtime Requires ===
#
# Module Want Have
# ------------------------------- -------- ------
# Dist::Zilla 4.300039 6.029
# Dist::Zilla::Role::InstallTool any 6.029
# Dist::Zilla::Role::MetaProvider any 6.029
# List::Util 1.33 1.63
# Moose any 2.2201
# Moose::Util::TypeConstraints any 2.2201
# MooseX::Types::Moose any 0.50
# Path::Tiny any 0.144
# Scalar::Util any 1.63
# Term::ANSIColor 3.00 5.01
# autovivification any 0.18
# namespace::autoclean any 0.29
# strict any 1.12
# warnings any 1.58
#
# === Other Modules ===
#
# Module Have
# ---------------------------------------------- --------
# CPAN::Meta 2.150010
# CPAN::Meta::Merge 2.150010
# Dist::Zilla::Plugin::MakeMaker::Awesome 0.49
# Dist::Zilla::Plugin::MakeMaker::Fallback missing
# Dist::Zilla::Plugin::ModuleBuildTiny 0.015
# Dist::Zilla::Plugin::ModuleBuildTiny::Fallback missing
# Encode 3.19
# File::Temp 0.2311
# JSON::PP 4.11
# Module::Runtime 0.016
# Pod::Coverage 0.23
# Sub::Name 0.26
# YAML 1.30
# autodie 2.34
#
t/00-report-prereqs.t .... ok
t/01-basic.t ............. ok
t/02-auto.t .............. ok
t/03-dry_run.t ........... ok
t/04-on-fatal.t .......... ok
t/05-mbt-auto.t .......... ok
t/06-off-notfatal.t ...... ok
t/07-two-sources-good.t .. ok
t/08-two-sources-bad.t ... ok
t/09-two-sources-ugly.t .. ok
t/10-dry_run-not-auto.t .. ok
t/zzz-check-breaks.t ..... ok
All tests successful.
Files=12, Tests=58, 16 wallclock secs ( 0.06 usr 0.03 sys + 11.34 cusr 1.25 csys = 12.68 CPU)
Result: PASS
------------------------------
PREREQUISITES
------------------------------
Prerequisite modules loaded:
requires:
Module Need Have
------------------------------- -------- --------
autovivification 0 0.18
Dist::Zilla 4.300039 6.029
Dist::Zilla::Role::InstallTool 0 6.029
Dist::Zilla::Role::MetaProvider 0 6.029
List::Util 1.33 1.63
Moose 0 2.2201
Moose::Util::TypeConstraints 0 2.2201
MooseX::Types::Moose 0 0.50
namespace::autoclean 0 0.29
Path::Tiny 0 0.144
perl 5.006 5.037003
Scalar::Util 0 1.63
strict 0 1.12
Term::ANSIColor 3.00 5.01
warnings 0 1.58
build_requires:
Module Need Have
------------------------------- -------- --------
Dist::Zilla::Role::FileMunger 0 6.029
Dist::Zilla::Role::PrereqSource 0 6.029
File::Spec 0 3.86
if 0 0.0610
lib 0 0.65
Module::Metadata 0 1.000037
Module::Runtime 0 0.016
perl 5.006 5.037003
Test::Deep 0 1.130
Test::DZil 0 6.029
Test::Fatal 0 0.016
Test::More 0.96 1.302194
Test::Needs 0 0.002009
configure_requires:
Module Need Have
------------------------------- -------- --------
Module::Build::Tiny 0.034 0.045
perl 5.006 5.037003
------------------------------
ENVIRONMENT AND OTHER CONTEXT
------------------------------
Environment variables:
AUTOMATED_TESTING = 1
LANG = en_US.UTF-8
LANGUAGE = en_US:en
PATH = /home/sand/bin:/usr/local/bin:/usr/bin:/bin:/usr/games:/usr/local/perl/bin:/usr/X11/bin:/sbin:/usr/sbin
PERL5LIB =
PERL5OPT =
PERL5_CPANPLUS_IS_RUNNING = 2343147
PERL5_CPAN_IS_RUNNING = 2343147
PERL_CANARY_STABILITY_NOPROMPT = 1
PERL_MM_USE_DEFAULT = 1
PERL_USE_UNSAFE_INC = 1
SHELL = /usr/bin/zsh
TERM = screen
Perl special variables (and OS-specific diagnostics, for MSWin32):
$^X = /home/sand/src/perl/repoperls/installed-perls/host/k93msid/v5.37.3/ec94/bin/perl
$UID/$EUID = 1005 / 1005
$GID = 1005 1005
$EGID = 1005 1005
Perl module toolchain versions installed:
Module Have
------------------- --------
CPAN 2.34
CPAN::Meta 2.150010
Cwd 3.86
ExtUtils::CBuilder 0.280237
ExtUtils::Command 7.70
ExtUtils::Install 2.20
ExtUtils::MakeMaker 7.70
ExtUtils::Manifest 1.73
ExtUtils::ParseXS 3.45
File::Spec 3.86
JSON 4.09
JSON::PP 4.11
Module::Build 0.4231
Module::Signature 0.88
Parse::CPAN::Meta 2.150010
Test::Harness 3.44
Test::More 1.302194
YAML 1.30
YAML::Syck 1.34
version 0.9929
--
Summary of my perl5 (revision 5 version 37 subversion 3) configuration:
Commit id: 29b290ccaa79f40de7d941c9a79810119f5c6363
Platform:
osname=linux
osvers=5.19.0-1-amd64
archname=x86_64-linux-quadmath
uname='linux k93msid 5.19.0-1-amd64 #1 smp preempt_dynamic debian 5.19.6-1 (2022-09-01) x86_64 gnulinux '
config_args='-Dprefix=/home/sand/src/perl/repoperls/installed-perls/host/k93msid/v5.37.3/ec94 -Dmyhostname=k93msid -Dinstallusrbinperl=n -Uversiononly -Dusedevel -des -Ui_db -Dlibswanted=cl pthread socket inet nsl gdbm dbm malloc dl ld sun m crypt sec util c cposix posix ucb BSD gdbm_compat -Uuseithreads -Uuselongdouble -DEBUGGING=both -Dusequadmath'
hint=recommended
useposix=true
d_sigaction=define
useithreads=undef
usemultiplicity=undef
use64bitint=define
use64bitall=define
uselongdouble=undef
usemymalloc=n
default_inc_excludes_dot=define
Compiler:
cc='cc'
ccflags ='-fwrapv -DDEBUGGING -fno-strict-aliasing -pipe -fstack-protector-strong -I/usr/local/include -D_LARGEFILE_SOURCE -D_FILE_OFFSET_BITS=64 -D_FORTIFY_SOURCE=2'
optimize='-O2 -g'
cppflags='-fwrapv -DDEBUGGING -fno-strict-aliasing -pipe -fstack-protector-strong -I/usr/local/include'
ccversion=''
gccversion='12.2.0'
gccosandvers=''
intsize=4
longsize=8
ptrsize=8
doublesize=8
byteorder=12345678
doublekind=3
d_longlong=define
longlongsize=8
d_longdbl=define
longdblsize=16
longdblkind=3
ivtype='long'
ivsize=8
nvtype='__float128'
nvsize=16
Off_t='off_t'
lseeksize=8
alignbytes=16
prototype=define
Linker and Libraries:
ld='cc'
ldflags =' -fstack-protector-strong -L/usr/local/lib'
libpth=/usr/local/lib /usr/lib/x86_64-linux-gnu /usr/lib /usr/lib64
libs=-lpthread -lnsl -ldl -lm -lcrypt -lutil -lc -lquadmath
perllibs=-lpthread -lnsl -ldl -lm -lcrypt -lutil -lc -lquadmath
libc=/lib/x86_64-linux-gnu/libc.so.6
so=so
useshrplib=false
libperl=libperl.a
gnulibc_version='2.34'
Dynamic Linking:
dlsrc=dl_dlopen.xs
dlext=so
d_dlsymun=undef
ccdlflags='-Wl,-E'
cccdlflags='-fPIC'
lddlflags='-shared -O2 -g -L/usr/local/lib -fstack-protector-strong'
Characteristics of this binary (from libperl):
Compile-time options:
DEBUGGING
HAS_TIMES
PERLIO_LAYERS
PERL_COPY_ON_WRITE
PERL_DONT_CREATE_GVSV
PERL_HASH_FUNC_SIPHASH13
PERL_HASH_USE_SBOX32
PERL_MALLOC_WRAP
PERL_OP_PARENT
PERL_PRESERVE_IVUV
PERL_USE_DEVEL
PERL_USE_SAFE_PUTENV
USE_64_BIT_ALL
USE_64_BIT_INT
USE_LARGE_FILES
USE_LOCALE
USE_LOCALE_COLLATE
USE_LOCALE_CTYPE
USE_LOCALE_NUMERIC
USE_LOCALE_TIME
USE_PERLIO
USE_PERL_ATOF
USE_QUADMATH
Built under linux
Compiled at Sep 10 2022 20:40:30
%ENV:
PERL5LIB=""
PERL5OPT=""
PERL5_CPANPLUS_IS_RUNNING="2343147"
PERL5_CPAN_IS_RUNNING="2343147"
PERL_CANARY_STABILITY_NOPROMPT="1"
PERL_MM_USE_DEFAULT="1"
PERL_USE_UNSAFE_INC="1"
@INC:
/home/sand/src/perl/repoperls/installed-perls/host/k93msid/v5.37.3/ec94/lib/site_perl/5.37.3/x86_64-linux-quadmath
/home/sand/src/perl/repoperls/installed-perls/host/k93msid/v5.37.3/ec94/lib/site_perl/5.37.3
/home/sand/src/perl/repoperls/installed-perls/host/k93msid/v5.37.3/ec94/lib/5.37.3/x86_64-linux-quadmath
/home/sand/src/perl/repoperls/installed-perls/host/k93msid/v5.37.3/ec94/lib/5.37.3
.