Back
From: metabase:user:313dc9fe-2aae-11df-837a-5e0a49663a4f
Subject: PASS Traceroute-Similar-0.15_1 v5.10.1 GNU/Linux
Date: 2010-10-28T16:02:21Z
This distribution has been tested as part of the CPAN Testers
project, supporting the Perl programming language. See
http://wiki.cpantesters.org/ for more information or email
questions to cpan-testers-discuss@perl.org
--
Dear Sven Nierlein,
This is a computer-generated report for Traceroute-Similar-0.15_1
on perl 5.10.1, created by CPAN-Reporter-1.1805.
Thank you for uploading your work to CPAN. Congratulations!
All tests were successful.
Sections of this report:
* Tester comments
* Program output
* Prerequisites
* Environment and other context
------------------------------
TESTER COMMENTS
------------------------------
Additional comments from tester:
this report is from an automated smoke testing program
and was not reviewed by a human for accuracy
------------------------------
PROGRAM OUTPUT
------------------------------
Output from '/usr/bin/make test':
PERL_DL_NONLAZY=1 /home/perl5101/perl/bin/perl "-MExtUtils::Command::MM" "-e" "test_harness(0, 'blib/lib', 'blib/arch')" t/*.t
No backend found, please install one of Net::Traceroute or Net::Traceroute::PurePerl. Or make sure your traceroute binary is in your path. at t/01-Basic.t line 14
t/01-Basic.t ............................ ok
No backend found, please install one of Net::Traceroute or Net::Traceroute::PurePerl. Or make sure your traceroute binary is in your path. at t/02-Internals.t line 44
t/02-Internals.t ........................ ok
t/20-Backend-Net-Traceroute.t ........... skipped: Net::Traceroute not installed or not working: Can't locate Net/Traceroute.pm in @INC (@INC contains: /home/perl5101/.cpan/build/Traceroute-Similar-0.15_1-nnMZod/blib/lib /home/perl5101/.cpan/build/Traceroute-Similar-0.15_1-nnMZod/blib/arch /home/perl5101/perl/lib/5.10.1 /home/perl5101/perl/lib/5.10.1 .) at t/20-Backend-Net-Traceroute.t line 9.
t/21-Backend-Net-Traceroute-PurePerl.t .. skipped: Net::Traceroute::PurePerl not installed
No backend found, please install one of Net::Traceroute or Net::Traceroute::PurePerl. Or make sure your traceroute binary is in your path. at t/22-Backend-Traceroute.t line 9
t/22-Backend-Traceroute.t ............... ok
t/98-Pod-Coverage.t ..................... skipped: Author test. Set $ENV{TEST_AUTHOR} to a true value to run.
t/99-Perl-Critic.t ...................... skipped: Author test. Set $ENV{TEST_AUTHOR} to a true value to run.
All tests successful.
Files=7, Tests=11, 0 wallclock secs ( 0.06 usr 0.00 sys + 0.23 cusr 0.05 csys = 0.34 CPU)
Result: PASS
------------------------------
PREREQUISITES
------------------------------
Prerequisite modules loaded:
configure_requires:
Module Need Have
------------------- ---- ----
ExtUtils::MakeMaker 0 6.56
------------------------------
ENVIRONMENT AND OTHER CONTEXT
------------------------------
Environment variables:
AUTOMATED_TESTING = 1
LANG = en_US.UTF-8
PATH = /usr/local/sbin:/usr/local/bin:/usr/sbin:/usr/bin:/sbin:/bin:/usr/games
PERL5LIB =
PERL5OPT =
PERL5_CPANPLUS_IS_RUNNING = 16802
PERL5_CPAN_IS_RUNNING = 16802
PERL5_CPAN_IS_RUNNING_IN_RECURSION = 4139,16802
PERL_CR_SMOKER_CURRENT = Traceroute-Similar-0.15_1
PERL_EXTUTILS_AUTOINSTALL = --defaultdeps
PERL_MM_USE_DEFAULT = 1
SHELL = /bin/bash
TERM = xterm
Perl special variables (and OS-specific diagnostics, for MSWin32):
$^X = /home/perl5101/perl/bin/perl
$UID/$EUID = 1004 / 1004
$GID = 1004 1004
$EGID = 1004 1004
Perl module toolchain versions installed:
Module Have
------------------- ------
CPAN 1.9402
Cwd 3.31
ExtUtils::CBuilder 0.2703
ExtUtils::Command 1.16
ExtUtils::Install 1.54
ExtUtils::MakeMaker 6.56
ExtUtils::Manifest 1.58
ExtUtils::ParseXS 2.2205
File::Spec 3.31
Module::Build 0.3607
Module::Signature n/a
Test::Harness 3.21
Test::More 0.94
YAML 0.71
YAML::Syck 1.09
version 0.82
--
Summary of my perl5 (revision 5 version 10 subversion 1) configuration:
Platform:
osname=linux, osvers=2.6.31-20-generic, archname=i686-linux-thread-multi
uname='linux st47-laptop 2.6.31-20-generic #57-ubuntu smp mon feb 8 09:05:19 utc 2010 i686 gnulinux '
config_args=''
hint=previous, useposix=true, d_sigaction=define
useithreads=define, usemultiplicity=define
useperlio=define, d_sfio=undef, uselargefiles=define, usesocks=undef
use64bitint=undef, use64bitall=undef, uselongdouble=undef
usemymalloc=n, bincompat5005=undef
Compiler:
cc='cc', ccflags ='-D_REENTRANT -D_GNU_SOURCE -fno-strict-aliasing -pipe -fstack-protector -I/usr/local/include -D_LARGEFILE_SOURCE -D_FILE_OFFSET_BITS=64',
optimize='-O2',
cppflags='-D_REENTRANT -D_GNU_SOURCE -fno-strict-aliasing -pipe -fstack-protector -I/usr/local/include -D_REENTRANT -D_GNU_SOURCE -fno-strict-aliasing -pipe -fstack-protector -I/usr/local/include -D_LARGEFILE_SOURCE -D_FILE_OFFSET_BITS=64'
ccversion='', gccversion='4.4.1', gccosandvers=''
intsize=4, longsize=4, ptrsize=4, doublesize=8, byteorder=1234
d_longlong=define, longlongsize=8, d_longdbl=define, longdblsize=12
ivtype='long', ivsize=4, nvtype='double', nvsize=8, Off_t='off_t', lseeksize=8
alignbytes=4, prototype=define
Linker and Libraries:
ld='cc', ldflags =' -fstack-protector -L/usr/local/lib'
libpth=/usr/local/lib /lib /usr/lib
libs=-lnsl -ldl -lm -lcrypt -lutil -lpthread -lc
perllibs=-lnsl -ldl -lm -lcrypt -lutil -lpthread -lc
libc=/lib/libc-2.10.1.so, so=so, useshrplib=false, libperl=libperl.a
gnulibc_version='2.10.1'
Dynamic Linking:
dlsrc=dl_dlopen.xs, dlext=so, d_dlsymun=undef, ccdlflags='-Wl,-E'
cccdlflags='-fPIC', lddlflags='-shared -O2 -L/usr/local/lib -fstack-protector'
Characteristics of this binary (from libperl):
Compile-time options: MULTIPLICITY PERL_DONT_CREATE_GVSV
PERL_IMPLICIT_CONTEXT PERL_MALLOC_WRAP USE_ITHREADS
USE_LARGE_FILES USE_PERLIO USE_REENTRANT_API
Built under linux
Compiled at Mar 12 2010 10:45:32
%ENV:
PERL5LIB=""
PERL5OPT=""
PERL5_CPANPLUS_IS_RUNNING="16802"
PERL5_CPAN_IS_RUNNING="16802"
PERL5_CPAN_IS_RUNNING_IN_RECURSION="4139,16802"
PERL_CR_SMOKER_CURRENT="Traceroute-Similar-0.15_1"
PERL_EXTUTILS_AUTOINSTALL="--defaultdeps"
PERL_MM_USE_DEFAULT="1"
@INC:
/home/perl5101/perl/lib/5.10.1
/home/perl5101/perl/lib/5.10.1
.