Inline-Files v0.71 Perl 5 v5.14.1 x86_64-linux

Status
Pass
From
Nedzad Hrnjica (NHRNJICA)
Dist
Inline-Files v0.71
Platform
Perl 5 v5.14.1 x86_64-linux
Date
2022-08-22 04:13:16
ID
bf7b6f7e-21d0-11ed-a23d-a92320f29030
This distribution has been tested as part of the CPAN Testers
project, supporting the Perl programming language.  See
http://wiki.cpantesters.org/ for more information or email
questions to cpan-testers-discuss@perl.org


--
Dear AMBS,

This is a computer-generated report for Inline-Files-0.71
on perl 5.14.1, created by App::cpanminus::reporter 0.17 (1.7046).

Thank you for uploading your work to CPAN.  Congratulations!
All tests were successful.

Sections of this report:

    * Tester comments
    * Program output
    * Prerequisites
    * Environment and other context

------------------------------
TESTER COMMENTS
------------------------------

Additional comments from tester:

none provided

------------------------------
PROGRAM OUTPUT
------------------------------

Output from '':

Building and testing Inline-Files-0.71
cp lib/Inline/Files.pm blib/lib/Inline/Files.pm
cp lib/Inline/Files/Virtual.pm blib/lib/Inline/Files/Virtual.pm
Manifying 2 pod documents
PERL_DL_NONLAZY=1 "/home/liveapp/.plenv/versions/5.14.1/bin/perl5.14.1" "-MExtUtils::Command::MM" "-MTest::Harness" "-e" "undef *Test::Harness::Switches; test_harness(0, 'blib/lib', 'blib/arch')" t/*.t
t/00init.t ...... ok
t/01basics.t .... ok
t/02write.t ..... ok
t/03nowrite.t ... ok
t/04create.t .... ok
t/05seek.t ...... ok
t/06backup.t .... ok
t/07hash.t ...... ok
t/08coreopen.t .. ok
All tests successful.
Files=9, Tests=79,  0 wallclock secs ( 0.04 usr  0.01 sys +  0.14 cusr  0.04 csys =  0.23 CPU)
Result: PASS

------------------------------
PREREQUISITES
------------------------------

Prerequisite modules loaded:

runtime:

    Module              Need Have   
    ------------------- ---- -------
    Cwd                 0    3.75   
    Filter::Util::Call  0    1.61   
    Test                0    1.25_02

build:

    Module              Need Have   
    ------------------- ---- -------
    ExtUtils::MakeMaker 0    7.64   

configure:

    Module              Need Have   
    ------------------- ---- -------
    ExtUtils::MakeMaker 0    7.64   


------------------------------
ENVIRONMENT AND OTHER CONTEXT
------------------------------

Environment variables:

    LANG = C.UTF-8
    PATH = /home/liveapp/.plenv/versions/5.14.1/bin:/home/liveapp/.plenv/libexec:/home/liveapp/.plenv/plugins/perl-build/bin:/home/liveapp/.plenv/shims:/home/liveapp/.plenv/bin:/usr/local/sbin:/usr/local/bin:/usr/sbin:/usr/bin:/sbin:/bin:/usr/games:/usr/local/games:/snap/bin
    PERL_CPANM_HOME = /home/liveapp/cpantesters.new/5.14.1/.cpanm_temp
    SHELL = /bin/bash
    TERM = xterm-256color

Perl special variables (and OS-specific diagnostics, for MSWin32):

    EGID = 1001 27 1001
    EUID = 1001
    EXECUTABLE_NAME = /home/liveapp/.plenv/versions/5.14.1/bin/perl5.14.1
    GID = 1001 27 1001
    UID = 1001

Perl module toolchain versions installed:

    Module              Have    
    ------------------- --------
    CPAN                1.9600  
    CPAN::Meta          2.150010
    Cwd                 3.75    
    ExtUtils::CBuilder  0.280236
    ExtUtils::Command   7.64    
    ExtUtils::Install   2.06    
    ExtUtils::MakeMaker 7.64    
    ExtUtils::Manifest  1.70    
    ExtUtils::ParseXS   3.44    
    File::Spec          3.75    
    JSON                n/a     
    JSON::PP            4.11    
    Module::Build       0.4231  
    Module::Signature   n/a     
    Parse::CPAN::Meta   2.150010
    Test::Harness       3.44    
    Test::More          1.302191
    YAML                n/a     
    YAML::Syck          n/a     
    version             0.9929  


--

Summary of my perl5 (revision 5 version 14 subversion 1) configuration:
   
  Platform:
    osname=linux, osvers=5.4.0-91-generic, archname=x86_64-linux
    uname='linux supremeadmin 5.4.0-91-generic #102-ubuntu smp fri nov 5 16:31:28 utc 2021 x86_64 x86_64 x86_64 gnulinux '
    config_args='-Dprefix=/home/liveapp/.plenv/versions/5.14.1 -de -Dversiononly -A'eval:scriptdir=/home/liveapp/.plenv/versions/5.14.1/bin''
    hint=recommended, useposix=true, d_sigaction=define
    useithreads=undef, usemultiplicity=undef
    useperlio=define, d_sfio=undef, uselargefiles=define, usesocks=undef
    use64bitint=define, use64bitall=define, uselongdouble=undef
    usemymalloc=n, bincompat5005=undef
  Compiler:
    cc='cc', ccflags ='-fwrapv -fno-strict-aliasing -pipe -fstack-protector -I/usr/local/include -D_LARGEFILE_SOURCE -D_FILE_OFFSET_BITS=64',
    optimize='-O2',
    cppflags='-fwrapv -fno-strict-aliasing -pipe -fstack-protector -I/usr/local/include'
    ccversion='', gccversion='9.4.0', gccosandvers=''
    intsize=4, longsize=8, ptrsize=8, doublesize=8, byteorder=12345678
    d_longlong=define, longlongsize=8, d_longdbl=define, longdblsize=16
    ivtype='long', ivsize=8, nvtype='double', nvsize=8, Off_t='off_t', lseeksize=8
    alignbytes=8, prototype=define
  Linker and Libraries:
    ld='cc', ldflags =' -fstack-protector -L/usr/local/lib'
    libpth=/usr/local/lib /lib/x86_64-linux-gnu /lib/../lib /usr/lib/x86_64-linux-gnu /usr/lib/../lib /lib /usr/lib
    libs=-lnsl -ldl -lm -lcrypt -lutil -lc
    perllibs=-lnsl -ldl -lm -lcrypt -lutil -lc
    libc=libc-2.31.so, so=so, useshrplib=false, libperl=libperl.a
    gnulibc_version='2.31'
  Dynamic Linking:
    dlsrc=dl_dlopen.xs, dlext=so, d_dlsymun=undef, ccdlflags='-Wl,-E'
    cccdlflags='-fPIC', lddlflags='-shared -O2 -L/usr/local/lib -fstack-protector'


Characteristics of this binary (from libperl): 
  Compile-time options: PERL_DONT_CREATE_GVSV PERL_MALLOC_WRAP
                        PERL_PRESERVE_IVUV USE_64_BIT_ALL USE_64_BIT_INT
                        USE_LARGE_FILES USE_PERLIO USE_PERL_ATOF
  Locally applied patches:
	Devel::PatchPerl 2.08
  Built under linux
  Compiled at Aug  8 2022 07:14:45
  %ENV:
    PERL_CPANM_HOME="/home/liveapp/cpantesters.new/5.14.1/.cpanm_temp"
  @INC:
    /home/liveapp/.plenv/versions/5.14.1/lib/perl5/site_perl/5.14.1/x86_64-linux
    /home/liveapp/.plenv/versions/5.14.1/lib/perl5/site_perl/5.14.1
    /home/liveapp/.plenv/versions/5.14.1/lib/perl5/5.14.1/x86_64-linux
    /home/liveapp/.plenv/versions/5.14.1/lib/perl5/5.14.1
    .