Perl-MinimumVersion v1.44 Perl 5 v5.41.14 x86_64-linux-thread-multi

Status
Pass
From
Carlos Guevara
Dist
Perl-MinimumVersion v1.44
Platform
Perl 5 v5.41.14 x86_64-linux-thread-multi
Date
2025-06-20 14:42:10
ID
bf8b79e4-4de4-11f0-a0f5-d0ff1246b35f
This distribution has been tested as part of the CPAN Testers
project, supporting the Perl programming language.  See
http://wiki.cpantesters.org/ for more information or email
questions to cpan-testers-discuss@perl.org


--
Dear Dan Book,

This is a computer-generated report for Perl-MinimumVersion-1.44
on perl 5.41.14, created by CPAN-Reporter-1.2020.

Thank you for uploading your work to CPAN.  Congratulations!
All tests were successful.

Sections of this report:

    * Tester comments
    * Program output
    * Prerequisites
    * Environment and other context

------------------------------
TESTER COMMENTS
------------------------------

Additional comments from tester:

this report is from an automated smoke testing program
and was not reviewed by a human for accuracy

------------------------------
PROGRAM OUTPUT
------------------------------

Output from '/usr/bin/make test':

PERL_DL_NONLAZY=1 "/home/cpan/bin/perl/bin/perl5.41.14" "-MExtUtils::Command::MM" "-MTest::Harness" "-e" "undef *Test::Harness::Switches; test_harness(0, 'blib/lib', 'blib/arch')" t/*.t
# 
# Versions for all modules listed in MYMETA.json (including optional ones):
# 
# === Configure Requires ===
# 
#     Module              Want Have
#     ------------------- ---- ----
#     ExtUtils::MakeMaker  any 7.76
# 
# === Configure Suggests ===
# 
#     Module      Want Have
#     -------- ------- ----
#     JSON::PP 2.27300 4.16
# 
# === Build Requires ===
# 
#     Module              Want Have
#     ------------------- ---- ----
#     ExtUtils::MakeMaker  any 7.76
# 
# === Test Requires ===
# 
#     Module                Want     Have
#     --------------------- ---- --------
#     ExtUtils::MakeMaker    any     7.76
#     File::Spec             any     3.94
#     File::Spec::Functions  any     3.94
#     Test::More            0.47 1.302214
# 
# === Test Recommends ===
# 
#     Module         Want     Have
#     ---------- -------- --------
#     CPAN::Meta 2.120900 2.150010
# 
# === Runtime Requires ===
# 
#     Module                  Want     Have
#     ---------------------- ----- --------
#     Carp                     any     1.54
#     Exporter                 any     5.79
#     File::Find::Rule         any     0.35
#     File::Find::Rule::Perl   any     1.16
#     File::Spec               any     3.94
#     Getopt::Long             any     2.58
#     List::Util              1.20  1.68_01
#     PPI                    1.252    1.283
#     PPI::Util                any    1.283
#     PPIx::Regexp           0.051    0.089
#     PPIx::Utils              any    0.004
#     Params::Util            0.25    1.102
#     perl                   5.006 5.041014
#     strict                   any     1.14
#     vars                     any     1.05
#     version                 0.76   0.9933
#     warnings                 any     1.74
# 
t/00-report-prereqs.t ........... ok
t/02_main.t ..................... ok
t/09_pkg_name_version.t ......... ok
t/10_yada_yada_yada.t ........... ok
t/11_feature_bundle.t ........... ok
t/13_perl_510.t ................. ok
t/14_regex.t .................... ok
t/15_each.t ..................... ok
t/16_binmode.t .................. ok
t/17_when.t ..................... ok
t/19_opentemp.t ................. ok
t/21_openscalar.t ............... ok
t/22_while_readdir.t ............ ok
t/23_internals.t ................ ok
t/24_state.t .................... ok
t/25_scheduled_blocks.t ......... ok
t/26_stacked_labels.t ........... ok
t/27_postfix_deref.t ............ ok
t/28_experimental.t ............. ok
t/29_heredoc_indent.t ........... ok
t/30_re_flags.t ................. ok
t/31_double_diamond_operator.t .. ok
All tests successful.
Files=22, Tests=275,  4 wallclock secs ( 0.07 usr  0.01 sys +  3.47 cusr  1.17 csys =  4.72 CPU)
Result: PASS

------------------------------
PREREQUISITES
------------------------------

Prerequisite modules loaded:

requires:

    Module                 Need     Have    
    ---------------------- -------- --------
    Carp                   0        1.54    
    Exporter               0        5.79    
    File::Find::Rule       0        0.35    
    File::Find::Rule::Perl 0        1.16    
    File::Spec             0        3.94    
    Getopt::Long           0        2.58    
    List::Util             1.20     1.68_01 
    Params::Util           0.25     1.102   
    perl                   5.006    5.041014
    PPI                    1.252    1.283   
    PPI::Util              0        1.283   
    PPIx::Regexp           0.051    0.089   
    PPIx::Utils            0        0.004   
    strict                 0        1.14    
    vars                   0        1.05    
    version                0.76     0.9933  
    warnings               0        1.74    

build_requires:

    Module                 Need     Have    
    ---------------------- -------- --------
    ExtUtils::MakeMaker    0        7.76    
    File::Spec             0        3.94    
    File::Spec::Functions  0        3.94    
    Test::More             0.47     1.302214

configure_requires:

    Module                 Need     Have    
    ---------------------- -------- --------
    ExtUtils::MakeMaker    0        7.76    

opt_build_requires:

    Module                 Need     Have    
    ---------------------- -------- --------
    CPAN::Meta             2.120900 2.150010


------------------------------
ENVIRONMENT AND OTHER CONTEXT
------------------------------

Environment variables:

    AUTOMATED_TESTING = 1
    DATE_MANIP_TEST_DM5 = 1
    LANG = C.UTF-8
    LC_COLLATE = C
    NONINTERACTIVE_TESTING = 1
    NO_NETWORK_TESTING = 1
    PATH = /home/cpan/bin/perl/bin:/usr/local/sbin:/usr/local/bin:/usr/sbin:/usr/bin:/sbin:/bin
    PERL5LIB = /home/cpan/.cpan/build/Compress-Raw-Zlib-2.213-0/blib/arch:/home/cpan/.cpan/build/Compress-Raw-Zlib-2.213-0/blib/lib:/home/cpan/.cpan/build/Pod-Simple-3.47-3/blib/arch:/home/cpan/.cpan/build/Pod-Simple-3.47-3/blib/lib:/home/cpan/.cpan/build/Encode-3.21-3/blib/arch:/home/cpan/.cpan/build/Encode-3.21-3/blib/lib:/home/cpan/.cpan/build/IO-Compress-Brotli-0.019-0/blib/arch:/home/cpan/.cpan/build/IO-Compress-Brotli-0.019-0/blib/lib:/home/cpan/.cpan/build/experimental-0.035-0/blib/arch:/home/cpan/.cpan/build/experimental-0.035-0/blib/lib:/home/cpan/.cpan/build/HTTP-Cookies-6.11-0/blib/arch:/home/cpan/.cpan/build/HTTP-Cookies-6.11-0/blib/lib:/home/cpan/.cpan/build/HTTP-Tiny-0.090-0/blib/arch:/home/cpan/.cpan/build/HTTP-Tiny-0.090-0/blib/lib:/home/cpan/.cpan/build/Mouse-v2.5.11-0/blib/arch:/home/cpan/.cpan/build/Mouse-v2.5.11-0/blib/lib:/home/cpan/.cpan/build/IO-Compress-2.213-3/blib/arch:/home/cpan/.cpan/build/IO-Compress-2.213-3/blib/lib:/home/cpan/.cpan/build/CPAN-2.38-2/blib/arch:/home/cpan/.cpan/build/CPAN-2.38-2/blib/lib:/home/cpan/.cpan/build/Carp-Always-0.16-0/blib/arch:/home/cpan/.cpan/build/Carp-Always-0.16-0/blib/lib:/home/cpan/.cpan/build/Test-Simple-1.302214-3/blib/arch:/home/cpan/.cpan/build/Test-Simple-1.302214-3/blib/lib:/home/cpan/.cpan/build/Test-Harness-3.52-3/blib/arch:/home/cpan/.cpan/build/Test-Harness-3.52-3/blib/lib
    PERL5OPT = 
    PERL5_CPANPLUS_IS_RUNNING = 10478
    PERL5_CPAN_IS_RUNNING = 10478
    PERL_MM_USE_DEFAULT = 1
    PERL_USE_UNSAFE_INC = 1
    SHELL = /bin/bash
    TERM = screen

Perl special variables (and OS-specific diagnostics, for MSWin32):

    $^X = /home/cpan/bin/perl/bin/perl5.41.14
    $UID/$EUID = 1001 / 1001
    $GID = 1001 1001
    $EGID = 1001 1001

Perl module toolchain versions installed:

    Module              Have    
    ------------------- --------
    CPAN                2.38    
    CPAN::Meta          2.150010
    Cwd                 3.94    
    ExtUtils::CBuilder  0.280241
    ExtUtils::Command   7.76    
    ExtUtils::Install   2.22    
    ExtUtils::MakeMaker 7.76    
    ExtUtils::Manifest  1.75    
    ExtUtils::ParseXS   3.57    
    File::Spec          3.94    
    JSON                4.10    
    JSON::PP            4.16    
    Module::Build       0.4234  
    Module::Signature   n/a     
    Parse::CPAN::Meta   2.150010
    Test2               1.302214
    Test::Harness       3.52    
    Test::More          1.302214
    YAML                1.31    
    YAML::Syck          1.34    
    version             0.9933  


--

Summary of my perl5 (revision 5 version 41 subversion 14) configuration:
  Commit id: 8cd9e2a10075e1d309571ac09a3588fe6519027c
  Platform:
    osname=linux
    osvers=6.12.33-0-lts
    archname=x86_64-linux-thread-multi
    uname='linux cjg-alpine3 6.12.33-0-lts #1-alpine smp preempt_dynamic 2025-06-10 20:16:17 x86_64 linux '
    config_args='-des -Dprefix=/home/cpan/bin/perl -Dscriptdir=/home/cpan/bin/perl/bin -Dusedevel -Duse64bitall -Duseithreads'
    hint=recommended
    useposix=true
    d_sigaction=define
    useithreads=define
    usemultiplicity=define
    use64bitint=define
    use64bitall=define
    uselongdouble=undef
    usemymalloc=n
    default_inc_excludes_dot=define
  Compiler:
    cc='cc'
    ccflags ='-D_REENTRANT -D_GNU_SOURCE -D_GNU_SOURCE -fwrapv -fno-strict-aliasing -pipe -fstack-protector-strong -D_LARGEFILE_SOURCE -D_FILE_OFFSET_BITS=64'
    optimize='-O2'
    cppflags='-D_REENTRANT -D_GNU_SOURCE -D_GNU_SOURCE -fwrapv -fno-strict-aliasing -pipe -fstack-protector-strong'
    ccversion=''
    gccversion='14.2.0'
    gccosandvers=''
    intsize=4
    longsize=8
    ptrsize=8
    doublesize=8
    byteorder=12345678
    doublekind=3
    d_longlong=define
    longlongsize=8
    d_longdbl=define
    longdblsize=16
    longdblkind=3
    ivtype='long'
    ivsize=8
    nvtype='double'
    nvsize=8
    Off_t='off_t'
    lseeksize=8
    alignbytes=8
    prototype=define
  Linker and Libraries:
    ld='cc'
    ldflags =' -fstack-protector-strong -L/usr/local/lib'
    libpth=/usr/lib /usr/local/lib /lib
    libs=-lpthread -lgdbm -ldb -ldl -lm -lcrypt -lutil -lc -lgdbm_compat
    perllibs=-lpthread -ldl -lm -lcrypt -lutil -lc
    libc=/usr/lib/libc.a
    so=so
    useshrplib=false
    libperl=libperl.a
    gnulibc_version=''
  Dynamic Linking:
    dlsrc=dl_dlopen.xs
    dlext=so
    d_dlsymun=undef
    ccdlflags='-Wl,-E'
    cccdlflags='-fPIC'
    lddlflags='-shared -O2 -L/usr/local/lib -fstack-protector-strong'


Characteristics of this binary (from libperl): 
  Compile-time options:
    HAS_LONG_DOUBLE
    HAS_STRTOLD
    HAS_TIMES
    MULTIPLICITY
    PERLIO_LAYERS
    PERL_COPY_ON_WRITE
    PERL_DONT_CREATE_GVSV
    PERL_HASH_FUNC_SIPHASH13
    PERL_HASH_USE_SBOX32
    PERL_MALLOC_WRAP
    PERL_OP_PARENT
    PERL_PRESERVE_IVUV
    PERL_USE_DEVEL
    PERL_USE_SAFE_PUTENV
    USE_64_BIT_ALL
    USE_64_BIT_INT
    USE_ITHREADS
    USE_LARGE_FILES
    USE_LOCALE
    USE_LOCALE_COLLATE
    USE_LOCALE_CTYPE
    USE_LOCALE_NUMERIC
    USE_LOCALE_TIME
    USE_PERLIO
    USE_PERL_ATOF
    USE_REENTRANT_API
    USE_THREAD_SAFE_LOCALE
  Built under linux
  Compiled at Jun 20 2025 05:29:31
  %ENV:
    PERL5LIB="/home/cpan/.cpan/build/Compress-Raw-Zlib-2.213-0/blib/arch:/home/cpan/.cpan/build/Compress-Raw-Zlib-2.213-0/blib/lib:/home/cpan/.cpan/build/Pod-Simple-3.47-3/blib/arch:/home/cpan/.cpan/build/Pod-Simple-3.47-3/blib/lib:/home/cpan/.cpan/build/Encode-3.21-3/blib/arch:/home/cpan/.cpan/build/Encode-3.21-3/blib/lib:/home/cpan/.cpan/build/IO-Compress-Brotli-0.019-0/blib/arch:/home/cpan/.cpan/build/IO-Compress-Brotli-0.019-0/blib/lib:/home/cpan/.cpan/build/experimental-0.035-0/blib/arch:/home/cpan/.cpan/build/experimental-0.035-0/blib/lib:/home/cpan/.cpan/build/HTTP-Cookies-6.11-0/blib/arch:/home/cpan/.cpan/build/HTTP-Cookies-6.11-0/blib/lib:/home/cpan/.cpan/build/HTTP-Tiny-0.090-0/blib/arch:/home/cpan/.cpan/build/HTTP-Tiny-0.090-0/blib/lib:/home/cpan/.cpan/build/Mouse-v2.5.11-0/blib/arch:/home/cpan/.cpan/build/Mouse-v2.5.11-0/blib/lib:/home/cpan/.cpan/build/IO-Compress-2.213-3/blib/arch:/home/cpan/.cpan/build/IO-Compress-2.213-3/blib/lib:/home/cpan/.cpan/build/CPAN-2.38-2/blib/arch:/home/cpan/.cpan/build/CPAN-2.38-2/blib/lib:/home/cpan/.cpan/build/Carp-Always-0.16-0/blib/arch:/home/cpan/.cpan/build/Carp-Always-0.16-0/blib/lib:/home/cpan/.cpan/build/Test-Simple-1.302214-3/blib/arch:/home/cpan/.cpan/build/Test-Simple-1.302214-3/blib/lib:/home/cpan/.cpan/build/Test-Harness-3.52-3/blib/arch:/home/cpan/.cpan/build/Test-Harness-3.52-3/blib/lib"
    PERL5OPT=""
    PERL5_CPANPLUS_IS_RUNNING="10478"
    PERL5_CPAN_IS_RUNNING="10478"
    PERL_MM_USE_DEFAULT="1"
    PERL_USE_UNSAFE_INC="1"
  @INC:
    /home/cpan/.cpan/build/Compress-Raw-Zlib-2.213-0/blib/arch
    /home/cpan/.cpan/build/Compress-Raw-Zlib-2.213-0/blib/lib
    /home/cpan/.cpan/build/Pod-Simple-3.47-3/blib/arch
    /home/cpan/.cpan/build/Pod-Simple-3.47-3/blib/lib
    /home/cpan/.cpan/build/Encode-3.21-3/blib/arch
    /home/cpan/.cpan/build/Encode-3.21-3/blib/lib
    /home/cpan/.cpan/build/IO-Compress-Brotli-0.019-0/blib/arch
    /home/cpan/.cpan/build/IO-Compress-Brotli-0.019-0/blib/lib
    /home/cpan/.cpan/build/experimental-0.035-0/blib/arch
    /home/cpan/.cpan/build/experimental-0.035-0/blib/lib
    /home/cpan/.cpan/build/HTTP-Cookies-6.11-0/blib/arch
    /home/cpan/.cpan/build/HTTP-Cookies-6.11-0/blib/lib
    /home/cpan/.cpan/build/HTTP-Tiny-0.090-0/blib/arch
    /home/cpan/.cpan/build/HTTP-Tiny-0.090-0/blib/lib
    /home/cpan/.cpan/build/Mouse-v2.5.11-0/blib/arch
    /home/cpan/.cpan/build/Mouse-v2.5.11-0/blib/lib
    /home/cpan/.cpan/build/IO-Compress-2.213-3/blib/arch
    /home/cpan/.cpan/build/IO-Compress-2.213-3/blib/lib
    /home/cpan/.cpan/build/CPAN-2.38-2/blib/arch
    /home/cpan/.cpan/build/CPAN-2.38-2/blib/lib
    /home/cpan/.cpan/build/Carp-Always-0.16-0/blib/arch
    /home/cpan/.cpan/build/Carp-Always-0.16-0/blib/lib
    /home/cpan/.cpan/build/Test-Simple-1.302214-3/blib/arch
    /home/cpan/.cpan/build/Test-Simple-1.302214-3/blib/lib
    /home/cpan/.cpan/build/Test-Harness-3.52-3/blib/arch
    /home/cpan/.cpan/build/Test-Harness-3.52-3/blib/lib
    /home/cpan/bin/perl/lib/site_perl/5.41.14/x86_64-linux-thread-multi
    /home/cpan/bin/perl/lib/site_perl/5.41.14
    /home/cpan/bin/perl/lib/5.41.14/x86_64-linux-thread-multi
    /home/cpan/bin/perl/lib/5.41.14
    .