Lingua-DE-ASCII v0.14 Perl 5 v5.37.9 x86_64-linux-ld
- Status
- Pass
- From
- Andreas J. König (ANDK)
- Dist
-
Lingua-DE-ASCII v0.14
- Platform
- Perl 5 v5.37.9 x86_64-linux-ld
- Date
- 2023-03-08 19:59:34
- ID
- bf91c6ea-bdeb-11ed-a654-455fca3f59fe
This distribution has been tested as part of the CPAN Testers
project, supporting the Perl programming language. See
http://wiki.cpantesters.org/ for more information or email
questions to cpan-testers-discuss@perl.org
--
Dear Janek Schleicher,
This is a computer-generated report for Lingua-DE-ASCII-0.14
on perl 5.37.9, created by CPAN-Reporter-1.2018.
Thank you for uploading your work to CPAN. Congratulations!
All tests were successful.
Sections of this report:
* Tester comments
* Program output
* Prerequisites
* Environment and other context
------------------------------
TESTER COMMENTS
------------------------------
Additional comments from tester:
this report is from an automated smoke testing program
and was not reviewed by a human for accuracy
------------------------------
PROGRAM OUTPUT
------------------------------
Output from '/usr/bin/make test':
PERL_DL_NONLAZY=1 "/tmp/basesmoker-reloperl-fIWn/bin/perl" "-MExtUtils::Command::MM" "-MTest::Harness" "-e" "undef *Test::Harness::Switches; test_harness(0, 'blib/lib', 'blib/arch')" t/*.t
t/1.t ............................ ok
t/only_ascii.t ................... ok
t/special_characters.t ........... ok
t/to_ascii.t ..................... ok
[Wed Mar 8 19:54:23 2023] Words tested from the big dictionary: 0%
[Wed Mar 8 19:54:23 2023] Words tested from the big dictionary: 0%
[Wed Mar 8 19:54:23 2023] Words tested from the big dictionary: 0%
[Wed Mar 8 19:54:23 2023] Words tested from the big dictionary: 0%
[Wed Mar 8 19:54:23 2023] Words tested from the big dictionary: 0%
[Wed Mar 8 19:54:23 2023] Words tested from the big dictionary: 0%
[Wed Mar 8 19:54:23 2023] Words tested from the big dictionary: 0%
[Wed Mar 8 19:54:23 2023] Words tested from the big dictionary: 0%
[Wed Mar 8 19:54:23 2023] Words tested from the big dictionary: 0%
[Wed Mar 8 19:54:24 2023] Words tested from the big dictionary: 0%
[Wed Mar 8 19:54:24 2023] Words tested from the big dictionary: 0%
[Wed Mar 8 19:54:24 2023] Words tested from the big dictionary: 0%
[Wed Mar 8 19:54:24 2023] Words tested from the big dictionary: 1%
[Wed Mar 8 19:54:24 2023] Words tested from the big dictionary: 1%
[Wed Mar 8 19:54:24 2023] Words tested from the big dictionary: 1%
[Wed Mar 8 19:54:24 2023] Words tested from the big dictionary: 1%
[Wed Mar 8 19:54:24 2023] Words tested from the big dictionary: 1%
[Wed Mar 8 19:54:24 2023] Words tested from the big dictionary: 1%
[Wed Mar 8 19:54:24 2023] Words tested from the big dictionary: 1%
[Wed Mar 8 19:54:24 2023] Words tested from the big dictionary: 1%
[Wed Mar 8 19:54:24 2023] Words tested from the big dictionary: 1%
[Wed Mar 8 19:54:24 2023] Words tested from the big dictionary: 1%
[Wed Mar 8 19:54:24 2023] Words tested from the big dictionary: 1%
[Wed Mar 8 19:54:24 2023] Words tested from the big dictionary: 2%
[Wed Mar 8 19:54:24 2023] Words tested from the big dictionary: 2%
[Wed Mar 8 19:54:24 2023] Words tested from the big dictionary: 2%
[Wed Mar 8 19:54:24 2023] Words tested from the big dictionary: 2%
[Wed Mar 8 19:54:24 2023] Words tested from the big dictionary: 2%
[Wed Mar 8 19:54:24 2023] Words tested from the big dictionary: 2%
[Wed Mar 8 19:54:24 2023] Words tested from the big dictionary: 2%
[Wed Mar 8 19:54:24 2023] Words tested from the big dictionary: 2%
[Wed Mar 8 19:54:24 2023] Words tested from the big dictionary: 2%
[Wed Mar 8 19:54:24 2023] Words tested from the big dictionary: 2%
[Wed Mar 8 19:54:24 2023] Words tested from the big dictionary: 2%
[Wed Mar 8 19:54:24 2023] Words tested from the big dictionary: 3%
[Wed Mar 8 19:54:24 2023] Words tested from the big dictionary: 3%
[Wed Mar 8 19:54:24 2023] Words tested from the big dictionary: 3%
[Wed Mar 8 19:54:24 2023] Words tested from the big dictionary: 3%
[Wed Mar 8 19:54:24 2023] Words tested from the big dictionary: 3%
[Wed Mar 8 19:54:24 2023] Words tested from the big dictionary: 3%
[Wed Mar 8 19:54:24 2023] Words tested from the big dictionary: 3%
[Wed Mar 8 19:54:24 2023] Words tested from the big dictionary: 3%
[Wed Mar 8 19:54:24 2023] Words tested from the big dictionary: 3%
[Wed Mar 8 19:54:24 2023] Words tested from the big dictionary: 3%
[Wed Mar 8 19:54:24 2023] Words tested from the big dictionary: 3%
[Wed Mar 8 19:54:25 2023] Words tested from the big dictionary: 4%
[Wed Mar 8 19:54:25 2023] Words tested from the big dictionary: 4%
[Wed Mar 8 19:54:25 2023] Words tested from the big dictionary: 4%
[Wed Mar 8 19:54:25 2023] Words tested from the big dictionary: 4%
[Wed Mar 8 19:54:25 2023] Words tested from the big dictionary: 4%
[Wed Mar 8 19:54:25 2023] Words tested from the big dictionary: 4%
[Wed Mar 8 19:54:25 2023] Words tested from the big dictionary: 4%
[Wed Mar 8 19:54:25 2023] Words tested from the big dictionary: 4%
[Wed Mar 8 19:54:25 2023] Words tested from the big dictionary: 4%
[Wed Mar 8 19:54:25 2023] Words tested from the big dictionary: 4%
[Wed Mar 8 19:54:25 2023] Words tested from the big dictionary: 4%
[Wed Mar 8 19:54:25 2023] Words tested from the big dictionary: 5%
[Wed Mar 8 19:54:25 2023] Words tested from the big dictionary: 5%
[Wed Mar 8 19:54:25 2023] Words tested from the big dictionary: 5%
[Wed Mar 8 19:54:25 2023] Words tested from the big dictionary: 5%
[Wed Mar 8 19:54:25 2023] Words tested from the big dictionary: 5%
[Wed Mar 8 19:54:25 2023] Words tested from the big dictionary: 5%
[Wed Mar 8 19:54:25 2023] Words tested from the big dictionary: 5%
[Wed Mar 8 19:54:25 2023] Words tested from the big dictionary: 5%
[Wed Mar 8 19:54:25 2023] Words tested from the big dictionary: 5%
[Wed Mar 8 19:54:25 2023] Words tested from the big dictionary: 5%
[Wed Mar 8 19:54:25 2023] Words tested from the big dictionary: 5%
[Wed Mar 8 19:54:25 2023] Words tested from the big dictionary: 6%
[Wed Mar 8 19:54:25 2023] Words tested from the big dictionary: 6%
[Wed Mar 8 19:54:25 2023] Words tested from the big dictionary: 6%
[Wed Mar 8 19:54:25 2023] Words tested from the big dictionary: 6%
[Wed Mar 8 19:54:25 2023] Words tested from the big dictionary: 6%
[Wed Mar 8 19:54:25 2023] Words tested from the big dictionary: 6%
[Wed Mar 8 19:54:25 2023] Words tested from the big dictionary: 6%
[Wed Mar 8 19:54:25 2023] Words tested from the big dictionary: 6%
[Wed Mar 8 19:54:25 2023] Words tested from the big dictionary: 6%
[Wed Mar 8 19:54:25 2023] Words tested from the big dictionary: 6%
[Wed Mar 8 19:54:25 2023] Words tested from the big dictionary: 6%
[Wed Mar 8 19:54:25 2023] Words tested from the big dictionary: 7%
[Wed Mar 8 19:54:25 2023] Words tested from the big dictionary: 7%
[Wed Mar 8 19:54:26 2023] Words tested from the big dictionary: 7%
[Wed Mar 8 19:54:26 2023] Words tested from the big dictionary: 7%
[Wed Mar 8 19:54:26 2023] Words tested from the big dictionary: 7%
[Wed Mar 8 19:54:26 2023] Words tested from the big dictionary: 7%
[Wed Mar 8 19:54:26 2023] Words tested from the big dictionary: 7%
[Wed Mar 8 19:54:26 2023] Words tested from the big dictionary: 7%
[Wed Mar 8 19:54:26 2023] Words tested from the big dictionary: 7%
[Wed Mar 8 19:54:26 2023] Words tested from the big dictionary: 7%
[Wed Mar 8 19:54:26 2023] Words tested from the big dictionary: 7%
[Wed Mar 8 19:54:26 2023] Words tested from the big dictionary: 8%
[Wed Mar 8 19:54:26 2023] Words tested from the big dictionary: 8%
[Wed Mar 8 19:54:26 2023] Words tested from the big dictionary: 8%
[Wed Mar 8 19:54:26 2023] Words tested from the big dictionary: 8%
[Wed Mar 8 19:54:26 2023] Words tested from the big dictionary: 8%
[Wed Mar 8 19:54:26 2023] Words tested from the big dictionary: 8%
[Wed Mar 8 19:54:26 2023] Words tested from the big dictionary: 8%
[Wed Mar 8 19:54:26 2023] Words tested from the big dictionary: 8%
[Wed Mar 8 19:54:26 2023] Words tested from the big dictionary: 8%
[Wed Mar 8 19:54:26 2023] Words tested from the big dictionary: 8%
[Wed Mar 8 19:54:26 2023] Words tested from the big dictionary: 8%
[Wed Mar 8 19:54:26 2023] Words tested from the big dictionary: 9%
[Wed Mar 8 19:54:26 2023] Words tested from the big dictionary: 9%
[Wed Mar 8 19:54:26 2023] Words tested from the big dictionary: 9%
[Wed Mar 8 19:54:26 2023] Words tested from the big dictionary: 9%
[Wed Mar 8 19:54:26 2023] Words tested from the big dictionary: 9%
[Wed Mar 8 19:54:26 2023] Words tested from the big dictionary: 9%
[Wed Mar 8 19:54:26 2023] Words tested from the big dictionary: 9%
[Wed Mar 8 19:54:26 2023] Words tested from the big dictionary: 9%
[Wed Mar 8 19:54:26 2023] Words tested from the big dictionary: 9%
[Wed Mar 8 19:54:26 2023] Words tested from the big dictionary: 9%
[Wed Mar 8 19:54:26 2023] Words tested from the big dictionary: 10%
[Wed Mar 8 19:54:26 2023] Words tested from the big dictionary: 10%
[Wed Mar 8 19:54:26 2023] Words tested from the big dictionary: 10%
[Wed Mar 8 19:54:26 2023] Words tested from the big dictionary: 10%
[Wed Mar 8 19:54:26 2023] Words tested from the big dictionary: 10%
[Wed Mar 8 19:54:26 2023] Words tested from the big dictionary: 10%
[Wed Mar 8 19:54:26 2023] Words tested from the big dictionary: 10%
[Wed Mar 8 19:54:27 2023] Words tested from the big dictionary: 10%
[Wed Mar 8 19:54:27 2023] Words tested from the big dictionary: 10%
[Wed Mar 8 19:54:27 2023] Words tested from the big dictionary: 10%
[Wed Mar 8 19:54:27 2023] Words tested from the big dictionary: 10%
[Wed Mar 8 19:54:27 2023] Words tested from the big dictionary: 11%
[Wed Mar 8 19:54:27 2023] Words tested from the big dictionary: 11%
[Wed Mar 8 19:54:27 2023] Words tested from the big dictionary: 11%
[Wed Mar 8 19:54:27 2023] Words tested from the big dictionary: 11%
[Wed Mar 8 19:54:27 2023] Words tested from the big dictionary: 11%
[Wed Mar 8 19:54:27 2023] Words tested from the big dictionary: 11%
[Wed Mar 8 19:54:27 2023] Words tested from the big dictionary: 11%
[Wed Mar 8 19:54:27 2023] Words tested from the big dictionary: 11%
[Wed Mar 8 19:54:27 2023] Words tested from the big dictionary: 11%
[Wed Mar 8 19:54:27 2023] Words tested from the big dictionary: 11%
[Wed Mar 8 19:54:27 2023] Words tested from the big dictionary: 11%
[Wed Mar 8 19:54:27 2023] Words tested from the big dictionary: 12%
[Wed Mar 8 19:54:27 2023] Words tested from the big dictionary: 12%
[Wed Mar 8 19:54:27 2023] Words tested from the big dictionary: 12%
[Wed Mar 8 19:54:27 2023] Words tested from the big dictionary: 12%
[Wed Mar 8 19:54:27 2023] Words tested from the big dictionary: 12%
[Wed Mar 8 19:54:27 2023] Words tested from the big dictionary: 12%
[Wed Mar 8 19:54:27 2023] Words tested from the big dictionary: 12%
[Wed Mar 8 19:54:27 2023] Words tested from the big dictionary: 12%
[Wed Mar 8 19:54:27 2023] Words tested from the big dictionary: 12%
[Wed Mar 8 19:54:27 2023] Words tested from the big dictionary: 12%
[Wed Mar 8 19:54:27 2023] Words tested from the big dictionary: 12%
[Wed Mar 8 19:54:27 2023] Words tested from the big dictionary: 13%
[Wed Mar 8 19:54:27 2023] Words tested from the big dictionary: 13%
[Wed Mar 8 19:54:27 2023] Words tested from the big dictionary: 13%
[Wed Mar 8 19:54:27 2023] Words tested from the big dictionary: 13%
[Wed Mar 8 19:54:27 2023] Words tested from the big dictionary: 13%
[Wed Mar 8 19:54:27 2023] Words tested from the big dictionary: 13%
[Wed Mar 8 19:54:27 2023] Words tested from the big dictionary: 13%
[Wed Mar 8 19:54:27 2023] Words tested from the big dictionary: 13%
[Wed Mar 8 19:54:27 2023] Words tested from the big dictionary: 13%
[Wed Mar 8 19:54:27 2023] Words tested from the big dictionary: 13%
[Wed Mar 8 19:54:27 2023] Words tested from the big dictionary: 13%
[Wed Mar 8 19:54:27 2023] Words tested from the big dictionary: 14%
[Wed Mar 8 19:54:28 2023] Words tested from the big dictionary: 14%
[Wed Mar 8 19:54:28 2023] Words tested from the big dictionary: 14%
[Wed Mar 8 19:54:28 2023] Words tested from the big dictionary: 14%
[Wed Mar 8 19:54:28 2023] Words tested from the big dictionary: 14%
[Wed Mar 8 19:54:28 2023] Words tested from the big dictionary: 14%
[Wed Mar 8 19:54:28 2023] Words tested from the big dictionary: 14%
[Wed Mar 8 19:54:28 2023] Words tested from the big dictionary: 14%
[Wed Mar 8 19:54:28 2023] Words tested from the big dictionary: 14%
[Wed Mar 8 19:54:28 2023] Words tested from the big dictionary: 14%
[Wed Mar 8 19:54:28 2023] Words tested from the big dictionary: 14%
[Wed Mar 8 19:54:28 2023] Words tested from the big dictionary: 15%
[Wed Mar 8 19:54:28 2023] Words tested from the big dictionary: 15%
[Wed Mar 8 19:54:28 2023] Words tested from the big dictionary: 15%
[Wed Mar 8 19:54:28 2023] Words tested from the big dictionary: 15%
[Wed Mar 8 19:54:28 2023] Words tested from the big dictionary: 15%
[Wed Mar 8 19:54:28 2023] Words tested from the big dictionary: 15%
[Wed Mar 8 19:54:28 2023] Words tested from the big dictionary: 15%
[Wed Mar 8 19:54:28 2023] Words tested from the big dictionary: 15%
[Wed Mar 8 19:54:28 2023] Words tested from the big dictionary: 15%
[Wed Mar 8 19:54:28 2023] Words tested from the big dictionary: 15%
[Wed Mar 8 19:54:28 2023] Words tested from the big dictionary: 15%
[Wed Mar 8 19:54:28 2023] Words tested from the big dictionary: 16%
[Wed Mar 8 19:54:28 2023] Words tested from the big dictionary: 16%
[Wed Mar 8 19:54:28 2023] Words tested from the big dictionary: 16%
[Wed Mar 8 19:54:28 2023] Words tested from the big dictionary: 16%
[Wed Mar 8 19:54:28 2023] Words tested from the big dictionary: 16%
[Wed Mar 8 19:54:28 2023] Words tested from the big dictionary: 16%
[Wed Mar 8 19:54:28 2023] Words tested from the big dictionary: 16%
[Wed Mar 8 19:54:28 2023] Words tested from the big dictionary: 16%
[Wed Mar 8 19:54:28 2023] Words tested from the big dictionary: 16%
[Wed Mar 8 19:54:28 2023] Words tested from the big dictionary: 16%
[Wed Mar 8 19:54:28 2023] Words tested from the big dictionary: 16%
[Wed Mar 8 19:54:28 2023] Words tested from the big dictionary: 17%
[Wed Mar 8 19:54:28 2023] Words tested from the big dictionary: 17%
[Wed Mar 8 19:54:28 2023] Words tested from the big dictionary: 17%
[Wed Mar 8 19:54:28 2023] Words tested from the big dictionary: 17%
[Wed Mar 8 19:54:29 2023] Words tested from the big dictionary: 17%
[Wed Mar 8 19:54:29 2023] Words tested from the big dictionary: 17%
[Wed Mar 8 19:54:29 2023] Words tested from the big dictionary: 17%
[Wed Mar 8 19:54:29 2023] Words tested from the big dictionary: 17%
[Wed Mar 8 19:54:29 2023] Words tested from the big dictionary: 17%
[Wed Mar 8 19:54:29 2023] Words tested from the big dictionary: 17%
[Wed Mar 8 19:54:29 2023] Words tested from the big dictionary: 17%
[Wed Mar 8 19:54:29 2023] Words tested from the big dictionary: 18%
[Wed Mar 8 19:54:29 2023] Words tested from the big dictionary: 18%
[Wed Mar 8 19:54:29 2023] Words tested from the big dictionary: 18%
[Wed Mar 8 19:54:29 2023] Words tested from the big dictionary: 18%
[Wed Mar 8 19:54:29 2023] Words tested from the big dictionary: 18%
[Wed Mar 8 19:54:29 2023] Words tested from the big dictionary: 18%
[Wed Mar 8 19:54:29 2023] Words tested from the big dictionary: 18%
[Wed Mar 8 19:54:29 2023] Words tested from the big dictionary: 18%
[Wed Mar 8 19:54:29 2023] Words tested from the big dictionary: 18%
[Wed Mar 8 19:54:29 2023] Words tested from the big dictionary: 18%
[Wed Mar 8 19:54:29 2023] Words tested from the big dictionary: 18%
[Wed Mar 8 19:54:29 2023] Words tested from the big dictionary: 19%
[Wed Mar 8 19:54:29 2023] Words tested from the big dictionary: 19%
[Wed Mar 8 19:54:29 2023] Words tested from the big dictionary: 19%
[Wed Mar 8 19:54:29 2023] Words tested from the big dictionary: 19%
[Wed Mar 8 19:54:29 2023] Words tested from the big dictionary: 19%
[Wed Mar 8 19:54:29 2023] Words tested from the big dictionary: 19%
[Wed Mar 8 19:54:29 2023] Words tested from the big dictionary: 19%
[Wed Mar 8 19:54:29 2023] Words tested from the big dictionary: 19%
[Wed Mar 8 19:54:29 2023] Words tested from the big dictionary: 19%
[Wed Mar 8 19:54:29 2023] Words tested from the big dictionary: 19%
[Wed Mar 8 19:54:29 2023] Words tested from the big dictionary: 20%
[Wed Mar 8 19:54:29 2023] Words tested from the big dictionary: 20%
[Wed Mar 8 19:54:29 2023] Words tested from the big dictionary: 20%
[Wed Mar 8 19:54:29 2023] Words tested from the big dictionary: 20%
[Wed Mar 8 19:54:29 2023] Words tested from the big dictionary: 20%
[Wed Mar 8 19:54:29 2023] Words tested from the big dictionary: 20%
[Wed Mar 8 19:54:29 2023] Words tested from the big dictionary: 20%
[Wed Mar 8 19:54:29 2023] Words tested from the big dictionary: 20%
[Wed Mar 8 19:54:29 2023] Words tested from the big dictionary: 20%
[Wed Mar 8 19:54:29 2023] Words tested from the big dictionary: 20%
[Wed Mar 8 19:54:30 2023] Words tested from the big dictionary: 20%
[Wed Mar 8 19:54:30 2023] Words tested from the big dictionary: 21%
[Wed Mar 8 19:54:30 2023] Words tested from the big dictionary: 21%
[Wed Mar 8 19:54:30 2023] Words tested from the big dictionary: 21%
[Wed Mar 8 19:54:30 2023] Words tested from the big dictionary: 21%
[Wed Mar 8 19:54:30 2023] Words tested from the big dictionary: 21%
[Wed Mar 8 19:54:30 2023] Words tested from the big dictionary: 21%
[Wed Mar 8 19:54:30 2023] Words tested from the big dictionary: 21%
[Wed Mar 8 19:54:30 2023] Words tested from the big dictionary: 21%
[Wed Mar 8 19:54:30 2023] Words tested from the big dictionary: 21%
[Wed Mar 8 19:54:30 2023] Words tested from the big dictionary: 21%
[Wed Mar 8 19:54:30 2023] Words tested from the big dictionary: 21%
[Wed Mar 8 19:54:30 2023] Words tested from the big dictionary: 22%
[Wed Mar 8 19:54:30 2023] Words tested from the big dictionary: 22%
[Wed Mar 8 19:54:30 2023] Words tested from the big dictionary: 22%
[Wed Mar 8 19:54:30 2023] Words tested from the big dictionary: 22%
[Wed Mar 8 19:54:30 2023] Words tested from the big dictionary: 22%
[Wed Mar 8 19:54:30 2023] Words tested from the big dictionary: 22%
[Wed Mar 8 19:54:30 2023] Words tested from the big dictionary: 22%
[Wed Mar 8 19:54:30 2023] Words tested from the big dictionary: 22%
[Wed Mar 8 19:54:30 2023] Words tested from the big dictionary: 22%
[Wed Mar 8 19:54:30 2023] Words tested from the big dictionary: 22%
[Wed Mar 8 19:54:30 2023] Words tested from the big dictionary: 22%
[Wed Mar 8 19:54:30 2023] Words tested from the big dictionary: 23%
[Wed Mar 8 19:54:30 2023] Words tested from the big dictionary: 23%
[Wed Mar 8 19:54:30 2023] Words tested from the big dictionary: 23%
[Wed Mar 8 19:54:30 2023] Words tested from the big dictionary: 23%
[Wed Mar 8 19:54:30 2023] Words tested from the big dictionary: 23%
[Wed Mar 8 19:54:30 2023] Words tested from the big dictionary: 23%
[Wed Mar 8 19:54:30 2023] Words tested from the big dictionary: 23%
[Wed Mar 8 19:54:30 2023] Words tested from the big dictionary: 23%
[Wed Mar 8 19:54:30 2023] Words tested from the big dictionary: 23%
[Wed Mar 8 19:54:30 2023] Words tested from the big dictionary: 23%
[Wed Mar 8 19:54:30 2023] Words tested from the big dictionary: 23%
[Wed Mar 8 19:54:30 2023] Words tested from the big dictionary: 24%
[Wed Mar 8 19:54:30 2023] Words tested from the big dictionary: 24%
[Wed Mar 8 19:54:30 2023] Words tested from the big dictionary: 24%
[Wed Mar 8 19:54:30 2023] Words tested from the big dictionary: 24%
[Wed Mar 8 19:54:31 2023] Words tested from the big dictionary: 24%
[Wed Mar 8 19:54:31 2023] Words tested from the big dictionary: 24%
[Wed Mar 8 19:54:31 2023] Words tested from the big dictionary: 24%
[Wed Mar 8 19:54:31 2023] Words tested from the big dictionary: 24%
[Wed Mar 8 19:54:31 2023] Words tested from the big dictionary: 24%
[Wed Mar 8 19:54:31 2023] Words tested from the big dictionary: 24%
[Wed Mar 8 19:54:31 2023] Words tested from the big dictionary: 24%
[Wed Mar 8 19:54:31 2023] Words tested from the big dictionary: 25%
[Wed Mar 8 19:54:31 2023] Words tested from the big dictionary: 25%
[Wed Mar 8 19:54:31 2023] Words tested from the big dictionary: 25%
[Wed Mar 8 19:54:31 2023] Words tested from the big dictionary: 25%
[Wed Mar 8 19:54:31 2023] Words tested from the big dictionary: 25%
[Wed Mar 8 19:54:31 2023] Words tested from the big dictionary: 25%
[Wed Mar 8 19:54:31 2023] Words tested from the big dictionary: 25%
[Wed Mar 8 19:54:31 2023] Words tested from the big dictionary: 25%
[Wed Mar 8 19:54:31 2023] Words tested from the big dictionary: 25%
[Wed Mar 8 19:54:31 2023] Words tested from the big dictionary: 25%
[Wed Mar 8 19:54:31 2023] Words tested from the big dictionary: 25%
[Wed Mar 8 19:54:31 2023] Words tested from the big dictionary: 26%
[Wed Mar 8 19:54:31 2023] Words tested from the big dictionary: 26%
[Wed Mar 8 19:54:31 2023] Words tested from the big dictionary: 26%
[Wed Mar 8 19:54:31 2023] Words tested from the big dictionary: 26%
[Wed Mar 8 19:54:31 2023] Words tested from the big dictionary: 26%
[Wed Mar 8 19:54:31 2023] Words tested from the big dictionary: 26%
[Wed Mar 8 19:54:31 2023] Words tested from the big dictionary: 26%
[Wed Mar 8 19:54:31 2023] Words tested from the big dictionary: 26%
[Wed Mar 8 19:54:31 2023] Words tested from the big dictionary: 26%
[Wed Mar 8 19:54:31 2023] Words tested from the big dictionary: 26%
[Wed Mar 8 19:54:31 2023] Words tested from the big dictionary: 26%
[Wed Mar 8 19:54:31 2023] Words tested from the big dictionary: 27%
[Wed Mar 8 19:54:31 2023] Words tested from the big dictionary: 27%
[Wed Mar 8 19:54:31 2023] Words tested from the big dictionary: 27%
[Wed Mar 8 19:54:31 2023] Words tested from the big dictionary: 27%
[Wed Mar 8 19:54:31 2023] Words tested from the big dictionary: 27%
[Wed Mar 8 19:54:31 2023] Words tested from the big dictionary: 27%
[Wed Mar 8 19:54:31 2023] Words tested from the big dictionary: 27%
[Wed Mar 8 19:54:31 2023] Words tested from the big dictionary: 27%
[Wed Mar 8 19:54:31 2023] Words tested from the big dictionary: 27%
[Wed Mar 8 19:54:31 2023] Words tested from the big dictionary: 27%
[Wed Mar 8 19:54:32 2023] Words tested from the big dictionary: 27%
[Wed Mar 8 19:54:32 2023] Words tested from the big dictionary: 28%
[Wed Mar 8 19:54:32 2023] Words tested from the big dictionary: 28%
[Wed Mar 8 19:54:32 2023] Words tested from the big dictionary: 28%
[Wed Mar 8 19:54:32 2023] Words tested from the big dictionary: 28%
[Wed Mar 8 19:54:32 2023] Words tested from the big dictionary: 28%
[Wed Mar 8 19:54:32 2023] Words tested from the big dictionary: 28%
[Wed Mar 8 19:54:32 2023] Words tested from the big dictionary: 28%
[Wed Mar 8 19:54:32 2023] Words tested from the big dictionary: 28%
[Wed Mar 8 19:54:32 2023] Words tested from the big dictionary: 28%
[Wed Mar 8 19:54:32 2023] Words tested from the big dictionary: 28%
[Wed Mar 8 19:54:32 2023] Words tested from the big dictionary: 28%
[Wed Mar 8 19:54:32 2023] Words tested from the big dictionary: 29%
[Wed Mar 8 19:54:32 2023] Words tested from the big dictionary: 29%
[Wed Mar 8 19:54:32 2023] Words tested from the big dictionary: 29%
[Wed Mar 8 19:54:32 2023] Words tested from the big dictionary: 29%
[Wed Mar 8 19:54:32 2023] Words tested from the big dictionary: 29%
[Wed Mar 8 19:54:32 2023] Words tested from the big dictionary: 29%
[Wed Mar 8 19:54:32 2023] Words tested from the big dictionary: 29%
[Wed Mar 8 19:54:32 2023] Words tested from the big dictionary: 29%
[Wed Mar 8 19:54:32 2023] Words tested from the big dictionary: 29%
[Wed Mar 8 19:54:32 2023] Words tested from the big dictionary: 29%
[Wed Mar 8 19:54:32 2023] Words tested from the big dictionary: 30%
[Wed Mar 8 19:54:32 2023] Words tested from the big dictionary: 30%
[Wed Mar 8 19:54:32 2023] Words tested from the big dictionary: 30%
[Wed Mar 8 19:54:32 2023] Words tested from the big dictionary: 30%
[Wed Mar 8 19:54:32 2023] Words tested from the big dictionary: 30%
[Wed Mar 8 19:54:32 2023] Words tested from the big dictionary: 30%
[Wed Mar 8 19:54:32 2023] Words tested from the big dictionary: 30%
[Wed Mar 8 19:54:32 2023] Words tested from the big dictionary: 30%
[Wed Mar 8 19:54:32 2023] Words tested from the big dictionary: 30%
[Wed Mar 8 19:54:32 2023] Words tested from the big dictionary: 30%
[Wed Mar 8 19:54:32 2023] Words tested from the big dictionary: 30%
[Wed Mar 8 19:54:32 2023] Words tested from the big dictionary: 31%
[Wed Mar 8 19:54:32 2023] Words tested from the big dictionary: 31%
[Wed Mar 8 19:54:32 2023] Words tested from the big dictionary: 31%
[Wed Mar 8 19:54:32 2023] Words tested from the big dictionary: 31%
[Wed Mar 8 19:54:33 2023] Words tested from the big dictionary: 31%
[Wed Mar 8 19:54:33 2023] Words tested from the big dictionary: 31%
[Wed Mar 8 19:54:33 2023] Words tested from the big dictionary: 31%
[Wed Mar 8 19:54:33 2023] Words tested from the big dictionary: 31%
[Wed Mar 8 19:54:33 2023] Words tested from the big dictionary: 31%
[Wed Mar 8 19:54:33 2023] Words tested from the big dictionary: 31%
[Wed Mar 8 19:54:33 2023] Words tested from the big dictionary: 31%
[Wed Mar 8 19:54:33 2023] Words tested from the big dictionary: 32%
[Wed Mar 8 19:54:33 2023] Words tested from the big dictionary: 32%
[Wed Mar 8 19:54:33 2023] Words tested from the big dictionary: 32%
[Wed Mar 8 19:54:33 2023] Words tested from the big dictionary: 32%
[Wed Mar 8 19:54:33 2023] Words tested from the big dictionary: 32%
[Wed Mar 8 19:54:33 2023] Words tested from the big dictionary: 32%
[Wed Mar 8 19:54:33 2023] Words tested from the big dictionary: 32%
[Wed Mar 8 19:54:33 2023] Words tested from the big dictionary: 32%
[Wed Mar 8 19:54:33 2023] Words tested from the big dictionary: 32%
[Wed Mar 8 19:54:33 2023] Words tested from the big dictionary: 32%
[Wed Mar 8 19:54:33 2023] Words tested from the big dictionary: 32%
[Wed Mar 8 19:54:33 2023] Words tested from the big dictionary: 33%
[Wed Mar 8 19:54:33 2023] Words tested from the big dictionary: 33%
[Wed Mar 8 19:54:33 2023] Words tested from the big dictionary: 33%
[Wed Mar 8 19:54:33 2023] Words tested from the big dictionary: 33%
[Wed Mar 8 19:54:33 2023] Words tested from the big dictionary: 33%
[Wed Mar 8 19:54:33 2023] Words tested from the big dictionary: 33%
[Wed Mar 8 19:54:33 2023] Words tested from the big dictionary: 33%
[Wed Mar 8 19:54:33 2023] Words tested from the big dictionary: 33%
[Wed Mar 8 19:54:33 2023] Words tested from the big dictionary: 33%
[Wed Mar 8 19:54:33 2023] Words tested from the big dictionary: 33%
[Wed Mar 8 19:54:33 2023] Words tested from the big dictionary: 33%
[Wed Mar 8 19:54:33 2023] Words tested from the big dictionary: 34%
[Wed Mar 8 19:54:33 2023] Words tested from the big dictionary: 34%
[Wed Mar 8 19:54:33 2023] Words tested from the big dictionary: 34%
[Wed Mar 8 19:54:33 2023] Words tested from the big dictionary: 34%
[Wed Mar 8 19:54:33 2023] Words tested from the big dictionary: 34%
[Wed Mar 8 19:54:33 2023] Words tested from the big dictionary: 34%
[Wed Mar 8 19:54:33 2023] Words tested from the big dictionary: 34%
[Wed Mar 8 19:54:33 2023] Words tested from the big dictionary: 34%
[Wed Mar 8 19:54:33 2023] Words tested from the big dictionary: 34%
[Wed Mar 8 19:54:34 2023] Words tested from the big dictionary: 34%
[Wed Mar 8 19:54:34 2023] Words tested from the big dictionary: 34%
[Wed Mar 8 19:54:34 2023] Words tested from the big dictionary: 35%
[Wed Mar 8 19:54:34 2023] Words tested from the big dictionary: 35%
[Wed Mar 8 19:54:34 2023] Words tested from the big dictionary: 35%
[Wed Mar 8 19:54:34 2023] Words tested from the big dictionary: 35%
[Wed Mar 8 19:54:34 2023] Words tested from the big dictionary: 35%
[Wed Mar 8 19:54:34 2023] Words tested from the big dictionary: 35%
[Wed Mar 8 19:54:34 2023] Words tested from the big dictionary: 35%
[Wed Mar 8 19:54:34 2023] Words tested from the big dictionary: 35%
[Wed Mar 8 19:54:34 2023] Words tested from the big dictionary: 35%
[Wed Mar 8 19:54:34 2023] Words tested from the big dictionary: 35%
[Wed Mar 8 19:54:34 2023] Words tested from the big dictionary: 35%
[Wed Mar 8 19:54:34 2023] Words tested from the big dictionary: 36%
[Wed Mar 8 19:54:34 2023] Words tested from the big dictionary: 36%
[Wed Mar 8 19:54:34 2023] Words tested from the big dictionary: 36%
[Wed Mar 8 19:54:34 2023] Words tested from the big dictionary: 36%
[Wed Mar 8 19:54:34 2023] Words tested from the big dictionary: 36%
[Wed Mar 8 19:54:34 2023] Words tested from the big dictionary: 36%
[Wed Mar 8 19:54:34 2023] Words tested from the big dictionary: 36%
[Wed Mar 8 19:54:34 2023] Words tested from the big dictionary: 36%
[Wed Mar 8 19:54:34 2023] Words tested from the big dictionary: 36%
[Wed Mar 8 19:54:34 2023] Words tested from the big dictionary: 36%
[Wed Mar 8 19:54:34 2023] Words tested from the big dictionary: 36%
[Wed Mar 8 19:54:34 2023] Words tested from the big dictionary: 37%
[Wed Mar 8 19:54:34 2023] Words tested from the big dictionary: 37%
[Wed Mar 8 19:54:34 2023] Words tested from the big dictionary: 37%
[Wed Mar 8 19:54:34 2023] Words tested from the big dictionary: 37%
[Wed Mar 8 19:54:34 2023] Words tested from the big dictionary: 37%
[Wed Mar 8 19:54:34 2023] Words tested from the big dictionary: 37%
[Wed Mar 8 19:54:34 2023] Words tested from the big dictionary: 37%
[Wed Mar 8 19:54:34 2023] Words tested from the big dictionary: 37%
[Wed Mar 8 19:54:34 2023] Words tested from the big dictionary: 37%
[Wed Mar 8 19:54:34 2023] Words tested from the big dictionary: 37%
[Wed Mar 8 19:54:34 2023] Words tested from the big dictionary: 37%
[Wed Mar 8 19:54:34 2023] Words tested from the big dictionary: 38%
[Wed Mar 8 19:54:35 2023] Words tested from the big dictionary: 38%
[Wed Mar 8 19:54:35 2023] Words tested from the big dictionary: 38%
[Wed Mar 8 19:54:35 2023] Words tested from the big dictionary: 38%
[Wed Mar 8 19:54:35 2023] Words tested from the big dictionary: 38%
[Wed Mar 8 19:54:35 2023] Words tested from the big dictionary: 38%
[Wed Mar 8 19:54:35 2023] Words tested from the big dictionary: 38%
[Wed Mar 8 19:54:35 2023] Words tested from the big dictionary: 38%
[Wed Mar 8 19:54:35 2023] Words tested from the big dictionary: 38%
[Wed Mar 8 19:54:35 2023] Words tested from the big dictionary: 38%
[Wed Mar 8 19:54:35 2023] Words tested from the big dictionary: 39%
[Wed Mar 8 19:54:35 2023] Words tested from the big dictionary: 39%
[Wed Mar 8 19:54:35 2023] Words tested from the big dictionary: 39%
[Wed Mar 8 19:54:35 2023] Words tested from the big dictionary: 39%
[Wed Mar 8 19:54:35 2023] Words tested from the big dictionary: 39%
[Wed Mar 8 19:54:35 2023] Words tested from the big dictionary: 39%
[Wed Mar 8 19:54:35 2023] Words tested from the big dictionary: 39%
[Wed Mar 8 19:54:35 2023] Words tested from the big dictionary: 39%
[Wed Mar 8 19:54:35 2023] Words tested from the big dictionary: 39%
[Wed Mar 8 19:54:35 2023] Words tested from the big dictionary: 39%
[Wed Mar 8 19:54:35 2023] Words tested from the big dictionary: 39%
[Wed Mar 8 19:54:35 2023] Words tested from the big dictionary: 40%
[Wed Mar 8 19:54:35 2023] Words tested from the big dictionary: 40%
[Wed Mar 8 19:54:35 2023] Words tested from the big dictionary: 40%
[Wed Mar 8 19:54:35 2023] Words tested from the big dictionary: 40%
[Wed Mar 8 19:54:35 2023] Words tested from the big dictionary: 40%
[Wed Mar 8 19:54:35 2023] Words tested from the big dictionary: 40%
[Wed Mar 8 19:54:35 2023] Words tested from the big dictionary: 40%
[Wed Mar 8 19:54:35 2023] Words tested from the big dictionary: 40%
[Wed Mar 8 19:54:35 2023] Words tested from the big dictionary: 40%
[Wed Mar 8 19:54:35 2023] Words tested from the big dictionary: 40%
[Wed Mar 8 19:54:35 2023] Words tested from the big dictionary: 40%
[Wed Mar 8 19:54:35 2023] Words tested from the big dictionary: 41%
[Wed Mar 8 19:54:35 2023] Words tested from the big dictionary: 41%
[Wed Mar 8 19:54:35 2023] Words tested from the big dictionary: 41%
[Wed Mar 8 19:54:35 2023] Words tested from the big dictionary: 41%
[Wed Mar 8 19:54:35 2023] Words tested from the big dictionary: 41%
[Wed Mar 8 19:54:35 2023] Words tested from the big dictionary: 41%
[Wed Mar 8 19:54:36 2023] Words tested from the big dictionary: 41%
[Wed Mar 8 19:54:36 2023] Words tested from the big dictionary: 41%
[Wed Mar 8 19:54:36 2023] Words tested from the big dictionary: 41%
[Wed Mar 8 19:54:36 2023] Words tested from the big dictionary: 41%
[Wed Mar 8 19:54:36 2023] Words tested from the big dictionary: 41%
[Wed Mar 8 19:54:36 2023] Words tested from the big dictionary: 42%
[Wed Mar 8 19:54:36 2023] Words tested from the big dictionary: 42%
[Wed Mar 8 19:54:36 2023] Words tested from the big dictionary: 42%
[Wed Mar 8 19:54:36 2023] Words tested from the big dictionary: 42%
[Wed Mar 8 19:54:36 2023] Words tested from the big dictionary: 42%
[Wed Mar 8 19:54:36 2023] Words tested from the big dictionary: 42%
[Wed Mar 8 19:54:36 2023] Words tested from the big dictionary: 42%
[Wed Mar 8 19:54:36 2023] Words tested from the big dictionary: 42%
[Wed Mar 8 19:54:36 2023] Words tested from the big dictionary: 42%
[Wed Mar 8 19:54:36 2023] Words tested from the big dictionary: 42%
[Wed Mar 8 19:54:36 2023] Words tested from the big dictionary: 42%
[Wed Mar 8 19:54:36 2023] Words tested from the big dictionary: 43%
[Wed Mar 8 19:54:36 2023] Words tested from the big dictionary: 43%
[Wed Mar 8 19:54:36 2023] Words tested from the big dictionary: 43%
[Wed Mar 8 19:54:36 2023] Words tested from the big dictionary: 43%
[Wed Mar 8 19:54:36 2023] Words tested from the big dictionary: 43%
[Wed Mar 8 19:54:36 2023] Words tested from the big dictionary: 43%
[Wed Mar 8 19:54:36 2023] Words tested from the big dictionary: 43%
[Wed Mar 8 19:54:36 2023] Words tested from the big dictionary: 43%
[Wed Mar 8 19:54:36 2023] Words tested from the big dictionary: 43%
[Wed Mar 8 19:54:36 2023] Words tested from the big dictionary: 43%
[Wed Mar 8 19:54:36 2023] Words tested from the big dictionary: 43%
[Wed Mar 8 19:54:36 2023] Words tested from the big dictionary: 44%
[Wed Mar 8 19:54:36 2023] Words tested from the big dictionary: 44%
[Wed Mar 8 19:54:36 2023] Words tested from the big dictionary: 44%
[Wed Mar 8 19:54:36 2023] Words tested from the big dictionary: 44%
[Wed Mar 8 19:54:36 2023] Words tested from the big dictionary: 44%
[Wed Mar 8 19:54:36 2023] Words tested from the big dictionary: 44%
[Wed Mar 8 19:54:36 2023] Words tested from the big dictionary: 44%
[Wed Mar 8 19:54:36 2023] Words tested from the big dictionary: 44%
[Wed Mar 8 19:54:36 2023] Words tested from the big dictionary: 44%
[Wed Mar 8 19:54:36 2023] Words tested from the big dictionary: 44%
[Wed Mar 8 19:54:37 2023] Words tested from the big dictionary: 44%
[Wed Mar 8 19:54:37 2023] Words tested from the big dictionary: 45%
[Wed Mar 8 19:54:37 2023] Words tested from the big dictionary: 45%
[Wed Mar 8 19:54:37 2023] Words tested from the big dictionary: 45%
[Wed Mar 8 19:54:37 2023] Words tested from the big dictionary: 45%
[Wed Mar 8 19:54:37 2023] Words tested from the big dictionary: 45%
[Wed Mar 8 19:54:37 2023] Words tested from the big dictionary: 45%
[Wed Mar 8 19:54:37 2023] Words tested from the big dictionary: 45%
[Wed Mar 8 19:54:37 2023] Words tested from the big dictionary: 45%
[Wed Mar 8 19:54:37 2023] Words tested from the big dictionary: 45%
[Wed Mar 8 19:54:37 2023] Words tested from the big dictionary: 45%
[Wed Mar 8 19:54:37 2023] Words tested from the big dictionary: 45%
[Wed Mar 8 19:54:37 2023] Words tested from the big dictionary: 46%
[Wed Mar 8 19:54:37 2023] Words tested from the big dictionary: 46%
[Wed Mar 8 19:54:37 2023] Words tested from the big dictionary: 46%
[Wed Mar 8 19:54:37 2023] Words tested from the big dictionary: 46%
[Wed Mar 8 19:54:37 2023] Words tested from the big dictionary: 46%
[Wed Mar 8 19:54:37 2023] Words tested from the big dictionary: 46%
[Wed Mar 8 19:54:37 2023] Words tested from the big dictionary: 46%
[Wed Mar 8 19:54:37 2023] Words tested from the big dictionary: 46%
[Wed Mar 8 19:54:37 2023] Words tested from the big dictionary: 46%
[Wed Mar 8 19:54:37 2023] Words tested from the big dictionary: 46%
[Wed Mar 8 19:54:37 2023] Words tested from the big dictionary: 46%
[Wed Mar 8 19:54:37 2023] Words tested from the big dictionary: 47%
[Wed Mar 8 19:54:37 2023] Words tested from the big dictionary: 47%
[Wed Mar 8 19:54:37 2023] Words tested from the big dictionary: 47%
[Wed Mar 8 19:54:37 2023] Words tested from the big dictionary: 47%
[Wed Mar 8 19:54:37 2023] Words tested from the big dictionary: 47%
[Wed Mar 8 19:54:37 2023] Words tested from the big dictionary: 47%
[Wed Mar 8 19:54:37 2023] Words tested from the big dictionary: 47%
[Wed Mar 8 19:54:37 2023] Words tested from the big dictionary: 47%
[Wed Mar 8 19:54:37 2023] Words tested from the big dictionary: 47%
[Wed Mar 8 19:54:38 2023] Words tested from the big dictionary: 47%
[Wed Mar 8 19:54:38 2023] Words tested from the big dictionary: 47%
[Wed Mar 8 19:54:38 2023] Words tested from the big dictionary: 48%
[Wed Mar 8 19:54:38 2023] Words tested from the big dictionary: 48%
[Wed Mar 8 19:54:38 2023] Words tested from the big dictionary: 48%
[Wed Mar 8 19:54:38 2023] Words tested from the big dictionary: 48%
[Wed Mar 8 19:54:38 2023] Words tested from the big dictionary: 48%
[Wed Mar 8 19:54:38 2023] Words tested from the big dictionary: 48%
[Wed Mar 8 19:54:38 2023] Words tested from the big dictionary: 48%
[Wed Mar 8 19:54:38 2023] Words tested from the big dictionary: 48%
[Wed Mar 8 19:54:38 2023] Words tested from the big dictionary: 48%
[Wed Mar 8 19:54:38 2023] Words tested from the big dictionary: 48%
[Wed Mar 8 19:54:38 2023] Words tested from the big dictionary: 49%
[Wed Mar 8 19:54:38 2023] Words tested from the big dictionary: 49%
[Wed Mar 8 19:54:38 2023] Words tested from the big dictionary: 49%
[Wed Mar 8 19:54:38 2023] Words tested from the big dictionary: 49%
[Wed Mar 8 19:54:38 2023] Words tested from the big dictionary: 49%
[Wed Mar 8 19:54:38 2023] Words tested from the big dictionary: 49%
[Wed Mar 8 19:54:38 2023] Words tested from the big dictionary: 49%
[Wed Mar 8 19:54:38 2023] Words tested from the big dictionary: 49%
[Wed Mar 8 19:54:38 2023] Words tested from the big dictionary: 49%
[Wed Mar 8 19:54:38 2023] Words tested from the big dictionary: 49%
[Wed Mar 8 19:54:38 2023] Words tested from the big dictionary: 49%
[Wed Mar 8 19:54:38 2023] Words tested from the big dictionary: 50%
[Wed Mar 8 19:54:38 2023] Words tested from the big dictionary: 50%
[Wed Mar 8 19:54:38 2023] Words tested from the big dictionary: 50%
[Wed Mar 8 19:54:38 2023] Words tested from the big dictionary: 50%
[Wed Mar 8 19:54:38 2023] Words tested from the big dictionary: 50%
[Wed Mar 8 19:54:38 2023] Words tested from the big dictionary: 50%
[Wed Mar 8 19:54:38 2023] Words tested from the big dictionary: 50%
[Wed Mar 8 19:54:39 2023] Words tested from the big dictionary: 50%
[Wed Mar 8 19:54:39 2023] Words tested from the big dictionary: 50%
[Wed Mar 8 19:54:39 2023] Words tested from the big dictionary: 50%
[Wed Mar 8 19:54:39 2023] Words tested from the big dictionary: 50%
[Wed Mar 8 19:54:39 2023] Words tested from the big dictionary: 51%
[Wed Mar 8 19:54:39 2023] Words tested from the big dictionary: 51%
[Wed Mar 8 19:54:39 2023] Words tested from the big dictionary: 51%
[Wed Mar 8 19:54:39 2023] Words tested from the big dictionary: 51%
[Wed Mar 8 19:54:39 2023] Words tested from the big dictionary: 51%
[Wed Mar 8 19:54:39 2023] Words tested from the big dictionary: 51%
[Wed Mar 8 19:54:39 2023] Words tested from the big dictionary: 51%
[Wed Mar 8 19:54:39 2023] Words tested from the big dictionary: 51%
[Wed Mar 8 19:54:39 2023] Words tested from the big dictionary: 51%
[Wed Mar 8 19:54:39 2023] Words tested from the big dictionary: 51%
[Wed Mar 8 19:54:39 2023] Words tested from the big dictionary: 51%
[Wed Mar 8 19:54:39 2023] Words tested from the big dictionary: 52%
[Wed Mar 8 19:54:39 2023] Words tested from the big dictionary: 52%
[Wed Mar 8 19:54:39 2023] Words tested from the big dictionary: 52%
[Wed Mar 8 19:54:39 2023] Words tested from the big dictionary: 52%
[Wed Mar 8 19:54:39 2023] Words tested from the big dictionary: 52%
[Wed Mar 8 19:54:39 2023] Words tested from the big dictionary: 52%
[Wed Mar 8 19:54:39 2023] Words tested from the big dictionary: 52%
[Wed Mar 8 19:54:39 2023] Words tested from the big dictionary: 52%
[Wed Mar 8 19:54:39 2023] Words tested from the big dictionary: 52%
[Wed Mar 8 19:54:39 2023] Words tested from the big dictionary: 52%
[Wed Mar 8 19:54:39 2023] Words tested from the big dictionary: 52%
[Wed Mar 8 19:54:39 2023] Words tested from the big dictionary: 53%
[Wed Mar 8 19:54:39 2023] Words tested from the big dictionary: 53%
[Wed Mar 8 19:54:39 2023] Words tested from the big dictionary: 53%
[Wed Mar 8 19:54:39 2023] Words tested from the big dictionary: 53%
[Wed Mar 8 19:54:39 2023] Words tested from the big dictionary: 53%
[Wed Mar 8 19:54:39 2023] Words tested from the big dictionary: 53%
[Wed Mar 8 19:54:39 2023] Words tested from the big dictionary: 53%
[Wed Mar 8 19:54:40 2023] Words tested from the big dictionary: 53%
[Wed Mar 8 19:54:40 2023] Words tested from the big dictionary: 53%
[Wed Mar 8 19:54:40 2023] Words tested from the big dictionary: 53%
[Wed Mar 8 19:54:40 2023] Words tested from the big dictionary: 53%
[Wed Mar 8 19:54:40 2023] Words tested from the big dictionary: 54%
[Wed Mar 8 19:54:40 2023] Words tested from the big dictionary: 54%
[Wed Mar 8 19:54:40 2023] Words tested from the big dictionary: 54%
[Wed Mar 8 19:54:40 2023] Words tested from the big dictionary: 54%
[Wed Mar 8 19:54:40 2023] Words tested from the big dictionary: 54%
[Wed Mar 8 19:54:40 2023] Words tested from the big dictionary: 54%
[Wed Mar 8 19:54:40 2023] Words tested from the big dictionary: 54%
[Wed Mar 8 19:54:40 2023] Words tested from the big dictionary: 54%
[Wed Mar 8 19:54:40 2023] Words tested from the big dictionary: 54%
[Wed Mar 8 19:54:40 2023] Words tested from the big dictionary: 54%
[Wed Mar 8 19:54:40 2023] Words tested from the big dictionary: 54%
[Wed Mar 8 19:54:40 2023] Words tested from the big dictionary: 55%
[Wed Mar 8 19:54:40 2023] Words tested from the big dictionary: 55%
[Wed Mar 8 19:54:40 2023] Words tested from the big dictionary: 55%
[Wed Mar 8 19:54:40 2023] Words tested from the big dictionary: 55%
[Wed Mar 8 19:54:40 2023] Words tested from the big dictionary: 55%
[Wed Mar 8 19:54:40 2023] Words tested from the big dictionary: 55%
[Wed Mar 8 19:54:40 2023] Words tested from the big dictionary: 55%
[Wed Mar 8 19:54:40 2023] Words tested from the big dictionary: 55%
[Wed Mar 8 19:54:40 2023] Words tested from the big dictionary: 55%
[Wed Mar 8 19:54:40 2023] Words tested from the big dictionary: 55%
[Wed Mar 8 19:54:40 2023] Words tested from the big dictionary: 55%
[Wed Mar 8 19:54:40 2023] Words tested from the big dictionary: 56%
[Wed Mar 8 19:54:40 2023] Words tested from the big dictionary: 56%
[Wed Mar 8 19:54:40 2023] Words tested from the big dictionary: 56%
[Wed Mar 8 19:54:40 2023] Words tested from the big dictionary: 56%
[Wed Mar 8 19:54:40 2023] Words tested from the big dictionary: 56%
[Wed Mar 8 19:54:40 2023] Words tested from the big dictionary: 56%
[Wed Mar 8 19:54:40 2023] Words tested from the big dictionary: 56%
[Wed Mar 8 19:54:40 2023] Words tested from the big dictionary: 56%
[Wed Mar 8 19:54:40 2023] Words tested from the big dictionary: 56%
[Wed Mar 8 19:54:41 2023] Words tested from the big dictionary: 56%
[Wed Mar 8 19:54:41 2023] Words tested from the big dictionary: 56%
[Wed Mar 8 19:54:41 2023] Words tested from the big dictionary: 57%
[Wed Mar 8 19:54:41 2023] Words tested from the big dictionary: 57%
[Wed Mar 8 19:54:41 2023] Words tested from the big dictionary: 57%
[Wed Mar 8 19:54:41 2023] Words tested from the big dictionary: 57%
[Wed Mar 8 19:54:41 2023] Words tested from the big dictionary: 57%
[Wed Mar 8 19:54:41 2023] Words tested from the big dictionary: 57%
[Wed Mar 8 19:54:41 2023] Words tested from the big dictionary: 57%
[Wed Mar 8 19:54:41 2023] Words tested from the big dictionary: 57%
[Wed Mar 8 19:54:41 2023] Words tested from the big dictionary: 57%
[Wed Mar 8 19:54:41 2023] Words tested from the big dictionary: 57%
[Wed Mar 8 19:54:41 2023] Words tested from the big dictionary: 57%
[Wed Mar 8 19:54:41 2023] Words tested from the big dictionary: 58%
[Wed Mar 8 19:54:41 2023] Words tested from the big dictionary: 58%
[Wed Mar 8 19:54:41 2023] Words tested from the big dictionary: 58%
[Wed Mar 8 19:54:41 2023] Words tested from the big dictionary: 58%
[Wed Mar 8 19:54:41 2023] Words tested from the big dictionary: 58%
[Wed Mar 8 19:54:41 2023] Words tested from the big dictionary: 58%
[Wed Mar 8 19:54:41 2023] Words tested from the big dictionary: 58%
[Wed Mar 8 19:54:41 2023] Words tested from the big dictionary: 58%
[Wed Mar 8 19:54:41 2023] Words tested from the big dictionary: 58%
[Wed Mar 8 19:54:41 2023] Words tested from the big dictionary: 58%
[Wed Mar 8 19:54:41 2023] Words tested from the big dictionary: 59%
[Wed Mar 8 19:54:41 2023] Words tested from the big dictionary: 59%
[Wed Mar 8 19:54:41 2023] Words tested from the big dictionary: 59%
[Wed Mar 8 19:54:41 2023] Words tested from the big dictionary: 59%
[Wed Mar 8 19:54:41 2023] Words tested from the big dictionary: 59%
[Wed Mar 8 19:54:41 2023] Words tested from the big dictionary: 59%
[Wed Mar 8 19:54:41 2023] Words tested from the big dictionary: 59%
[Wed Mar 8 19:54:41 2023] Words tested from the big dictionary: 59%
[Wed Mar 8 19:54:41 2023] Words tested from the big dictionary: 59%
[Wed Mar 8 19:54:41 2023] Words tested from the big dictionary: 59%
[Wed Mar 8 19:54:41 2023] Words tested from the big dictionary: 59%
[Wed Mar 8 19:54:41 2023] Words tested from the big dictionary: 60%
[Wed Mar 8 19:54:41 2023] Words tested from the big dictionary: 60%
[Wed Mar 8 19:54:42 2023] Words tested from the big dictionary: 60%
[Wed Mar 8 19:54:42 2023] Words tested from the big dictionary: 60%
[Wed Mar 8 19:54:42 2023] Words tested from the big dictionary: 60%
[Wed Mar 8 19:54:42 2023] Words tested from the big dictionary: 60%
[Wed Mar 8 19:54:42 2023] Words tested from the big dictionary: 60%
[Wed Mar 8 19:54:42 2023] Words tested from the big dictionary: 60%
[Wed Mar 8 19:54:42 2023] Words tested from the big dictionary: 60%
[Wed Mar 8 19:54:42 2023] Words tested from the big dictionary: 60%
[Wed Mar 8 19:54:42 2023] Words tested from the big dictionary: 60%
[Wed Mar 8 19:54:42 2023] Words tested from the big dictionary: 61%
[Wed Mar 8 19:54:42 2023] Words tested from the big dictionary: 61%
[Wed Mar 8 19:54:42 2023] Words tested from the big dictionary: 61%
[Wed Mar 8 19:54:42 2023] Words tested from the big dictionary: 61%
[Wed Mar 8 19:54:42 2023] Words tested from the big dictionary: 61%
[Wed Mar 8 19:54:42 2023] Words tested from the big dictionary: 61%
[Wed Mar 8 19:54:42 2023] Words tested from the big dictionary: 61%
[Wed Mar 8 19:54:42 2023] Words tested from the big dictionary: 61%
[Wed Mar 8 19:54:42 2023] Words tested from the big dictionary: 61%
[Wed Mar 8 19:54:42 2023] Words tested from the big dictionary: 61%
[Wed Mar 8 19:54:42 2023] Words tested from the big dictionary: 61%
[Wed Mar 8 19:54:42 2023] Words tested from the big dictionary: 62%
[Wed Mar 8 19:54:42 2023] Words tested from the big dictionary: 62%
[Wed Mar 8 19:54:42 2023] Words tested from the big dictionary: 62%
[Wed Mar 8 19:54:42 2023] Words tested from the big dictionary: 62%
[Wed Mar 8 19:54:42 2023] Words tested from the big dictionary: 62%
[Wed Mar 8 19:54:42 2023] Words tested from the big dictionary: 62%
[Wed Mar 8 19:54:42 2023] Words tested from the big dictionary: 62%
[Wed Mar 8 19:54:42 2023] Words tested from the big dictionary: 62%
[Wed Mar 8 19:54:42 2023] Words tested from the big dictionary: 62%
[Wed Mar 8 19:54:42 2023] Words tested from the big dictionary: 62%
[Wed Mar 8 19:54:42 2023] Words tested from the big dictionary: 62%
[Wed Mar 8 19:54:42 2023] Words tested from the big dictionary: 63%
[Wed Mar 8 19:54:42 2023] Words tested from the big dictionary: 63%
[Wed Mar 8 19:54:42 2023] Words tested from the big dictionary: 63%
[Wed Mar 8 19:54:43 2023] Words tested from the big dictionary: 63%
[Wed Mar 8 19:54:43 2023] Words tested from the big dictionary: 63%
[Wed Mar 8 19:54:43 2023] Words tested from the big dictionary: 63%
[Wed Mar 8 19:54:43 2023] Words tested from the big dictionary: 63%
[Wed Mar 8 19:54:43 2023] Words tested from the big dictionary: 63%
[Wed Mar 8 19:54:43 2023] Words tested from the big dictionary: 63%
[Wed Mar 8 19:54:43 2023] Words tested from the big dictionary: 63%
[Wed Mar 8 19:54:43 2023] Words tested from the big dictionary: 63%
[Wed Mar 8 19:54:43 2023] Words tested from the big dictionary: 64%
[Wed Mar 8 19:54:43 2023] Words tested from the big dictionary: 64%
[Wed Mar 8 19:54:43 2023] Words tested from the big dictionary: 64%
[Wed Mar 8 19:54:43 2023] Words tested from the big dictionary: 64%
[Wed Mar 8 19:54:43 2023] Words tested from the big dictionary: 64%
[Wed Mar 8 19:54:43 2023] Words tested from the big dictionary: 64%
[Wed Mar 8 19:54:43 2023] Words tested from the big dictionary: 64%
[Wed Mar 8 19:54:43 2023] Words tested from the big dictionary: 64%
[Wed Mar 8 19:54:43 2023] Words tested from the big dictionary: 64%
[Wed Mar 8 19:54:43 2023] Words tested from the big dictionary: 64%
[Wed Mar 8 19:54:43 2023] Words tested from the big dictionary: 64%
[Wed Mar 8 19:54:43 2023] Words tested from the big dictionary: 65%
[Wed Mar 8 19:54:43 2023] Words tested from the big dictionary: 65%
[Wed Mar 8 19:54:43 2023] Words tested from the big dictionary: 65%
[Wed Mar 8 19:54:43 2023] Words tested from the big dictionary: 65%
[Wed Mar 8 19:54:43 2023] Words tested from the big dictionary: 65%
[Wed Mar 8 19:54:43 2023] Words tested from the big dictionary: 65%
[Wed Mar 8 19:54:43 2023] Words tested from the big dictionary: 65%
[Wed Mar 8 19:54:43 2023] Words tested from the big dictionary: 65%
[Wed Mar 8 19:54:43 2023] Words tested from the big dictionary: 65%
[Wed Mar 8 19:54:43 2023] Words tested from the big dictionary: 65%
[Wed Mar 8 19:54:43 2023] Words tested from the big dictionary: 65%
[Wed Mar 8 19:54:43 2023] Words tested from the big dictionary: 66%
[Wed Mar 8 19:54:43 2023] Words tested from the big dictionary: 66%
[Wed Mar 8 19:54:43 2023] Words tested from the big dictionary: 66%
[Wed Mar 8 19:54:43 2023] Words tested from the big dictionary: 66%
[Wed Mar 8 19:54:44 2023] Words tested from the big dictionary: 66%
[Wed Mar 8 19:54:44 2023] Words tested from the big dictionary: 66%
[Wed Mar 8 19:54:44 2023] Words tested from the big dictionary: 66%
[Wed Mar 8 19:54:44 2023] Words tested from the big dictionary: 66%
[Wed Mar 8 19:54:44 2023] Words tested from the big dictionary: 66%
[Wed Mar 8 19:54:44 2023] Words tested from the big dictionary: 66%
[Wed Mar 8 19:54:44 2023] Words tested from the big dictionary: 66%
[Wed Mar 8 19:54:44 2023] Words tested from the big dictionary: 67%
[Wed Mar 8 19:54:44 2023] Words tested from the big dictionary: 67%
[Wed Mar 8 19:54:44 2023] Words tested from the big dictionary: 67%
[Wed Mar 8 19:54:44 2023] Words tested from the big dictionary: 67%
[Wed Mar 8 19:54:44 2023] Words tested from the big dictionary: 67%
[Wed Mar 8 19:54:44 2023] Words tested from the big dictionary: 67%
[Wed Mar 8 19:54:44 2023] Words tested from the big dictionary: 67%
[Wed Mar 8 19:54:44 2023] Words tested from the big dictionary: 67%
[Wed Mar 8 19:54:44 2023] Words tested from the big dictionary: 67%
[Wed Mar 8 19:54:44 2023] Words tested from the big dictionary: 67%
[Wed Mar 8 19:54:44 2023] Words tested from the big dictionary: 68%
[Wed Mar 8 19:54:44 2023] Words tested from the big dictionary: 68%
[Wed Mar 8 19:54:44 2023] Words tested from the big dictionary: 68%
[Wed Mar 8 19:54:44 2023] Words tested from the big dictionary: 68%
[Wed Mar 8 19:54:44 2023] Words tested from the big dictionary: 68%
[Wed Mar 8 19:54:44 2023] Words tested from the big dictionary: 68%
[Wed Mar 8 19:54:44 2023] Words tested from the big dictionary: 68%
[Wed Mar 8 19:54:44 2023] Words tested from the big dictionary: 68%
[Wed Mar 8 19:54:44 2023] Words tested from the big dictionary: 68%
[Wed Mar 8 19:54:44 2023] Words tested from the big dictionary: 68%
[Wed Mar 8 19:54:44 2023] Words tested from the big dictionary: 68%
[Wed Mar 8 19:54:44 2023] Words tested from the big dictionary: 69%
[Wed Mar 8 19:54:44 2023] Words tested from the big dictionary: 69%
[Wed Mar 8 19:54:44 2023] Words tested from the big dictionary: 69%
[Wed Mar 8 19:54:44 2023] Words tested from the big dictionary: 69%
[Wed Mar 8 19:54:44 2023] Words tested from the big dictionary: 69%
[Wed Mar 8 19:54:44 2023] Words tested from the big dictionary: 69%
[Wed Mar 8 19:54:44 2023] Words tested from the big dictionary: 69%
[Wed Mar 8 19:54:45 2023] Words tested from the big dictionary: 69%
[Wed Mar 8 19:54:45 2023] Words tested from the big dictionary: 69%
[Wed Mar 8 19:54:45 2023] Words tested from the big dictionary: 69%
[Wed Mar 8 19:54:45 2023] Words tested from the big dictionary: 69%
[Wed Mar 8 19:54:45 2023] Words tested from the big dictionary: 70%
[Wed Mar 8 19:54:45 2023] Words tested from the big dictionary: 70%
[Wed Mar 8 19:54:45 2023] Words tested from the big dictionary: 70%
[Wed Mar 8 19:54:45 2023] Words tested from the big dictionary: 70%
[Wed Mar 8 19:54:45 2023] Words tested from the big dictionary: 70%
[Wed Mar 8 19:54:45 2023] Words tested from the big dictionary: 70%
[Wed Mar 8 19:54:45 2023] Words tested from the big dictionary: 70%
[Wed Mar 8 19:54:45 2023] Words tested from the big dictionary: 70%
[Wed Mar 8 19:54:45 2023] Words tested from the big dictionary: 70%
[Wed Mar 8 19:54:45 2023] Words tested from the big dictionary: 70%
[Wed Mar 8 19:54:45 2023] Words tested from the big dictionary: 70%
[Wed Mar 8 19:54:45 2023] Words tested from the big dictionary: 71%
[Wed Mar 8 19:54:45 2023] Words tested from the big dictionary: 71%
[Wed Mar 8 19:54:45 2023] Words tested from the big dictionary: 71%
[Wed Mar 8 19:54:45 2023] Words tested from the big dictionary: 71%
[Wed Mar 8 19:54:45 2023] Words tested from the big dictionary: 71%
[Wed Mar 8 19:54:45 2023] Words tested from the big dictionary: 71%
[Wed Mar 8 19:54:45 2023] Words tested from the big dictionary: 71%
[Wed Mar 8 19:54:45 2023] Words tested from the big dictionary: 71%
[Wed Mar 8 19:54:45 2023] Words tested from the big dictionary: 71%
[Wed Mar 8 19:54:45 2023] Words tested from the big dictionary: 71%
[Wed Mar 8 19:54:45 2023] Words tested from the big dictionary: 71%
[Wed Mar 8 19:54:45 2023] Words tested from the big dictionary: 72%
[Wed Mar 8 19:54:45 2023] Words tested from the big dictionary: 72%
[Wed Mar 8 19:54:45 2023] Words tested from the big dictionary: 72%
[Wed Mar 8 19:54:45 2023] Words tested from the big dictionary: 72%
[Wed Mar 8 19:54:45 2023] Words tested from the big dictionary: 72%
[Wed Mar 8 19:54:45 2023] Words tested from the big dictionary: 72%
[Wed Mar 8 19:54:45 2023] Words tested from the big dictionary: 72%
[Wed Mar 8 19:54:45 2023] Words tested from the big dictionary: 72%
[Wed Mar 8 19:54:46 2023] Words tested from the big dictionary: 72%
[Wed Mar 8 19:54:46 2023] Words tested from the big dictionary: 72%
[Wed Mar 8 19:54:46 2023] Words tested from the big dictionary: 72%
[Wed Mar 8 19:54:46 2023] Words tested from the big dictionary: 73%
[Wed Mar 8 19:54:46 2023] Words tested from the big dictionary: 73%
[Wed Mar 8 19:54:46 2023] Words tested from the big dictionary: 73%
[Wed Mar 8 19:54:46 2023] Words tested from the big dictionary: 73%
[Wed Mar 8 19:54:46 2023] Words tested from the big dictionary: 73%
[Wed Mar 8 19:54:46 2023] Words tested from the big dictionary: 73%
[Wed Mar 8 19:54:46 2023] Words tested from the big dictionary: 73%
[Wed Mar 8 19:54:46 2023] Words tested from the big dictionary: 73%
[Wed Mar 8 19:54:46 2023] Words tested from the big dictionary: 73%
[Wed Mar 8 19:54:46 2023] Words tested from the big dictionary: 73%
[Wed Mar 8 19:54:46 2023] Words tested from the big dictionary: 73%
[Wed Mar 8 19:54:46 2023] Words tested from the big dictionary: 74%
[Wed Mar 8 19:54:46 2023] Words tested from the big dictionary: 74%
[Wed Mar 8 19:54:46 2023] Words tested from the big dictionary: 74%
[Wed Mar 8 19:54:46 2023] Words tested from the big dictionary: 74%
[Wed Mar 8 19:54:46 2023] Words tested from the big dictionary: 74%
[Wed Mar 8 19:54:46 2023] Words tested from the big dictionary: 74%
[Wed Mar 8 19:54:46 2023] Words tested from the big dictionary: 74%
[Wed Mar 8 19:54:46 2023] Words tested from the big dictionary: 74%
[Wed Mar 8 19:54:46 2023] Words tested from the big dictionary: 74%
[Wed Mar 8 19:54:46 2023] Words tested from the big dictionary: 74%
[Wed Mar 8 19:54:46 2023] Words tested from the big dictionary: 74%
[Wed Mar 8 19:54:46 2023] Words tested from the big dictionary: 75%
[Wed Mar 8 19:54:46 2023] Words tested from the big dictionary: 75%
[Wed Mar 8 19:54:46 2023] Words tested from the big dictionary: 75%
[Wed Mar 8 19:54:46 2023] Words tested from the big dictionary: 75%
[Wed Mar 8 19:54:46 2023] Words tested from the big dictionary: 75%
[Wed Mar 8 19:54:46 2023] Words tested from the big dictionary: 75%
[Wed Mar 8 19:54:46 2023] Words tested from the big dictionary: 75%
[Wed Mar 8 19:54:47 2023] Words tested from the big dictionary: 75%
[Wed Mar 8 19:54:47 2023] Words tested from the big dictionary: 75%
[Wed Mar 8 19:54:47 2023] Words tested from the big dictionary: 75%
[Wed Mar 8 19:54:47 2023] Words tested from the big dictionary: 75%
[Wed Mar 8 19:54:47 2023] Words tested from the big dictionary: 76%
[Wed Mar 8 19:54:47 2023] Words tested from the big dictionary: 76%
[Wed Mar 8 19:54:47 2023] Words tested from the big dictionary: 76%
[Wed Mar 8 19:54:47 2023] Words tested from the big dictionary: 76%
[Wed Mar 8 19:54:47 2023] Words tested from the big dictionary: 76%
[Wed Mar 8 19:54:47 2023] Words tested from the big dictionary: 76%
[Wed Mar 8 19:54:47 2023] Words tested from the big dictionary: 76%
[Wed Mar 8 19:54:47 2023] Words tested from the big dictionary: 76%
[Wed Mar 8 19:54:47 2023] Words tested from the big dictionary: 76%
[Wed Mar 8 19:54:47 2023] Words tested from the big dictionary: 76%
[Wed Mar 8 19:54:47 2023] Words tested from the big dictionary: 76%
[Wed Mar 8 19:54:47 2023] Words tested from the big dictionary: 77%
[Wed Mar 8 19:54:47 2023] Words tested from the big dictionary: 77%
[Wed Mar 8 19:54:47 2023] Words tested from the big dictionary: 77%
[Wed Mar 8 19:54:47 2023] Words tested from the big dictionary: 77%
[Wed Mar 8 19:54:47 2023] Words tested from the big dictionary: 77%
[Wed Mar 8 19:54:47 2023] Words tested from the big dictionary: 77%
[Wed Mar 8 19:54:47 2023] Words tested from the big dictionary: 77%
[Wed Mar 8 19:54:47 2023] Words tested from the big dictionary: 77%
[Wed Mar 8 19:54:47 2023] Words tested from the big dictionary: 77%
[Wed Mar 8 19:54:47 2023] Words tested from the big dictionary: 77%
[Wed Mar 8 19:54:47 2023] Words tested from the big dictionary: 78%
[Wed Mar 8 19:54:47 2023] Words tested from the big dictionary: 78%
[Wed Mar 8 19:54:47 2023] Words tested from the big dictionary: 78%
[Wed Mar 8 19:54:47 2023] Words tested from the big dictionary: 78%
[Wed Mar 8 19:54:47 2023] Words tested from the big dictionary: 78%
[Wed Mar 8 19:54:47 2023] Words tested from the big dictionary: 78%
[Wed Mar 8 19:54:47 2023] Words tested from the big dictionary: 78%
[Wed Mar 8 19:54:47 2023] Words tested from the big dictionary: 78%
[Wed Mar 8 19:54:47 2023] Words tested from the big dictionary: 78%
[Wed Mar 8 19:54:48 2023] Words tested from the big dictionary: 78%
[Wed Mar 8 19:54:48 2023] Words tested from the big dictionary: 78%
[Wed Mar 8 19:54:48 2023] Words tested from the big dictionary: 79%
[Wed Mar 8 19:54:48 2023] Words tested from the big dictionary: 79%
[Wed Mar 8 19:54:48 2023] Words tested from the big dictionary: 79%
[Wed Mar 8 19:54:48 2023] Words tested from the big dictionary: 79%
[Wed Mar 8 19:54:48 2023] Words tested from the big dictionary: 79%
[Wed Mar 8 19:54:48 2023] Words tested from the big dictionary: 79%
[Wed Mar 8 19:54:48 2023] Words tested from the big dictionary: 79%
[Wed Mar 8 19:54:48 2023] Words tested from the big dictionary: 79%
[Wed Mar 8 19:54:48 2023] Words tested from the big dictionary: 79%
[Wed Mar 8 19:54:48 2023] Words tested from the big dictionary: 79%
[Wed Mar 8 19:54:48 2023] Words tested from the big dictionary: 79%
[Wed Mar 8 19:54:48 2023] Words tested from the big dictionary: 80%
[Wed Mar 8 19:54:48 2023] Words tested from the big dictionary: 80%
[Wed Mar 8 19:54:48 2023] Words tested from the big dictionary: 80%
[Wed Mar 8 19:54:48 2023] Words tested from the big dictionary: 80%
[Wed Mar 8 19:54:48 2023] Words tested from the big dictionary: 80%
[Wed Mar 8 19:54:48 2023] Words tested from the big dictionary: 80%
[Wed Mar 8 19:54:48 2023] Words tested from the big dictionary: 80%
[Wed Mar 8 19:54:48 2023] Words tested from the big dictionary: 80%
[Wed Mar 8 19:54:48 2023] Words tested from the big dictionary: 80%
[Wed Mar 8 19:54:48 2023] Words tested from the big dictionary: 80%
[Wed Mar 8 19:54:48 2023] Words tested from the big dictionary: 80%
[Wed Mar 8 19:54:48 2023] Words tested from the big dictionary: 81%
[Wed Mar 8 19:54:48 2023] Words tested from the big dictionary: 81%
[Wed Mar 8 19:54:48 2023] Words tested from the big dictionary: 81%
[Wed Mar 8 19:54:48 2023] Words tested from the big dictionary: 81%
[Wed Mar 8 19:54:48 2023] Words tested from the big dictionary: 81%
[Wed Mar 8 19:54:48 2023] Words tested from the big dictionary: 81%
[Wed Mar 8 19:54:48 2023] Words tested from the big dictionary: 81%
[Wed Mar 8 19:54:48 2023] Words tested from the big dictionary: 81%
[Wed Mar 8 19:54:48 2023] Words tested from the big dictionary: 81%
[Wed Mar 8 19:54:48 2023] Words tested from the big dictionary: 81%
[Wed Mar 8 19:54:48 2023] Words tested from the big dictionary: 81%
[Wed Mar 8 19:54:48 2023] Words tested from the big dictionary: 82%
[Wed Mar 8 19:54:49 2023] Words tested from the big dictionary: 82%
[Wed Mar 8 19:54:49 2023] Words tested from the big dictionary: 82%
[Wed Mar 8 19:54:49 2023] Words tested from the big dictionary: 82%
[Wed Mar 8 19:54:49 2023] Words tested from the big dictionary: 82%
[Wed Mar 8 19:54:49 2023] Words tested from the big dictionary: 82%
[Wed Mar 8 19:54:49 2023] Words tested from the big dictionary: 82%
[Wed Mar 8 19:54:49 2023] Words tested from the big dictionary: 82%
[Wed Mar 8 19:54:49 2023] Words tested from the big dictionary: 82%
[Wed Mar 8 19:54:49 2023] Words tested from the big dictionary: 82%
[Wed Mar 8 19:54:49 2023] Words tested from the big dictionary: 82%
[Wed Mar 8 19:54:49 2023] Words tested from the big dictionary: 83%
[Wed Mar 8 19:54:49 2023] Words tested from the big dictionary: 83%
[Wed Mar 8 19:54:49 2023] Words tested from the big dictionary: 83%
[Wed Mar 8 19:54:49 2023] Words tested from the big dictionary: 83%
[Wed Mar 8 19:54:49 2023] Words tested from the big dictionary: 83%
[Wed Mar 8 19:54:49 2023] Words tested from the big dictionary: 83%
[Wed Mar 8 19:54:49 2023] Words tested from the big dictionary: 83%
[Wed Mar 8 19:54:49 2023] Words tested from the big dictionary: 83%
[Wed Mar 8 19:54:49 2023] Words tested from the big dictionary: 83%
[Wed Mar 8 19:54:49 2023] Words tested from the big dictionary: 83%
[Wed Mar 8 19:54:49 2023] Words tested from the big dictionary: 83%
[Wed Mar 8 19:54:49 2023] Words tested from the big dictionary: 84%
[Wed Mar 8 19:54:49 2023] Words tested from the big dictionary: 84%
[Wed Mar 8 19:54:49 2023] Words tested from the big dictionary: 84%
[Wed Mar 8 19:54:49 2023] Words tested from the big dictionary: 84%
[Wed Mar 8 19:54:49 2023] Words tested from the big dictionary: 84%
[Wed Mar 8 19:54:49 2023] Words tested from the big dictionary: 84%
[Wed Mar 8 19:54:49 2023] Words tested from the big dictionary: 84%
[Wed Mar 8 19:54:49 2023] Words tested from the big dictionary: 84%
[Wed Mar 8 19:54:49 2023] Words tested from the big dictionary: 84%
[Wed Mar 8 19:54:49 2023] Words tested from the big dictionary: 84%
[Wed Mar 8 19:54:49 2023] Words tested from the big dictionary: 84%
[Wed Mar 8 19:54:49 2023] Words tested from the big dictionary: 85%
[Wed Mar 8 19:54:49 2023] Words tested from the big dictionary: 85%
[Wed Mar 8 19:54:50 2023] Words tested from the big dictionary: 85%
[Wed Mar 8 19:54:50 2023] Words tested from the big dictionary: 85%
[Wed Mar 8 19:54:50 2023] Words tested from the big dictionary: 85%
[Wed Mar 8 19:54:50 2023] Words tested from the big dictionary: 85%
[Wed Mar 8 19:54:50 2023] Words tested from the big dictionary: 85%
[Wed Mar 8 19:54:50 2023] Words tested from the big dictionary: 85%
[Wed Mar 8 19:54:50 2023] Words tested from the big dictionary: 85%
[Wed Mar 8 19:54:50 2023] Words tested from the big dictionary: 85%
[Wed Mar 8 19:54:50 2023] Words tested from the big dictionary: 85%
[Wed Mar 8 19:54:50 2023] Words tested from the big dictionary: 86%
[Wed Mar 8 19:54:50 2023] Words tested from the big dictionary: 86%
[Wed Mar 8 19:54:50 2023] Words tested from the big dictionary: 86%
[Wed Mar 8 19:54:50 2023] Words tested from the big dictionary: 86%
[Wed Mar 8 19:54:50 2023] Words tested from the big dictionary: 86%
[Wed Mar 8 19:54:50 2023] Words tested from the big dictionary: 86%
[Wed Mar 8 19:54:50 2023] Words tested from the big dictionary: 86%
[Wed Mar 8 19:54:50 2023] Words tested from the big dictionary: 86%
[Wed Mar 8 19:54:50 2023] Words tested from the big dictionary: 86%
[Wed Mar 8 19:54:50 2023] Words tested from the big dictionary: 86%
[Wed Mar 8 19:54:50 2023] Words tested from the big dictionary: 86%
[Wed Mar 8 19:54:50 2023] Words tested from the big dictionary: 87%
[Wed Mar 8 19:54:50 2023] Words tested from the big dictionary: 87%
[Wed Mar 8 19:54:50 2023] Words tested from the big dictionary: 87%
[Wed Mar 8 19:54:50 2023] Words tested from the big dictionary: 87%
[Wed Mar 8 19:54:50 2023] Words tested from the big dictionary: 87%
[Wed Mar 8 19:54:50 2023] Words tested from the big dictionary: 87%
[Wed Mar 8 19:54:50 2023] Words tested from the big dictionary: 87%
[Wed Mar 8 19:54:50 2023] Words tested from the big dictionary: 87%
[Wed Mar 8 19:54:50 2023] Words tested from the big dictionary: 87%
[Wed Mar 8 19:54:50 2023] Words tested from the big dictionary: 87%
[Wed Mar 8 19:54:50 2023] Words tested from the big dictionary: 88%
[Wed Mar 8 19:54:50 2023] Words tested from the big dictionary: 88%
[Wed Mar 8 19:54:50 2023] Words tested from the big dictionary: 88%
[Wed Mar 8 19:54:51 2023] Words tested from the big dictionary: 88%
[Wed Mar 8 19:54:51 2023] Words tested from the big dictionary: 88%
[Wed Mar 8 19:54:51 2023] Words tested from the big dictionary: 88%
[Wed Mar 8 19:54:51 2023] Words tested from the big dictionary: 88%
[Wed Mar 8 19:54:51 2023] Words tested from the big dictionary: 88%
[Wed Mar 8 19:54:51 2023] Words tested from the big dictionary: 88%
[Wed Mar 8 19:54:51 2023] Words tested from the big dictionary: 88%
[Wed Mar 8 19:54:51 2023] Words tested from the big dictionary: 88%
[Wed Mar 8 19:54:51 2023] Words tested from the big dictionary: 89%
[Wed Mar 8 19:54:51 2023] Words tested from the big dictionary: 89%
[Wed Mar 8 19:54:51 2023] Words tested from the big dictionary: 89%
[Wed Mar 8 19:54:51 2023] Words tested from the big dictionary: 89%
[Wed Mar 8 19:54:51 2023] Words tested from the big dictionary: 89%
[Wed Mar 8 19:54:51 2023] Words tested from the big dictionary: 89%
[Wed Mar 8 19:54:51 2023] Words tested from the big dictionary: 89%
[Wed Mar 8 19:54:51 2023] Words tested from the big dictionary: 89%
[Wed Mar 8 19:54:51 2023] Words tested from the big dictionary: 89%
[Wed Mar 8 19:54:51 2023] Words tested from the big dictionary: 89%
[Wed Mar 8 19:54:51 2023] Words tested from the big dictionary: 89%
[Wed Mar 8 19:54:51 2023] Words tested from the big dictionary: 90%
[Wed Mar 8 19:54:51 2023] Words tested from the big dictionary: 90%
[Wed Mar 8 19:54:51 2023] Words tested from the big dictionary: 90%
[Wed Mar 8 19:54:51 2023] Words tested from the big dictionary: 90%
[Wed Mar 8 19:54:51 2023] Words tested from the big dictionary: 90%
[Wed Mar 8 19:54:51 2023] Words tested from the big dictionary: 90%
[Wed Mar 8 19:54:51 2023] Words tested from the big dictionary: 90%
[Wed Mar 8 19:54:51 2023] Words tested from the big dictionary: 90%
[Wed Mar 8 19:54:51 2023] Words tested from the big dictionary: 90%
[Wed Mar 8 19:54:51 2023] Words tested from the big dictionary: 90%
[Wed Mar 8 19:54:51 2023] Words tested from the big dictionary: 90%
[Wed Mar 8 19:54:51 2023] Words tested from the big dictionary: 91%
[Wed Mar 8 19:54:51 2023] Words tested from the big dictionary: 91%
[Wed Mar 8 19:54:52 2023] Words tested from the big dictionary: 91%
[Wed Mar 8 19:54:52 2023] Words tested from the big dictionary: 91%
[Wed Mar 8 19:54:52 2023] Words tested from the big dictionary: 91%
[Wed Mar 8 19:54:52 2023] Words tested from the big dictionary: 91%
[Wed Mar 8 19:54:52 2023] Words tested from the big dictionary: 91%
[Wed Mar 8 19:54:52 2023] Words tested from the big dictionary: 91%
[Wed Mar 8 19:54:52 2023] Words tested from the big dictionary: 91%
[Wed Mar 8 19:54:52 2023] Words tested from the big dictionary: 91%
[Wed Mar 8 19:54:52 2023] Words tested from the big dictionary: 91%
[Wed Mar 8 19:54:52 2023] Words tested from the big dictionary: 92%
[Wed Mar 8 19:54:52 2023] Words tested from the big dictionary: 92%
[Wed Mar 8 19:54:52 2023] Words tested from the big dictionary: 92%
[Wed Mar 8 19:54:52 2023] Words tested from the big dictionary: 92%
[Wed Mar 8 19:54:52 2023] Words tested from the big dictionary: 92%
[Wed Mar 8 19:54:52 2023] Words tested from the big dictionary: 92%
[Wed Mar 8 19:54:52 2023] Words tested from the big dictionary: 92%
[Wed Mar 8 19:54:52 2023] Words tested from the big dictionary: 92%
[Wed Mar 8 19:54:52 2023] Words tested from the big dictionary: 92%
[Wed Mar 8 19:54:52 2023] Words tested from the big dictionary: 92%
[Wed Mar 8 19:54:52 2023] Words tested from the big dictionary: 92%
[Wed Mar 8 19:54:52 2023] Words tested from the big dictionary: 93%
[Wed Mar 8 19:54:52 2023] Words tested from the big dictionary: 93%
[Wed Mar 8 19:54:52 2023] Words tested from the big dictionary: 93%
[Wed Mar 8 19:54:52 2023] Words tested from the big dictionary: 93%
[Wed Mar 8 19:54:52 2023] Words tested from the big dictionary: 93%
[Wed Mar 8 19:54:52 2023] Words tested from the big dictionary: 93%
[Wed Mar 8 19:54:52 2023] Words tested from the big dictionary: 93%
[Wed Mar 8 19:54:52 2023] Words tested from the big dictionary: 93%
[Wed Mar 8 19:54:52 2023] Words tested from the big dictionary: 93%
[Wed Mar 8 19:54:52 2023] Words tested from the big dictionary: 93%
[Wed Mar 8 19:54:53 2023] Words tested from the big dictionary: 93%
[Wed Mar 8 19:54:53 2023] Words tested from the big dictionary: 94%
[Wed Mar 8 19:54:53 2023] Words tested from the big dictionary: 94%
[Wed Mar 8 19:54:53 2023] Words tested from the big dictionary: 94%
[Wed Mar 8 19:54:53 2023] Words tested from the big dictionary: 94%
[Wed Mar 8 19:54:53 2023] Words tested from the big dictionary: 94%
[Wed Mar 8 19:54:53 2023] Words tested from the big dictionary: 94%
[Wed Mar 8 19:54:53 2023] Words tested from the big dictionary: 94%
[Wed Mar 8 19:54:53 2023] Words tested from the big dictionary: 94%
[Wed Mar 8 19:54:53 2023] Words tested from the big dictionary: 94%
[Wed Mar 8 19:54:53 2023] Words tested from the big dictionary: 94%
[Wed Mar 8 19:54:53 2023] Words tested from the big dictionary: 94%
[Wed Mar 8 19:54:53 2023] Words tested from the big dictionary: 95%
[Wed Mar 8 19:54:53 2023] Words tested from the big dictionary: 95%
[Wed Mar 8 19:54:53 2023] Words tested from the big dictionary: 95%
[Wed Mar 8 19:54:53 2023] Words tested from the big dictionary: 95%
[Wed Mar 8 19:54:53 2023] Words tested from the big dictionary: 95%
[Wed Mar 8 19:54:53 2023] Words tested from the big dictionary: 95%
[Wed Mar 8 19:54:53 2023] Words tested from the big dictionary: 95%
[Wed Mar 8 19:54:53 2023] Words tested from the big dictionary: 95%
[Wed Mar 8 19:54:53 2023] Words tested from the big dictionary: 95%
[Wed Mar 8 19:54:53 2023] Words tested from the big dictionary: 95%
[Wed Mar 8 19:54:53 2023] Words tested from the big dictionary: 95%
[Wed Mar 8 19:54:53 2023] Words tested from the big dictionary: 96%
[Wed Mar 8 19:54:53 2023] Words tested from the big dictionary: 96%
[Wed Mar 8 19:54:53 2023] Words tested from the big dictionary: 96%
[Wed Mar 8 19:54:53 2023] Words tested from the big dictionary: 96%
[Wed Mar 8 19:54:53 2023] Words tested from the big dictionary: 96%
[Wed Mar 8 19:54:53 2023] Words tested from the big dictionary: 96%
[Wed Mar 8 19:54:53 2023] Words tested from the big dictionary: 96%
[Wed Mar 8 19:54:53 2023] Words tested from the big dictionary: 96%
[Wed Mar 8 19:54:53 2023] Words tested from the big dictionary: 96%
[Wed Mar 8 19:54:54 2023] Words tested from the big dictionary: 96%
[Wed Mar 8 19:54:54 2023] Words tested from the big dictionary: 97%
[Wed Mar 8 19:54:54 2023] Words tested from the big dictionary: 97%
[Wed Mar 8 19:54:54 2023] Words tested from the big dictionary: 97%
[Wed Mar 8 19:54:54 2023] Words tested from the big dictionary: 97%
[Wed Mar 8 19:54:54 2023] Words tested from the big dictionary: 97%
[Wed Mar 8 19:54:54 2023] Words tested from the big dictionary: 97%
[Wed Mar 8 19:54:54 2023] Words tested from the big dictionary: 97%
[Wed Mar 8 19:54:54 2023] Words tested from the big dictionary: 97%
[Wed Mar 8 19:54:54 2023] Words tested from the big dictionary: 97%
[Wed Mar 8 19:54:54 2023] Words tested from the big dictionary: 97%
[Wed Mar 8 19:54:54 2023] Words tested from the big dictionary: 97%
[Wed Mar 8 19:54:54 2023] Words tested from the big dictionary: 98%
[Wed Mar 8 19:54:54 2023] Words tested from the big dictionary: 98%
[Wed Mar 8 19:54:54 2023] Words tested from the big dictionary: 98%
[Wed Mar 8 19:54:54 2023] Words tested from the big dictionary: 98%
[Wed Mar 8 19:54:54 2023] Words tested from the big dictionary: 98%
[Wed Mar 8 19:54:54 2023] Words tested from the big dictionary: 98%
[Wed Mar 8 19:54:54 2023] Words tested from the big dictionary: 98%
[Wed Mar 8 19:54:54 2023] Words tested from the big dictionary: 98%
[Wed Mar 8 19:54:54 2023] Words tested from the big dictionary: 98%
[Wed Mar 8 19:54:54 2023] Words tested from the big dictionary: 98%
[Wed Mar 8 19:54:54 2023] Words tested from the big dictionary: 98%
[Wed Mar 8 19:54:54 2023] Words tested from the big dictionary: 99%
[Wed Mar 8 19:54:54 2023] Words tested from the big dictionary: 99%
[Wed Mar 8 19:54:54 2023] Words tested from the big dictionary: 99%
[Wed Mar 8 19:54:54 2023] Words tested from the big dictionary: 99%
[Wed Mar 8 19:54:54 2023] Words tested from the big dictionary: 99%
[Wed Mar 8 19:54:54 2023] Words tested from the big dictionary: 99%
[Wed Mar 8 19:54:54 2023] Words tested from the big dictionary: 99%
[Wed Mar 8 19:54:54 2023] Words tested from the big dictionary: 99%
[Wed Mar 8 19:54:54 2023] Words tested from the big dictionary: 99%
[Wed Mar 8 19:54:54 2023] Words tested from the big dictionary: 99%
[Wed Mar 8 19:54:54 2023] Words tested from the big dictionary: 99%
t/to_latin1.t .................... ok
t/words_with_umlaut_and_szlig.t .. ok
All tests successful.
Files=6, Tests=209, 37 wallclock secs ( 0.08 usr 0.06 sys + 32.73 cusr 0.46 csys = 33.33 CPU)
Result: PASS
------------------------------
PREREQUISITES
------------------------------
Prerequisite modules loaded:
requires:
Module Need Have
------------------- ---- --------
Test::More 0 1.302193
build_requires:
Module Need Have
------------------- ---- --------
ExtUtils::MakeMaker 0 7.66
configure_requires:
Module Need Have
------------------- ---- --------
ExtUtils::MakeMaker 0 7.66
------------------------------
ENVIRONMENT AND OTHER CONTEXT
------------------------------
Environment variables:
AUTOMATED_TESTING = 1
LANG = en_US.UTF-8
PATH = /home/sandler/bin:/usr/local/bin:/usr/local/sbin:/usr/sbin:/usr/bin:/sbin:/bin:/usr/games:/usr/local/games:/snap/bin:/usr/local/perl/bin:/usr/X11/bin
PERL5LIB =
PERL5OPT =
PERL5_CPANPLUS_IS_RUNNING = 74834
PERL5_CPAN_IS_RUNNING = 74834
PERL_CANARY_STABILITY_NOPROMPT = 1
PERL_MM_USE_DEFAULT = 1
PERL_USE_UNSAFE_INC = 1
SHELL = /usr/bin/zsh
TERM = screen
Perl special variables (and OS-specific diagnostics, for MSWin32):
$^X = /tmp/basesmoker-reloperl-fIWn/bin/perl
$UID/$EUID = 1005 / 1005
$GID = 1006 1005 1006
$EGID = 1006 1005 1006
Perl module toolchain versions installed:
Module Have
------------------- --------
CPAN 2.34
CPAN::Meta 2.150010
Cwd 3.88
ExtUtils::CBuilder 0.280238
ExtUtils::Command 7.66
ExtUtils::Install 2.22
ExtUtils::MakeMaker 7.66
ExtUtils::Manifest 1.73
ExtUtils::ParseXS 3.49
File::Spec 3.88
JSON 4.10
JSON::PP 4.16
Module::Build 0.4232
Module::Signature 0.88
Parse::CPAN::Meta 2.150010
Test::Harness 3.44
Test::More 1.302193
YAML 1.30
YAML::Syck 1.34
version 0.9929
--
Summary of my perl5 (revision 5 version 37 subversion 9) configuration:
Commit id: 692cfdb0a41902b1e4fd4d934426ef95c2b4b694
Platform:
osname=linux
osvers=5.4.0-139-generic
archname=x86_64-linux-ld
uname='linux k93focal 5.4.0-139-generic #156-ubuntu smp fri jan 20 17:27:18 utc 2023 x86_64 x86_64 x86_64 gnulinux '
config_args='-Dprefix=/home/sand/src/perl/repoperls/installed-perls/host/k93focal/v5.37.9/d3e4 -Dmyhostname=k93focal -Dinstallusrbinperl=n -Uversiononly -Dusedevel -des -Ui_db -Dlibswanted=cl pthread socket inet nsl gdbm dbm malloc dl ld sun m crypt sec util c cposix posix ucb BSD gdbm_compat -Uuseithreads -Duselongdouble -DEBUGGING=both'
hint=recommended
useposix=true
d_sigaction=define
useithreads=undef
usemultiplicity=undef
use64bitint=define
use64bitall=define
uselongdouble=define
usemymalloc=n
default_inc_excludes_dot=define
Compiler:
cc='cc'
ccflags ='-fwrapv -DDEBUGGING -fno-strict-aliasing -pipe -fstack-protector-strong -I/usr/local/include -D_LARGEFILE_SOURCE -D_FILE_OFFSET_BITS=64'
optimize='-O2 -g'
cppflags='-fwrapv -DDEBUGGING -fno-strict-aliasing -pipe -fstack-protector-strong -I/usr/local/include'
ccversion=''
gccversion='9.4.0'
gccosandvers=''
intsize=4
longsize=8
ptrsize=8
doublesize=8
byteorder=12345678
doublekind=3
d_longlong=define
longlongsize=8
d_longdbl=define
longdblsize=16
longdblkind=3
ivtype='long'
ivsize=8
nvtype='long double'
nvsize=16
Off_t='off_t'
lseeksize=8
alignbytes=16
prototype=define
Linker and Libraries:
ld='cc'
ldflags =' -fstack-protector-strong -L/usr/local/lib'
libpth=/usr/local/lib /usr/lib/x86_64-linux-gnu /usr/lib /usr/lib64
libs=-lpthread -lnsl -ldl -lm -lcrypt -lutil -lc
perllibs=-lpthread -lnsl -ldl -lm -lcrypt -lutil -lc
libc=libc-2.31.so
so=so
useshrplib=false
libperl=libperl.a
gnulibc_version='2.31'
Dynamic Linking:
dlsrc=dl_dlopen.xs
dlext=so
d_dlsymun=undef
ccdlflags='-Wl,-E'
cccdlflags='-fPIC'
lddlflags='-shared -O2 -g -L/usr/local/lib -fstack-protector-strong'
Characteristics of this binary (from libperl):
Compile-time options:
DEBUGGING
HAS_TIMES
PERLIO_LAYERS
PERL_COPY_ON_WRITE
PERL_DONT_CREATE_GVSV
PERL_HASH_FUNC_SIPHASH13
PERL_HASH_USE_SBOX32
PERL_MALLOC_WRAP
PERL_OP_PARENT
PERL_PRESERVE_IVUV
PERL_USE_DEVEL
PERL_USE_SAFE_PUTENV
USE_64_BIT_ALL
USE_64_BIT_INT
USE_LARGE_FILES
USE_LOCALE
USE_LOCALE_COLLATE
USE_LOCALE_CTYPE
USE_LOCALE_NUMERIC
USE_LOCALE_TIME
USE_LONG_DOUBLE
USE_PERLIO
USE_PERL_ATOF
Built under linux
Compiled at Mar 7 2023 20:23:23
%ENV:
PERL5LIB=""
PERL5OPT=""
PERL5_CPANPLUS_IS_RUNNING="74834"
PERL5_CPAN_IS_RUNNING="74834"
PERL_CANARY_STABILITY_NOPROMPT="1"
PERL_MM_USE_DEFAULT="1"
PERL_USE_UNSAFE_INC="1"
@INC:
/home/sand/src/perl/repoperls/installed-perls/host/k93focal/v5.37.9/d3e4/lib/site_perl/5.37.9/x86_64-linux-ld
/home/sand/src/perl/repoperls/installed-perls/host/k93focal/v5.37.9/d3e4/lib/site_perl/5.37.9
/home/sand/src/perl/repoperls/installed-perls/host/k93focal/v5.37.9/d3e4/lib/5.37.9/x86_64-linux-ld
/home/sand/src/perl/repoperls/installed-perls/host/k93focal/v5.37.9/d3e4/lib/5.37.9
.