Net-Stripe-Simple v0.005 Perl 5 v5.30.1 i86pc-solaris-64

Status
Pass
From
Chris Williams (BINGOS)
Dist
Net-Stripe-Simple v0.005
Platform
Perl 5 v5.30.1 i86pc-solaris-64
Date
2021-03-30 04:02:30
ID
bfac4a82-910c-11eb-84bc-edd243e66a77
This distribution has been tested as part of the CPAN Testers
project, supporting the Perl programming language.  See
http://wiki.cpantesters.org/ for more information or email
questions to cpan-testers-discuss@perl.org


--

Dear ABEVERLEY,

This is a computer-generated error report created automatically by
CPANPLUS, version 0.9910. Testers personal comments may appear
at the end of this report.


Thank you for uploading your work to CPAN.  Congratulations!
All tests were successful.

TEST RESULTS:

Below is the error stack from stage 'make test':

PERL_DL_NONLAZY=1 "/home/cpan/pit/bare/perl-5.30.1/bin/perl" "-MExtUtils::Command::MM" "-MTest::Harness" "-e" "undef *Test::Harness::Switches; test_harness(0, 'blib/lib', 'blib/arch')" t/*.t
t/00-compile.t ........... ok
# 
# Versions for all modules listed in MYMETA.json (including optional ones):
# 
# === Configure Requires ===
# 
#     Module              Want Have
#     ------------------- ---- ----
#     ExtUtils::MakeMaker  any 7.58
# 
# === Build Requires ===
# 
#     Module              Want Have
#     ------------------- ---- ----
#     ExtUtils::MakeMaker  any 7.58
# 
# === Test Requires ===
# 
#     Module              Want     Have
#     ------------------- ---- --------
#     DateTime             any     1.54
#     ExtUtils::MakeMaker  any     7.58
#     File::Spec           any     3.78
#     IO::Handle           any     1.40
#     IPC::Open3           any     1.20
#     Test::Exception      any     0.43
#     Test::More           any 1.302183
#     autodie              any     2.29
#     blib                1.01     1.07
# 
# === Test Recommends ===
# 
#     Module         Want     Have
#     ---------- -------- --------
#     CPAN::Meta 2.120900 2.150010
# 
# === Runtime Requires ===
# 
#     Module                Want  Have
#     --------------------- ---- -----
#     Devel::StackTrace      any  2.04
#     Exporter               any  5.73
#     HTTP::Request::Common  any  6.29
#     JSON                   any  4.03
#     LWP::Protocol::https   any  6.10
#     LWP::UserAgent         any  6.53
#     MIME::Base64           any  3.15
#     Scalar::Util           any  1.50
#     URI::Escape            any  5.09
#     constant               any  1.33
#     overload               any  1.30
#     parent                 any 0.237
#     strict                 any  1.11
#     warnings               any  1.44
# 
t/00-report-prereqs.t .... ok
t/author-pod-coverage.t .. skipped: these tests are for testing by the author
t/author-pod-syntax.t .... skipped: these tests are for testing by the author
t/basic.t ................ ok
t/data.t ................. ok
t/errors.t ............... ok
t/release-unused-vars.t .. skipped: these tests are for release candidate testing
All tests successful.
Files=8, Tests=34, 52 wallclock secs ( 0.11 usr  0.04 sys +  5.29 cusr  0.55 csys =  5.99 CPU)
Result: PASS


PREREQUISITES:

Here is a list of prerequisites you specified and versions we
managed to load:

	  Module Name                        Have     Want
	  DateTime                           1.54        0
	  Devel::StackTrace                  2.04        0
	  Exporter                           5.73        0
	  ExtUtils::MakeMaker                7.58        0
	  File::Spec                         3.78        0
	  HTTP::Request::Common              6.29        0
	  IO::Handle                         1.40        0
	  IPC::Open3                         1.20        0
	  JSON                               4.03        0
	  LWP::Protocol::https               6.10        0
	  LWP::UserAgent                     6.53        0
	  MIME::Base64                       3.15        0
	  Scalar::Util                       1.50        0
	  Test::Exception                    0.43        0
	  Test::More                     1.302183        0
	  URI::Escape                        5.09        0
	  autodie                            2.29        0
	  blib                               1.07     1.01
	  constant                           1.33        0
	  overload                           1.30        0
	  parent                            0.237        0
	  strict                             1.11        0
	  warnings                           1.44        0

Perl module toolchain versions installed:
	Module Name                        Have
	CPANPLUS                         0.9910
	CPANPLUS::Dist::Build              0.90
	Cwd                                3.78
	ExtUtils::CBuilder             0.280235
	ExtUtils::Command                  7.58
	ExtUtils::Install                  2.20
	ExtUtils::MakeMaker                7.58
	ExtUtils::Manifest                 1.73
	ExtUtils::ParseXS                  3.40
	File::Spec                         3.78
	Module::Build                    0.4231
	Pod::Parser                        1.63
	Pod::Simple                        3.35
	Test2                          1.302183
	Test::Harness                      3.42
	Test::More                     1.302183
	version                          0.9928

******************************** NOTE ********************************
The comments above are created mechanically, possibly without manual
checking by the sender.  As there are many people performing automatic
tests on each upload to CPAN, it is likely that you will receive
identical messages about the same problem.

If you believe that the message is mistaken, please reply to the first
one with correction and/or additional informations, and do not take
it personally.  We appreciate your patience. :)
**********************************************************************

Additional comments:


This report was machine-generated by CPANPLUS::Dist::YACSmoke 1.08.
Powered by minismokebox version 0.68

CPANPLUS is prefering Build.PL

------------------------------
ENVIRONMENT AND OTHER CONTEXT
------------------------------

Environment variables:

    AUTOMATED_TESTING = 1
    LANG = en_GB.UTF-8
    NONINTERACTIVE_TESTING = 1
    PATH = /usr/bin:/usr/sbin:/sbin:/opt/ooce/bin:/usr/gnu/bin
    PERL5LIB = /home/cpan/pit/jail/lntrw61Ln3/lib/perl5:/home/cpan/pit/bare/conf/perl-5.30.1/.cpanplus/5.30.1/build/EVQPs4FGu8/Net-Stripe-Simple-0.005/blib/lib:/home/cpan/pit/bare/conf/perl-5.30.1/.cpanplus/5.30.1/build/EVQPs4FGu8/Net-Stripe-Simple-0.005/blib/arch
    PERL5_CPANPLUS_IS_RUNNING = 6444
    PERL5_CPANPLUS_IS_VERSION = 0.9910
    PERL5_MINISMOKEBOX = 0.68
    PERL5_YACSMOKE_BASE = /home/cpan/pit/bare/conf/perl-5.30.1
    PERL_EXTUTILS_AUTOINSTALL = --defaultdeps
    PERL_LOCAL_LIB_ROOT = /home/cpan/pit/jail/lntrw61Ln3
    PERL_MB_OPT = --install_base "/home/cpan/pit/jail/lntrw61Ln3"
    PERL_MM_OPT = INSTALL_BASE=/home/cpan/pit/jail/lntrw61Ln3
    PERL_MM_USE_DEFAULT = 1
    SHELL = /bin/bash
    TERM = screen

Perl special variables (and OS-specific diagnostics, for MSWin32):

    Perl: $^X = /home/cpan/pit/bare/perl-5.30.1/bin/perl
    UID:  $<  = 101
    EUID: $>  = 101
    GID:  $(  = 101 101
    EGID: $)  = 101 101


-------------------------------


--

Summary of my perl5 (revision 5 version 30 subversion 1) configuration:
   
  Platform:
    osname=solaris
    osvers=2.11
    archname=i86pc-solaris-64
    uname='sunos ouzel 5.11 omnios-r151034-0d278a0cc5 i86pc i386 i86pc '
    config_args='-des -Dprefix=/home/cpan/pit/bare/perl-5.30.1 -Duse64bitall -Dcc=gcc'
    hint=recommended
    useposix=true
    d_sigaction=define
    useithreads=undef
    usemultiplicity=undef
    use64bitint=define
    use64bitall=define
    uselongdouble=undef
    usemymalloc=n
    default_inc_excludes_dot=define
    bincompat5005=undef
  Compiler:
    cc='gcc'
    ccflags ='-m64 -fwrapv -fno-strict-aliasing -pipe -fstack-protector-strong -D_LARGEFILE_SOURCE -D_FILE_OFFSET_BITS=64 -D_FORTIFY_SOURCE=2 -DPERL_USE_SAFE_PUTENV'
    optimize='-O'
    cppflags='-m64 -fwrapv -fno-strict-aliasing -pipe -fstack-protector-strong'
    ccversion=''
    gccversion='9.3.0'
    gccosandvers=''
    intsize=4
    longsize=8
    ptrsize=8
    doublesize=8
    byteorder=12345678
    doublekind=3
    d_longlong=define
    longlongsize=8
    d_longdbl=define
    longdblsize=16
    longdblkind=3
    ivtype='long'
    ivsize=8
    nvtype='double'
    nvsize=8
    Off_t='off_t'
    lseeksize=8
    alignbytes=8
    prototype=define
  Linker and Libraries:
    ld='gcc'
    ldflags =' -m64 -fstack-protector-strong -L/usr/gnu/lib '
    libpth=/opt/gcc-9/lib /opt/gcc-9/lib/gcc/x86_64-pc-solaris2.11/9.3.0/include-fixed /usr/lib /usr/gnu/lib /usr/ccs/lib
    libs=-lpthread -lsocket -lnsl -ldl -lm -lc
    perllibs=-lpthread -lsocket -lnsl -ldl -lm -lc
    libc=/lib/libc.so
    so=so
    useshrplib=true
    libperl=libperl.so
    gnulibc_version=''
  Dynamic Linking:
    dlsrc=dl_dlopen.xs
    dlext=so
    d_dlsymun=undef
    ccdlflags='  -R /home/cpan/pit/bare/perl-5.30.1/lib/5.30.1/i86pc-solaris-64/CORE'
    cccdlflags='-fPIC'
    lddlflags=' -shared -m64 -L/usr/gnu/lib -fstack-protector-strong'


Characteristics of this binary (from libperl): 
  Compile-time options:
    HAS_TIMES
    PERLIO_LAYERS
    PERL_COPY_ON_WRITE
    PERL_DONT_CREATE_GVSV
    PERL_MALLOC_WRAP
    PERL_OP_PARENT
    PERL_PRESERVE_IVUV
    PERL_USE_SAFE_PUTENV
    USE_64_BIT_ALL
    USE_64_BIT_INT
    USE_LARGE_FILES
    USE_LOCALE
    USE_LOCALE_COLLATE
    USE_LOCALE_CTYPE
    USE_LOCALE_NUMERIC
    USE_LOCALE_TIME
    USE_PERLIO
    USE_PERL_ATOF
  Locally applied patches:
    Devel::PatchPerl 2.00
  Built under solaris
  Compiled at Aug 19 2020 18:32:14
  %ENV:
    PERL5LIB="/home/cpan/pit/jail/lntrw61Ln3/lib/perl5:/home/cpan/pit/bare/conf/perl-5.30.1/.cpanplus/5.30.1/build/EVQPs4FGu8/Net-Stripe-Simple-0.005/blib/lib:/home/cpan/pit/bare/conf/perl-5.30.1/.cpanplus/5.30.1/build/EVQPs4FGu8/Net-Stripe-Simple-0.005/blib/arch"
    PERL5_CPANPLUS_IS_RUNNING="6444"
    PERL5_CPANPLUS_IS_VERSION="0.9910"
    PERL5_MINISMOKEBOX="0.68"
    PERL5_YACSMOKE_BASE="/home/cpan/pit/bare/conf/perl-5.30.1"
    PERL_EXTUTILS_AUTOINSTALL="--defaultdeps"
    PERL_LOCAL_LIB_ROOT="/home/cpan/pit/jail/lntrw61Ln3"
    PERL_MB_OPT="--install_base "/home/cpan/pit/jail/lntrw61Ln3""
    PERL_MM_OPT="INSTALL_BASE=/home/cpan/pit/jail/lntrw61Ln3"
    PERL_MM_USE_DEFAULT="1"
  @INC:
    /home/cpan/pit/jail/lntrw61Ln3/lib/perl5/5.30.1/i86pc-solaris-64
    /home/cpan/pit/jail/lntrw61Ln3/lib/perl5/5.30.1
    /home/cpan/pit/jail/lntrw61Ln3/lib/perl5/i86pc-solaris-64
    /home/cpan/pit/jail/lntrw61Ln3/lib/perl5
    /home/cpan/pit/bare/conf/perl-5.30.1/.cpanplus/5.30.1/build/EVQPs4FGu8/Net-Stripe-Simple-0.005/blib/lib
    /home/cpan/pit/bare/conf/perl-5.30.1/.cpanplus/5.30.1/build/EVQPs4FGu8/Net-Stripe-Simple-0.005/blib/arch
    /home/cpan/pit/bare/perl-5.30.1/lib/site_perl/5.30.1/i86pc-solaris-64
    /home/cpan/pit/bare/perl-5.30.1/lib/site_perl/5.30.1
    /home/cpan/pit/bare/perl-5.30.1/lib/5.30.1/i86pc-solaris-64
    /home/cpan/pit/bare/perl-5.30.1/lib/5.30.1