Report for JS-YUI-Loader-0.06

Back
From: metabase:user:314402c4-2aae-11df-837a-5e0a49663a4f
Subject: PASS JS-YUI-Loader-0.06 v5.14.0 RC0 FreeBSD
Date: 2011-04-20T20:28:27Z

This distribution has been tested as part of the CPAN Testers
project, supporting the Perl programming language.  See
http://wiki.cpantesters.org/ for more information or email
questions to cpan-testers-discuss@perl.org


--
Dear Robert Krimen,

This is a computer-generated report for JS-YUI-Loader-0.06
on perl 5.14.0, created by CPAN-Reporter-1.1902.

Thank you for uploading your work to CPAN.  Congratulations!
All tests were successful.

Sections of this report:

    * Tester comments
    * Program output
    * Prerequisites
    * Environment and other context

------------------------------
TESTER COMMENTS
------------------------------

Additional comments from tester:

none provided

------------------------------
PROGRAM OUTPUT
------------------------------

Output from '/usr/bin/make test':

PERL_DL_NONLAZY=1 /usr/home/cpansand/var/ctps/5140RC0_5/install/perl-v5.13.11-457-gd12b49d/bin/perl "-MExtUtils::Command::MM" "-e" "test_harness(0, 'inc', 'blib/lib', 'blib/arch')" t/00-load.t t/01-catalog.t t/02-manifest.t t/03-source.t t/04-cache.t t/05-loader.t t/06-list.t t/07-html.t t/90-colorpicker.t
# Testing JS::YUI::Loader 0.06, Perl 5.014000, /usr/home/cpansand/var/ctps/5140RC0_5/install/perl-v5.13.11-457-gd12b49d/bin/perl
t/00-load.t ......... ok
** Path::Abstract::Underload::last behavior has changed since 0.093
** To disable this warning: use Path::Abstract qw/--no_0_093_warning/ at /var/tmp/CPAN-build/JS-YUI-Loader-0.06-AFjKMI/blib/lib/JS/YUI/Loader/Entry.pm line 17
t/01-catalog.t ...... ok
t/02-manifest.t ..... ok
t/03-source.t ....... ok
t/04-cache.t ........ ok
** Path::Abstract::Underload::last behavior has changed since 0.093
** To disable this warning: use Path::Abstract qw/--no_0_093_warning/ at /var/tmp/CPAN-build/JS-YUI-Loader-0.06-AFjKMI/blib/lib/JS/YUI/Loader/Entry.pm line 17
t/05-loader.t ....... ok
Found unknown argument(s) passed to 'loader' attribute constructor in 'Moose::Meta::Attribute': requires at /home/cpansand/var/ctps/5140RC0_5/install/perl-v5.13.11-457-gd12b49d/lib/site_perl/5.14.0/i386-freebsd/Moose/Meta/Attribute.pm line 78
	Moose::Meta::Attribute::new('Moose::Meta::Attribute', 'loader', 'weak_ref', 1, 'requires', 1, 'isa', 'JS::YUI::Loader', 'definition_context', ...) called at /home/cpansand/var/ctps/5140RC0_5/install/perl-v5.13.11-457-gd12b49d/lib/site_perl/5.14.0/i386-freebsd/Moose/Meta/Attribute.pm line 91
	Moose::Meta::Attribute::interpolate_class_and_new('Moose::Meta::Attribute', 'loader', 'weak_ref', 1, 'isa', 'JS::YUI::Loader', 'requires', 1, 'definition_context', ...) called at /home/cpansand/var/ctps/5140RC0_5/install/perl-v5.13.11-457-gd12b49d/lib/site_perl/5.14.0/i386-freebsd/Moose/Meta/Class.pm line 625
	Moose::Meta::Class::_process_new_attribute('Moose::Meta::Class=HASH(0x280bc3f0)', 'loader', 'weak_ref', 1, 'isa', 'JS::YUI::Loader', 'requires', 1, 'definition_context', ...) called at /home/cpansand/var/ctps/5140RC0_5/install/perl-v5.13.11-457-gd12b49d/lib/site_perl/5.14.0/i386-freebsd/Moose/Meta/Class.pm line 618
	Moose::Meta::Class::_process_attribute('Moose::Meta::Class=HASH(0x280bc3f0)', 'loader', 'weak_ref', 1, 'isa', 'JS::YUI::Loader', 'requires', 1, 'definition_context', ...) called at /home/cpansand/var/ctps/5140RC0_5/install/perl-v5.13.11-457-gd12b49d/lib/site_perl/5.14.0/i386-freebsd/Moose/Meta/Class.pm line 487
	Moose::Meta::Class::add_attribute('Moose::Meta::Class=HASH(0x280bc3f0)', 'loader', 'weak_ref', 1, 'isa', 'JS::YUI::Loader', 'requires', 1, 'definition_context', ...) called at /home/cpansand/var/ctps/5140RC0_5/install/perl-v5.13.11-457-gd12b49d/lib/site_perl/5.14.0/i386-freebsd/Moose.pm line 72
	Moose::has('Moose::Meta::Class=HASH(0x280bc3f0)', 'loader', 'is', 'ro', 'requires', 1, 'isa', 'JS::YUI::Loader', 'weak_ref', ...) called at /home/cpansand/var/ctps/5140RC0_5/install/perl-v5.13.11-457-gd12b49d/lib/site_perl/5.14.0/i386-freebsd/Moose/Exporter.pm line 365
	Moose::has('loader', 'is', 'ro', 'requires', 1, 'isa', 'JS::YUI::Loader', 'weak_ref', 1, ...) called at /var/tmp/CPAN-build/JS-YUI-Loader-0.06-AFjKMI/blib/lib/JS/YUI/Loader/List.pm line 5
	require JS/YUI/Loader/List.pm called at /var/tmp/CPAN-build/JS-YUI-Loader-0.06-AFjKMI/blib/lib/JS/YUI/Loader.pm line 73
	JS::YUI::Loader::__ANON__('JS::YUI::Loader=HASH(0x28239f80)') called at /home/cpansand/var/ctps/5140RC0_5/install/perl-v5.13.11-457-gd12b49d/lib/site_perl/5.14.0/i386-freebsd/Class/MOP/Mixin/AttributeCore.pm line 45
	Class::MOP::Mixin::AttributeCore::default('Moose::Meta::Attribute=HASH(0x28088030)', 'JS::YUI::Loader=HASH(0x28239f80)') called at accessor list (defined at /var/tmp/CPAN-build/JS-YUI-Loader-0.06-AFjKMI/blib/lib/JS/YUI/Loader.pm line 75) line 6
	JS::YUI::Loader::list('JS::YUI::Loader=HASH(0x28239f80)') called at t/06-list.t line 11
t/06-list.t ......... ok
Found unknown argument(s) passed to 'loader' attribute constructor in 'Moose::Meta::Attribute': requires at /home/cpansand/var/ctps/5140RC0_5/install/perl-v5.13.11-457-gd12b49d/lib/site_perl/5.14.0/i386-freebsd/Moose/Meta/Attribute.pm line 78
	Moose::Meta::Attribute::new('Moose::Meta::Attribute', 'loader', 'weak_ref', 1, 'requires', 1, 'isa', 'JS::YUI::Loader', 'definition_context', ...) called at /home/cpansand/var/ctps/5140RC0_5/install/perl-v5.13.11-457-gd12b49d/lib/site_perl/5.14.0/i386-freebsd/Moose/Meta/Attribute.pm line 91
	Moose::Meta::Attribute::interpolate_class_and_new('Moose::Meta::Attribute', 'loader', 'weak_ref', 1, 'isa', 'JS::YUI::Loader', 'requires', 1, 'definition_context', ...) called at /home/cpansand/var/ctps/5140RC0_5/install/perl-v5.13.11-457-gd12b49d/lib/site_perl/5.14.0/i386-freebsd/Moose/Meta/Class.pm line 625
	Moose::Meta::Class::_process_new_attribute('Moose::Meta::Class=HASH(0x281ee780)', 'loader', 'weak_ref', 1, 'isa', 'JS::YUI::Loader', 'requires', 1, 'definition_context', ...) called at /home/cpansand/var/ctps/5140RC0_5/install/perl-v5.13.11-457-gd12b49d/lib/site_perl/5.14.0/i386-freebsd/Moose/Meta/Class.pm line 618
	Moose::Meta::Class::_process_attribute('Moose::Meta::Class=HASH(0x281ee780)', 'loader', 'weak_ref', 1, 'isa', 'JS::YUI::Loader', 'requires', 1, 'definition_context', ...) called at /home/cpansand/var/ctps/5140RC0_5/install/perl-v5.13.11-457-gd12b49d/lib/site_perl/5.14.0/i386-freebsd/Moose/Meta/Class.pm line 487
	Moose::Meta::Class::add_attribute('Moose::Meta::Class=HASH(0x281ee780)', 'loader', 'weak_ref', 1, 'isa', 'JS::YUI::Loader', 'requires', 1, 'definition_context', ...) called at /home/cpansand/var/ctps/5140RC0_5/install/perl-v5.13.11-457-gd12b49d/lib/site_perl/5.14.0/i386-freebsd/Moose.pm line 72
	Moose::has('Moose::Meta::Class=HASH(0x281ee780)', 'loader', 'is', 'ro', 'requires', 1, 'isa', 'JS::YUI::Loader', 'weak_ref', ...) called at /home/cpansand/var/ctps/5140RC0_5/install/perl-v5.13.11-457-gd12b49d/lib/site_perl/5.14.0/i386-freebsd/Moose/Exporter.pm line 365
	Moose::has('loader', 'is', 'ro', 'requires', 1, 'isa', 'JS::YUI::Loader', 'weak_ref', 1, ...) called at /var/tmp/CPAN-build/JS-YUI-Loader-0.06-AFjKMI/blib/lib/JS/YUI/Loader/List.pm line 5
	require JS/YUI/Loader/List.pm called at /var/tmp/CPAN-build/JS-YUI-Loader-0.06-AFjKMI/blib/lib/JS/YUI/Loader.pm line 73
	JS::YUI::Loader::__ANON__('JS::YUI::Loader=HASH(0x281bf920)') called at /home/cpansand/var/ctps/5140RC0_5/install/perl-v5.13.11-457-gd12b49d/lib/site_perl/5.14.0/i386-freebsd/Class/MOP/Mixin/AttributeCore.pm line 45
	Class::MOP::Mixin::AttributeCore::default('Moose::Meta::Attribute=HASH(0x281583a0)', 'JS::YUI::Loader=HASH(0x281bf920)') called at accessor list (defined at /var/tmp/CPAN-build/JS-YUI-Loader-0.06-AFjKMI/blib/lib/JS/YUI/Loader.pm line 75) line 6
	JS::YUI::Loader::list('JS::YUI::Loader=HASH(0x281bf920)') called at /var/tmp/CPAN-build/JS-YUI-Loader-0.06-AFjKMI/blib/lib/JS/YUI/Loader.pm line 423
	JS::YUI::Loader::html('JS::YUI::Loader=HASH(0x281bf920)') called at t/07-html.t line 16
t/07-html.t ......... ok
Found unknown argument(s) passed to 'loader' attribute constructor in 'Moose::Meta::Attribute': requires at /home/cpansand/var/ctps/5140RC0_5/install/perl-v5.13.11-457-gd12b49d/lib/site_perl/5.14.0/i386-freebsd/Moose/Meta/Attribute.pm line 78
	Moose::Meta::Attribute::new('Moose::Meta::Attribute', 'loader', 'weak_ref', 1, 'requires', 1, 'isa', 'JS::YUI::Loader', 'definition_context', ...) called at /home/cpansand/var/ctps/5140RC0_5/install/perl-v5.13.11-457-gd12b49d/lib/site_perl/5.14.0/i386-freebsd/Moose/Meta/Attribute.pm line 91
	Moose::Meta::Attribute::interpolate_class_and_new('Moose::Meta::Attribute', 'loader', 'weak_ref', 1, 'isa', 'JS::YUI::Loader', 'requires', 1, 'definition_context', ...) called at /home/cpansand/var/ctps/5140RC0_5/install/perl-v5.13.11-457-gd12b49d/lib/site_perl/5.14.0/i386-freebsd/Moose/Meta/Class.pm line 625
	Moose::Meta::Class::_process_new_attribute('Moose::Meta::Class=HASH(0x281ee420)', 'loader', 'weak_ref', 1, 'isa', 'JS::YUI::Loader', 'requires', 1, 'definition_context', ...) called at /home/cpansand/var/ctps/5140RC0_5/install/perl-v5.13.11-457-gd12b49d/lib/site_perl/5.14.0/i386-freebsd/Moose/Meta/Class.pm line 618
	Moose::Meta::Class::_process_attribute('Moose::Meta::Class=HASH(0x281ee420)', 'loader', 'weak_ref', 1, 'isa', 'JS::YUI::Loader', 'requires', 1, 'definition_context', ...) called at /home/cpansand/var/ctps/5140RC0_5/install/perl-v5.13.11-457-gd12b49d/lib/site_perl/5.14.0/i386-freebsd/Moose/Meta/Class.pm line 487
	Moose::Meta::Class::add_attribute('Moose::Meta::Class=HASH(0x281ee420)', 'loader', 'weak_ref', 1, 'isa', 'JS::YUI::Loader', 'requires', 1, 'definition_context', ...) called at /home/cpansand/var/ctps/5140RC0_5/install/perl-v5.13.11-457-gd12b49d/lib/site_perl/5.14.0/i386-freebsd/Moose.pm line 72
	Moose::has('Moose::Meta::Class=HASH(0x281ee420)', 'loader', 'is', 'ro', 'requires', 1, 'isa', 'JS::YUI::Loader', 'weak_ref', ...) called at /home/cpansand/var/ctps/5140RC0_5/install/perl-v5.13.11-457-gd12b49d/lib/site_perl/5.14.0/i386-freebsd/Moose/Exporter.pm line 365
	Moose::has('loader', 'is', 'ro', 'requires', 1, 'isa', 'JS::YUI::Loader', 'weak_ref', 1, ...) called at /var/tmp/CPAN-build/JS-YUI-Loader-0.06-AFjKMI/blib/lib/JS/YUI/Loader/List.pm line 5
	require JS/YUI/Loader/List.pm called at /var/tmp/CPAN-build/JS-YUI-Loader-0.06-AFjKMI/blib/lib/JS/YUI/Loader.pm line 73
	JS::YUI::Loader::__ANON__('JS::YUI::Loader=HASH(0x281ab5f0)') called at /home/cpansand/var/ctps/5140RC0_5/install/perl-v5.13.11-457-gd12b49d/lib/site_perl/5.14.0/i386-freebsd/Class/MOP/Mixin/AttributeCore.pm line 45
	Class::MOP::Mixin::AttributeCore::default('Moose::Meta::Attribute=HASH(0x281583a0)', 'JS::YUI::Loader=HASH(0x281ab5f0)') called at accessor list (defined at /var/tmp/CPAN-build/JS-YUI-Loader-0.06-AFjKMI/blib/lib/JS/YUI/Loader.pm line 75) line 6
	JS::YUI::Loader::list('JS::YUI::Loader=HASH(0x281ab5f0)') called at /var/tmp/CPAN-build/JS-YUI-Loader-0.06-AFjKMI/blib/lib/JS/YUI/Loader.pm line 423
	JS::YUI::Loader::html('JS::YUI::Loader=HASH(0x281ab5f0)') called at t/90-colorpicker.t line 16
t/90-colorpicker.t .. ok
All tests successful.
Files=9, Tests=56, 12 wallclock secs ( 0.04 usr  0.03 sys +  3.85 cusr  0.36 csys =  4.28 CPU)
Result: PASS

------------------------------
PREREQUISITES
------------------------------

Prerequisite modules loaded:

requires:

    Module                Need    Have   
    --------------------- ------- -------
    Algorithm::Dependency 0       1.110  
    Carp::Clan::Share     0       0.013  
    Directory::Scratch    0       0.14   
    ExtUtils::MakeMaker   6.57_05 6.57_05
    File::Copy            0       2.21   
    HTML::Declare         0       2.4    
    JSON                  2.08    2.51   
    LWP::UserAgent        0       6.02   
    Moose                 0       2.0000 
    Path::Abstract        0       0.096  
    Path::Class           0       0.23   
    Scalar::Util          0       1.23   
    Test::More            0       0.98   
    URI                   0       1.58   

build_requires:

    Module                Need    Have   
    --------------------- ------- -------
    ExtUtils::MakeMaker   0       6.57_05


------------------------------
ENVIRONMENT AND OTHER CONTEXT
------------------------------

Environment variables:

    DBIC_NO_WARN_BAD_PERL = 1
    PATH = /usr/local/bin:/usr/X11R6/bin:/usr/X11/bin:/usr/perl5.8.0/bin:/usr/bin:/bin:/usr/local/sbin:/usr/sbin:/sbin:/usr/local/pilot/bin:/home/cpansand/bin/freebsd8.0:/home/cpansand/bin/sh:/home/cpansand/bin:/usr/X386/bin:/usr/games:/home/cpansand/devel:/usr/home/e/eserte/src/perl/CPAN-Testers-ParallelSmoker/utils
    PERL5LIB = 
    PERL5OPT = 
    PERL5_CPANPLUS_IS_RUNNING = 98422
    PERL5_CPAN_IS_RUNNING = 98422
    PERL5_CPAN_IS_RUNNING_IN_RECURSION = 4347,98422
    PERL_BATCH = yes
    PERL_CPAN_REPORTER_DIR = /home/cpansand/var/ctps/5140RC0_5/config/perl-v5.13.11-457-gd12b49d/cpanreporter
    PERL_EXTUTILS_AUTOINSTALL = --defaultdeps
    PERL_HTML_DISPLAY_CLASS = HTML::Display::Mozilla
    PERL_PARALLEL_SMOKER = yes
    SHELL = /usr/local/bin/zsh
    TERM = xterm
    TMPDIR = /tmp/cpansmoker-1023

Perl special variables (and OS-specific diagnostics, for MSWin32):

    $^X = /usr/home/cpansand/var/ctps/5140RC0_5/install/perl-v5.13.11-457-gd12b49d/bin/perl
    $UID/$EUID = 1023 / 1023
    $GID = 1023 1023
    $EGID = 1023 1023

Perl module toolchain versions installed:

    Module              Have    
    ------------------- --------
    CPAN                1.9600  
    Cwd                 3.36    
    ExtUtils::CBuilder  0.280203
    ExtUtils::Command   1.17    
    ExtUtils::Install   1.56    
    ExtUtils::MakeMaker 6.57_05 
    ExtUtils::Manifest  1.58    
    ExtUtils::ParseXS   2.2210  
    File::Spec          3.33    
    Module::Build       0.3800  
    Module::Signature   0.67    
    Test::Harness       3.23    
    Test::More          0.98    
    YAML                0.72    
    YAML::Syck          1.17    
    version             0.88    


--

Summary of my perl5 (revision 5 version 14 subversion 0) configuration:
  Commit id: d12b49d6e531fdc354980af14eb2efa34756c1d8
  Platform:
    osname=freebsd, osvers=8.0-release, archname=i386-freebsd
    uname='freebsd biokovo.herceg.de 8.0-release freebsd 8.0-release #0: sat nov 21 15:48:17 utc 2009 root@almeida.cse.buffalo.edu:usrobjusrsrcsysgeneric i386 '
    config_args='-ds -e -Uversiononly -Dinstallusrbinperl=n -Dusedevel -Dprefix=/home/cpansand/var/ctps/5140RC0_5/install/perl-v5.13.11-457-gd12b49d'
    hint=recommended, useposix=true, d_sigaction=define
    useithreads=undef, usemultiplicity=undef
    useperlio=define, d_sfio=undef, uselargefiles=define, usesocks=undef
    use64bitint=undef, use64bitall=undef, uselongdouble=undef
    usemymalloc=n, bincompat5005=undef
  Compiler:
    cc='cc', ccflags ='-DHAS_FPSETMASK -DHAS_FLOATINGPOINT_H -fno-strict-aliasing -pipe -fstack-protector -I/usr/local/include',
    optimize='-O',
    cppflags='-DHAS_FPSETMASK -DHAS_FLOATINGPOINT_H -fno-strict-aliasing -pipe -fstack-protector -I/usr/local/include'
    ccversion='', gccversion='4.2.1 20070719  [FreeBSD]', gccosandvers=''
    intsize=4, longsize=4, ptrsize=4, doublesize=8, byteorder=1234
    d_longlong=define, longlongsize=8, d_longdbl=define, longdblsize=12
    ivtype='long', ivsize=4, nvtype='double', nvsize=8, Off_t='off_t', lseeksize=8
    alignbytes=4, prototype=define
  Linker and Libraries:
    ld='cc', ldflags ='-Wl,-E  -fstack-protector -L/usr/local/lib'
    libpth=/usr/lib /usr/local/lib
    libs=-lgdbm -lm -lcrypt -lutil -lc
    perllibs=-lm -lcrypt -lutil -lc
    libc=, so=so, useshrplib=false, libperl=libperl.a
    gnulibc_version=''
  Dynamic Linking:
    dlsrc=dl_dlopen.xs, dlext=so, d_dlsymun=undef, ccdlflags=' '
    cccdlflags='-DPIC -fPIC', lddlflags='-shared  -L/usr/local/lib -fstack-protector'


Characteristics of this binary (from libperl): 
  Compile-time options: PERL_DONT_CREATE_GVSV PERL_MALLOC_WRAP
                        PERL_PRESERVE_IVUV PERL_USE_DEVEL USE_LARGE_FILES
                        USE_PERLIO USE_PERL_ATOF
  Locally applied patches:
	RC0
  Built under freebsd
  Compiled at Apr 18 2011 08:04:27
  %ENV:
    PERL5LIB=""
    PERL5OPT=""
    PERL5_CPANPLUS_IS_RUNNING="98422"
    PERL5_CPAN_IS_RUNNING="98422"
    PERL5_CPAN_IS_RUNNING_IN_RECURSION="4347,98422"
    PERL_BATCH="yes"
    PERL_CPAN_REPORTER_DIR="/home/cpansand/var/ctps/5140RC0_5/config/perl-v5.13.11-457-gd12b49d/cpanreporter"
    PERL_EXTUTILS_AUTOINSTALL="--defaultdeps"
    PERL_HTML_DISPLAY_CLASS="HTML::Display::Mozilla"
    PERL_PARALLEL_SMOKER="yes"
  @INC:
    /home/cpansand/var/ctps/5140RC0_5/install/perl-v5.13.11-457-gd12b49d/lib/site_perl/5.14.0/i386-freebsd
    /home/cpansand/var/ctps/5140RC0_5/install/perl-v5.13.11-457-gd12b49d/lib/site_perl/5.14.0
    /home/cpansand/var/ctps/5140RC0_5/install/perl-v5.13.11-457-gd12b49d/lib/5.14.0/i386-freebsd
    /home/cpansand/var/ctps/5140RC0_5/install/perl-v5.13.11-457-gd12b49d/lib/5.14.0
    .