Back
From: metabase:user:30f4dfbe-2aae-11df-837a-5e0a49663a4f
Subject: PASS Net-IPv6Addr-0.2 v5.18.4 SunOS/Solaris
Date: 2015-11-16T13:12:55Z
This distribution has been tested as part of the CPAN Testers
project, supporting the Perl programming language. See
http://wiki.cpantesters.org/ for more information or email
questions to cpan-testers-discuss@perl.org
--
Dear Tony Monroe,
This is a computer-generated report for Net-IPv6Addr-0.2
on perl 5.18.4, created by CPAN-Reporter-1.2014.
Thank you for uploading your work to CPAN. Congratulations!
All tests were successful.
Sections of this report:
* Tester comments
* Program output
* Prerequisites
* Environment and other context
------------------------------
TESTER COMMENTS
------------------------------
Additional comments from tester:
this report is from an automated smoke testing program
and was not reviewed by a human for accuracy
------------------------------
PROGRAM OUTPUT
------------------------------
Output from '/usr/bin/gmake test':
PERL_DL_NONLAZY=1 "/export/home/njh/perl5/perlbrew/perls/perl-5.18.4/bin/perl5.18.4" "-MExtUtils::Command::MM" "-MTest::Harness" "-e" "undef *Test::Harness::Switches; test_harness(0, 'blib/lib', 'blib/arch')" t/*.t
t/base85.t ...... ok
t/chkip.t ....... ok
t/compressed.t .. ok
t/ipv4.t ........ ok
t/ipv4comp.t .... ok
t/new.t ......... ok
t/parse.t ....... ok
t/preferred.t ... ok
t/string.t ...... ok
All tests successful.
Files=9, Tests=287, 1 wallclock secs ( 0.05 usr 0.03 sys + 0.29 cusr 0.18 csys = 0.55 CPU)
Result: PASS
------------------------------
PREREQUISITES
------------------------------
Prerequisite modules loaded:
requires:
Module Need Have
------------------- ---- ----
Math::Base85 0 0.2
Net::IPv4Addr 0 0.10
build_requires:
Module Need Have
------------------- ---- ----
ExtUtils::MakeMaker 0 7.10
------------------------------
ENVIRONMENT AND OTHER CONTEXT
------------------------------
Environment variables:
AUTOMATED_TESTING = 1
PATH = /export/home/njh/perl5/perlbrew/bin:/export/home/njh/perl5/perlbrew/perls/perl-5.18.4/bin:/export/home/njh/perl5/perlbrew/bin:/usr/bin
PERL5LIB = /export/home/njh/.cpan/build/Math-Base85-0.2-OPyaWa/blib/arch:/export/home/njh/.cpan/build/Math-Base85-0.2-OPyaWa/blib/lib:/export/home/njh/.cpan/build/Net-IPv4Addr-0.10-5NMzEF/blib/arch:/export/home/njh/.cpan/build/Net-IPv4Addr-0.10-5NMzEF/blib/lib
PERL5OPT =
PERL5_CPANPLUS_IS_RUNNING = 22628
PERL5_CPAN_IS_RUNNING = 22628
PERL5_MINISMOKEBOX = 0.58
PERLBREW_BASHRC_VERSION = 0.73
PERLBREW_LIB =
PERLBREW_MANPATH = /export/home/njh/perl5/perlbrew/perls/perl-5.18.4/man
PERLBREW_PATH = /export/home/njh/perl5/perlbrew/bin:/export/home/njh/perl5/perlbrew/perls/perl-5.18.4/bin
PERLBREW_PERL = perl-5.18.4
PERLBREW_ROOT = /export/home/njh/perl5/perlbrew
PERLBREW_VERSION = 0.73
PERL_EXTUTILS_AUTOINSTALL = --defaultdeps
PERL_LOCAL_LIB_ROOT =
PERL_MM_USE_DEFAULT = 1
SHELL = /usr/bin/sh
TERM = dumb
Perl special variables (and OS-specific diagnostics, for MSWin32):
$^X = /export/home/njh/perl5/perlbrew/perls/perl-5.18.4/bin/perl5.18.4
$UID/$EUID = 100 / 100
$GID = 10 10
$EGID = 10 10
Perl module toolchain versions installed:
Module Have
------------------- --------
CPAN 1.9800
CPAN::Meta 2.120921
Cwd 3.40
ExtUtils::CBuilder 0.280210
ExtUtils::Command 7.10
ExtUtils::Install 1.59
ExtUtils::MakeMaker 7.10
ExtUtils::Manifest 1.65
ExtUtils::ParseXS 3.18
File::Spec 3.40
JSON n/a
JSON::PP 2.27203
Module::Build 0.4003
Module::Signature n/a
Parse::CPAN::Meta 1.4405
Test::Harness 3.35
Test::More 1.001014
YAML 1.15
YAML::Syck 1.29
version 0.9902
--
Summary of my perl5 (revision 5 version 18 subversion 4) configuration:
Platform:
osname=solaris, osvers=2.11, archname=i86pc-solaris-thread-multi
uname='sunos solaris11.bandsman.co.uk 5.11 11.2 i86pc i386 i86pc '
config_args='-de -Dprefix=/export/home/njh/perl5/perlbrew/perls/perl-5.18.4 -Duseithreads -Dusemultiplicity -Dusedevel -Accflags=-O2 -W -Wformat=2 -Wswitch -Wshadow -Wwrite-strings -Wuninitialized -Wall -pipe -mtune=native -march=native -fomit-frame-pointer -msse2 -msse -mmmx -mfpmath=sse -D_FORTIFY_SOURCE=2 -Wpointer-arith -Wstrict-prototypes -fstack-protector -Wstack-protector -Wextra -Wbad-function-cast -Wcast-align -Wcast-qual -Wdisabled-optimization -Wendif-labels -Wfloat-equal -Wformat-nonliteral -Winline -Wmissing-declarations -Wmissing-prototypes -Wnested-externs -Wpointer-arith -Wundef -Wformat-security -ftree-vectorize -Acc=gcc -Aeval:scriptdir=/export/home/njh/perl5/perlbrew/perls/perl-5.18.4/bin'
hint=recommended, useposix=true, d_sigaction=define
useithreads=define, usemultiplicity=define
useperlio=define, d_sfio=undef, uselargefiles=define, usesocks=undef
use64bitint=undef, use64bitall=undef, uselongdouble=undef
usemymalloc=n, bincompat5005=undef
Compiler:
cc=' gcc', ccflags ='-D_REENTRANT -O2 -W -Wformat=2 -Wswitch -Wshadow -Wwrite-strings -Wuninitialized -Wall -pipe -mtune=native -march=native -fomit-frame-pointer -msse2 -msse -mmmx -mfpmath=sse -D_FORTIFY_SOURCE=2 -Wpointer-arith -Wstrict-prototypes -fstack-protector -Wstack-protector -Wextra -Wbad-function-cast -Wcast-align -Wcast-qual -Wdisabled-optimization -Wendif-labels -Wfloat-equal -Wformat-nonliteral -Winline -Wmissing-declarations -Wmissing-prototypes -Wnested-externs -Wpointer-arith -Wundef -Wformat-security -ftree-vectorize -fno-strict-aliasing -I/usr/gnu/include -D_LARGEFILE_SOURCE -D_FILE_OFFSET_BITS=64 -DPERL_USE_SAFE_PUTENV',
optimize='-O',
cppflags='-D_REENTRANT -O2 -W -Wformat=2 -Wswitch -Wshadow -Wwrite-strings -Wuninitialized -Wall -pipe -mtune=native -march=native -fomit-frame-pointer -msse2 -msse -mmmx -mfpmath=sse -D_FORTIFY_SOURCE=2 -Wpointer-arith -Wstrict-prototypes -fstack-protector -Wstack-protector -Wextra -Wbad-function-cast -Wcast-align -Wcast-qual -Wdisabled-optimization -Wendif-labels -Wfloat-equal -Wformat-nonliteral -Winline -Wmissing-declarations -Wmissing-prototypes -Wnested-externs -Wpointer-arith -Wundef -Wformat-security -ftree-vectorize -fno-strict-aliasing -I/usr/gnu/include'
ccversion='', gccversion='4.8.2', gccosandvers=''
intsize=4, longsize=4, ptrsize=4, doublesize=8, byteorder=1234
d_longlong=define, longlongsize=8, d_longdbl=define, longdblsize=12
ivtype='long', ivsize=4, nvtype='double', nvsize=8, Off_t='off_t', lseeksize=8
alignbytes=4, prototype=define
Linker and Libraries:
ld=' gcc', ldflags =' -fstack-protector -L/usr/gnu/lib '
libpth=/usr/gnu/lib /usr/lib /usr/ccs/lib
libs=-lsocket -lnsl -lgdbm -ldb -ldl -lm -lpthread -lc
perllibs=-lsocket -lnsl -ldl -lm -lpthread -lc
libc=/lib/libc.so, so=so, useshrplib=false, libperl=libperl.a
gnulibc_version=''
Dynamic Linking:
dlsrc=dl_dlopen.xs, dlext=so, d_dlsymun=undef, ccdlflags=' '
cccdlflags='-fPIC', lddlflags='-shared -L/usr/gnu/lib -fstack-protector'
Characteristics of this binary (from libperl):
Compile-time options: HAS_TIMES MULTIPLICITY PERLIO_LAYERS
PERL_DONT_CREATE_GVSV
PERL_HASH_FUNC_ONE_AT_A_TIME_HARD
PERL_IMPLICIT_CONTEXT PERL_MALLOC_WRAP
PERL_PRESERVE_IVUV PERL_SAWAMPERSAND PERL_USE_DEVEL
PERL_USE_SAFE_PUTENV USE_ITHREADS USE_LARGE_FILES
USE_LOCALE USE_LOCALE_COLLATE USE_LOCALE_CTYPE
USE_LOCALE_NUMERIC USE_PERLIO USE_PERL_ATOF
USE_REENTRANT_API
Locally applied patches:
Devel::PatchPerl 1.34
Built under solaris
Compiled at May 3 2015 10:05:05
%ENV:
PERL5LIB="/export/home/njh/.cpan/build/Math-Base85-0.2-OPyaWa/blib/arch:/export/home/njh/.cpan/build/Math-Base85-0.2-OPyaWa/blib/lib:/export/home/njh/.cpan/build/Net-IPv4Addr-0.10-5NMzEF/blib/arch:/export/home/njh/.cpan/build/Net-IPv4Addr-0.10-5NMzEF/blib/lib"
PERL5OPT=""
PERL5_CPANPLUS_IS_RUNNING="22628"
PERL5_CPAN_IS_RUNNING="22628"
PERL5_MINISMOKEBOX="0.58"
PERLBREW_BASHRC_VERSION="0.73"
PERLBREW_LIB=""
PERLBREW_MANPATH="/export/home/njh/perl5/perlbrew/perls/perl-5.18.4/man"
PERLBREW_PATH="/export/home/njh/perl5/perlbrew/bin:/export/home/njh/perl5/perlbrew/perls/perl-5.18.4/bin"
PERLBREW_PERL="perl-5.18.4"
PERLBREW_ROOT="/export/home/njh/perl5/perlbrew"
PERLBREW_VERSION="0.73"
PERL_EXTUTILS_AUTOINSTALL="--defaultdeps"
PERL_LOCAL_LIB_ROOT=""
PERL_MM_USE_DEFAULT="1"
@INC:
/export/home/njh/.cpan/build/Math-Base85-0.2-OPyaWa/blib/arch
/export/home/njh/.cpan/build/Math-Base85-0.2-OPyaWa/blib/lib
/export/home/njh/.cpan/build/Net-IPv4Addr-0.10-5NMzEF/blib/arch
/export/home/njh/.cpan/build/Net-IPv4Addr-0.10-5NMzEF/blib/lib
/export/home/njh/perl5/perlbrew/perls/perl-5.18.4/lib/site_perl/5.18.4/i86pc-solaris-thread-multi
/export/home/njh/perl5/perlbrew/perls/perl-5.18.4/lib/site_perl/5.18.4
/export/home/njh/perl5/perlbrew/perls/perl-5.18.4/lib/5.18.4/i86pc-solaris-thread-multi
/export/home/njh/perl5/perlbrew/perls/perl-5.18.4/lib/5.18.4
.