Report for Bot-BasicBot-Pluggable-0.98

Back
From: metabase:user:30977d10-2aae-11df-837a-5e0a49663a4f
Subject: PASS Bot-BasicBot-Pluggable-0.98 v5.23.0 GNU/Linux
Date: 2015-12-08T22:33:48Z

This distribution has been tested as part of the CPAN Testers
project, supporting the Perl programming language.  See
http://wiki.cpantesters.org/ for more information or email
questions to cpan-testers-discuss@perl.org


--
Dear Mike Eldridge,

This is a computer-generated report for Bot-BasicBot-Pluggable-0.98
on perl 5.23.0, created by CPAN-Reporter-1.2015.

Thank you for uploading your work to CPAN.  Congratulations!
All tests were successful.

Sections of this report:

    * Tester comments
    * Program output
    * Prerequisites
    * Environment and other context

------------------------------
TESTER COMMENTS
------------------------------

Additional comments from tester:

this report is from an automated smoke testing program
and was not reviewed by a human for accuracy

------------------------------
PROGRAM OUTPUT
------------------------------

Output from '/usr/bin/make test':

PERL_DL_NONLAZY=1 "/home/stro/perl/5.23.0/bin/perl" "-MExtUtils::Command::MM" "-MTest::Harness" "-e" "undef *Test::Harness::Switches; test_harness(0, 'blib/lib', 'blib/arch')" t/*.t
t/00bootstrap.t ........... ok
t/01module_base.t ......... ok
Loading Auth from Bot/BasicBot/Pluggable/Module/Auth.pm at /home/stro/cpan/build/5.23.0/build/Bot-BasicBot-Pluggable-0.98-EeaVib/blib/lib/Bot/BasicBot/Pluggable.pm line 106.
t/02module_auth.t ......... ok
t/03store.t ............... ok
t/03store_dbi.t ........... ok
t/03store_deep.t .......... ok
t/03store_memory.t ........ ok
t/03store_storable.t ...... ok
Loading Karma from Bot/BasicBot/Pluggable/Module/Karma.pm at /home/stro/cpan/build/5.23.0/build/Bot-BasicBot-Pluggable-0.98-EeaVib/blib/lib/Bot/BasicBot/Pluggable.pm line 106.
Use of uninitialized value $param in substitution (s///) at /home/stro/cpan/build/5.23.0/build/Bot-BasicBot-Pluggable-0.98-EeaVib/blib/lib/Bot/BasicBot/Pluggable/Module/Karma.pm line 66.
t/04karma.t ............... ok
Loading Infobot from Bot/BasicBot/Pluggable/Module/Infobot.pm at /home/stro/cpan/build/5.23.0/build/Bot-BasicBot-Pluggable-0.98-EeaVib/blib/lib/Bot/BasicBot/Pluggable.pm line 106.
t/05infobot.t ............. ok
Loading Title from Bot/BasicBot/Pluggable/Module/Title.pm at /home/stro/cpan/build/5.23.0/build/Bot-BasicBot-Pluggable-0.98-EeaVib/blib/lib/Bot/BasicBot/Pluggable.pm line 106.
Loading Infobot from Bot/BasicBot/Pluggable/Module/Infobot.pm at /home/stro/cpan/build/5.23.0/build/Bot-BasicBot-Pluggable-0.98-EeaVib/blib/lib/Bot/BasicBot/Pluggable.pm line 106.
t/06title.t ............... ok
Loading Auth from Bot/BasicBot/Pluggable/Module/Auth.pm at /home/stro/cpan/build/5.23.0/build/Bot-BasicBot-Pluggable-0.98-EeaVib/blib/lib/Bot/BasicBot/Pluggable.pm line 106.
Loading Loader from Bot/BasicBot/Pluggable/Module/Loader.pm at /home/stro/cpan/build/5.23.0/build/Bot-BasicBot-Pluggable-0.98-EeaVib/blib/lib/Bot/BasicBot/Pluggable.pm line 106.
t/07app_defaults.t ........ ok
Loading Karma from Bot/BasicBot/Pluggable/Module/Karma.pm at /home/stro/cpan/build/5.23.0/build/Bot-BasicBot-Pluggable-0.98-EeaVib/blib/lib/Bot/BasicBot/Pluggable.pm line 106.
Loading Auth from Bot/BasicBot/Pluggable/Module/Auth.pm at /home/stro/cpan/build/5.23.0/build/Bot-BasicBot-Pluggable-0.98-EeaVib/blib/lib/Bot/BasicBot/Pluggable.pm line 106.
t/08app_commandline.t ..... ok
Loading Loader from Bot/BasicBot/Pluggable/Module/Loader.pm at /home/stro/cpan/build/5.23.0/build/Bot-BasicBot-Pluggable-0.98-EeaVib/blib/lib/Bot/BasicBot/Pluggable.pm line 106.
Loading Karma from Bot/BasicBot/Pluggable/Module/Karma.pm at /home/stro/cpan/build/5.23.0/build/Bot-BasicBot-Pluggable-0.98-EeaVib/blib/lib/Bot/BasicBot/Pluggable.pm line 106.
Loading Auth from Bot/BasicBot/Pluggable/Module/Auth.pm at /home/stro/cpan/build/5.23.0/build/Bot-BasicBot-Pluggable-0.98-EeaVib/blib/lib/Bot/BasicBot/Pluggable.pm line 106.
t/09app_configfile.t ...... ok
t/100critic.t ............. skipped: Author test.  Set $ENV{TEST_AUTHOR} to a true value to run.
t/101tidy.t ............... skipped: Author test.  Set $ENV{TEST_AUTHOR} to a true value to run.
Loading Foo from ./Foo.pm at /home/stro/cpan/build/5.23.0/build/Bot-BasicBot-Pluggable-0.98-EeaVib/blib/lib/Bot/BasicBot/Pluggable.pm line 106.
Loading Bar from ./modules/Bar.pm at /home/stro/cpan/build/5.23.0/build/Bot-BasicBot-Pluggable-0.98-EeaVib/blib/lib/Bot/BasicBot/Pluggable.pm line 106.
t/10modules_not_in_inc.t .. ok
t/release-pod-coverage.t .. skipped: these tests are for release candidate testing
t/release-pod-syntax.t .... skipped: these tests are for release candidate testing
All tests successful.
Files=19, Tests=248, 18 wallclock secs ( 0.05 usr  0.02 sys +  2.92 cusr  0.17 csys =  3.16 CPU)
Result: PASS

------------------------------
PREREQUISITES
------------------------------

Prerequisite modules loaded:

requires:

    Module                       Need   Have    
    ---------------------------- ------ --------
    base                         0      2.22    
    Bot::BasicBot                0.60   0.89    
    Carp                         0      1.38    
    CGI                          0      4.22    
    Config::Find                 0      0.31    
    Crypt::SaltedHash            0.06   0.09    
    Data::Dumper                 0      2.158   
    DBI                          0      1.634   
    DBM::Deep                    0      2.0012  
    File::Copy                   0      2.30    
    File::Spec                   0      3.60    
    File::Temp                   0      0.2304  
    List::MoreUtils              0      0.413   
    Log::Log4perl                1.11   1.46    
    Log::Log4perl::Level         0      0       
    LWP::UserAgent               0      6.15    
    Module::Load                 0      0.32    
    Module::Pluggable            0      5.2     
    Moose                        0      2.1604  
    Moose::Util::TypeConstraints 0      2.1604  
    MooseX::Getopt::Dashes       0      0.68    
    MooseX::SimpleConfig         0      0.11    
    POE                          0      1.367   
    Socket                       0      2.021   
    Storable                     0      2.53    
    strict                       0      1.09    
    Text::Unidecode              0      1.27    
    Try::Tiny                    0      0.22    
    URI                          0      1.69    
    URI::Find::Simple            0      1.06    
    URI::Title                   0      1.900   
    warnings                     0      1.32    
    XML::Feed                    0      0.52    

build_requires:

    Module                       Need   Have    
    ---------------------------- ------ --------
    DBD::SQLite                  0      1.48    
    FindBin                      0      1.51    
    Module::Build                0.3601 0.4214  
    Test::More                   0      1.001014
    YAML::XS                     0      0.59    

configure_requires:

    Module                       Need   Have    
    ---------------------------- ------ --------
    ExtUtils::MakeMaker          6.30   7.10    
    Module::Build                0.3601 0.4214  


------------------------------
ENVIRONMENT AND OTHER CONTEXT
------------------------------

Environment variables:

    AUTOMATED_TESTING = 1
    LANG = en_US.UTF-8
    PATH = /usr/local/bin:/usr/bin:/bin:/usr/local/games:/usr/games
    PERL5LIB = 
    PERL5OPT = 
    PERL5_CPANPLUS_IS_RUNNING = 27644
    PERL5_CPAN_IS_RUNNING = 27644
    PERL5_CPAN_IS_RUNNING_IN_RECURSION = 15527,27644
    PERL_CR_SMOKER_CURRENT = Bot-BasicBot-Pluggable-Module-Notify-0.04
    PERL_EXTUTILS_AUTOINSTALL = --defaultdeps
    PERL_MM_USE_DEFAULT = 1
    SHELL = /bin/bash
    TERM = xterm

Perl special variables (and OS-specific diagnostics, for MSWin32):

    $^X = /home/stro/perl/5.23.0/bin/perl
    $UID/$EUID = 1000 / 1000
    $GID = 1000 24 25 29 30 44 46 108 114 1000
    $EGID = 1000 24 25 29 30 44 46 108 114 1000

Perl module toolchain versions installed:

    Module              Have    
    ------------------- --------
    CPAN                2.11    
    CPAN::Meta          2.150005
    Cwd                 3.60    
    ExtUtils::CBuilder  0.280224
    ExtUtils::Command   7.10    
    ExtUtils::Install   2.04    
    ExtUtils::MakeMaker 7.10    
    ExtUtils::Manifest  1.70    
    ExtUtils::ParseXS   3.30    
    File::Spec          3.60    
    JSON                2.90    
    JSON::PP            2.27300 
    Module::Build       0.4214  
    Module::Signature   0.79    
    Parse::CPAN::Meta   1.4417  
    Test::Harness       3.35    
    Test::More          1.001014
    YAML                1.15    
    YAML::Syck          1.29    
    version             0.9912  


--

Summary of my perl5 (revision 5 version 23 subversion 0) configuration:
   
  Platform:
    osname=linux, osvers=3.16.0-4-amd64, archname=x86_64-linux
    uname='linux vm-debian-001 3.16.0-4-amd64 #1 smp debian 3.16.7-ckt11-1 (2015-05-24) x86_64 gnulinux '
    config_args=''
    hint=recommended, useposix=true, d_sigaction=define
    useithreads=undef, usemultiplicity=undef
    use64bitint=define, use64bitall=define, uselongdouble=undef
    usemymalloc=n, bincompat5005=undef
  Compiler:
    cc='cc', ccflags ='-fwrapv -fno-strict-aliasing -pipe -fstack-protector-strong -I/usr/local/include -D_LARGEFILE_SOURCE -D_FILE_OFFSET_BITS=64 -D_FORTIFY_SOURCE=2',
    optimize='-O2',
    cppflags='-fwrapv -fno-strict-aliasing -pipe -fstack-protector-strong -I/usr/local/include'
    ccversion='', gccversion='4.9.2', gccosandvers=''
    intsize=4, longsize=8, ptrsize=8, doublesize=8, byteorder=12345678, doublekind=3
    d_longlong=define, longlongsize=8, d_longdbl=define, longdblsize=16, longdblkind=3
    ivtype='long', ivsize=8, nvtype='double', nvsize=8, Off_t='off_t', lseeksize=8
    alignbytes=8, prototype=define
  Linker and Libraries:
    ld='cc', ldflags =' -fstack-protector-strong -L/usr/local/lib'
    libpth=/usr/local/lib /usr/lib/gcc/x86_64-linux-gnu/4.9/include-fixed /usr/include/x86_64-linux-gnu /usr/lib /lib/x86_64-linux-gnu /lib/../lib /usr/lib/x86_64-linux-gnu /usr/lib/../lib /lib
    libs=-lpthread -lnsl -ldl -lm -lcrypt -lutil -lc
    perllibs=-lpthread -lnsl -ldl -lm -lcrypt -lutil -lc
    libc=libc-2.19.so, so=so, useshrplib=false, libperl=libperl.a
    gnulibc_version='2.19'
  Dynamic Linking:
    dlsrc=dl_dlopen.xs, dlext=so, d_dlsymun=undef, ccdlflags='-Wl,-E'
    cccdlflags='-fPIC', lddlflags='-shared -O2 -L/usr/local/lib -fstack-protector-strong'


Characteristics of this binary (from libperl): 
  Compile-time options: HAS_TIMES PERLIO_LAYERS PERL_DONT_CREATE_GVSV
                        PERL_HASH_FUNC_ONE_AT_A_TIME_HARD PERL_MALLOC_WRAP
                        PERL_NEW_COPY_ON_WRITE PERL_PRESERVE_IVUV
                        USE_64_BIT_ALL USE_64_BIT_INT USE_LARGE_FILES
                        USE_LOCALE USE_LOCALE_COLLATE USE_LOCALE_CTYPE
                        USE_LOCALE_NUMERIC USE_LOCALE_TIME USE_PERLIO
                        USE_PERL_ATOF
  Built under linux
  Compiled at Jul  9 2015 22:41:15
  %ENV:
    PERL5LIB=""
    PERL5OPT=""
    PERL5_CPANPLUS_IS_RUNNING="27644"
    PERL5_CPAN_IS_RUNNING="27644"
    PERL5_CPAN_IS_RUNNING_IN_RECURSION="15527,27644"
    PERL_CR_SMOKER_CURRENT="Bot-BasicBot-Pluggable-Module-Notify-0.04"
    PERL_EXTUTILS_AUTOINSTALL="--defaultdeps"
    PERL_MM_USE_DEFAULT="1"
  @INC:
    /home/stro/perl/5.23.0/lib/site_perl/5.23.0/x86_64-linux
    /home/stro/perl/5.23.0/lib/site_perl/5.23.0
    /home/stro/perl/5.23.0/lib/5.23.0/x86_64-linux
    /home/stro/perl/5.23.0/lib/5.23.0
    .