Redis-Fast v0.35 Perl 5 v5.37.11 x86_64-linux-ld

Status
Pass
From
Andreas J. König (ANDK)
Dist
Redis-Fast v0.35
Platform
Perl 5 v5.37.11 x86_64-linux-ld
Date
2023-05-03 01:06:35
ID
c01c01be-e94e-11ed-a321-db101945618a
This distribution has been tested as part of the CPAN Testers
project, supporting the Perl programming language.  See
http://wiki.cpantesters.org/ for more information or email
questions to cpan-testers-discuss@perl.org


--
Dear Shogo Ichinose,

This is a computer-generated report for Redis-Fast-0.35
on perl 5.37.11, created by CPAN-Reporter-1.2019.

Thank you for uploading your work to CPAN.  Congratulations!
All tests were successful.

Sections of this report:

    * Tester comments
    * Program output
    * Prerequisites
    * Environment and other context

------------------------------
TESTER COMMENTS
------------------------------

Additional comments from tester:

this report is from an automated smoke testing program
and was not reviewed by a human for accuracy

------------------------------
PROGRAM OUTPUT
------------------------------

Output from './Build test':

t/01-basic.t ........................... ok
t/02-responses.t ....................... ok
    # parent waiting for child 806084...
    # child is ready to test, signal parent to kill our server
    # parent killed pub/sub redis server, signal child to proceed
    # parent waiting for child 806093...
    # now, check wait_for_messages(), should die...
    # CHILD: reconnected (with a 10s timeout)
    # CHILD: is ready to test, signal parent to restart our server
    # PARENT: killed pub/sub redis server, signal child to proceed
    # CHILD: launch wait_for_messages(2), with reconnect...
    # CHILD: reconnected (with a 10s timeout)
    # PARENT: has relaunched the server...
    # CHILD: after 2 sec, nothing yet, retrying
    # CHILD: launch wait_for_messages(2), with reconnect...
    # CHILD: after 2 sec, nothing yet, retrying
    # CHILD: launch wait_for_messages(2), with reconnect...
    # PARENT: waiting for child 806098...
    # CHILD: child received the message
t/03-pubsub.t .......................... ok
# undefServer closed the connection
t/04-pipeline-issue117.t ............... ok
t/04-pipeline.t ........................ ok
t/05-nonblock.t ........................ skipped: not needed, tested by hiredis
t/06-on-connect.t ...................... ok
t/07-reconnect-on-error.t .............. ok
t/07-reconnect-without-auto-connect.t .. ok
    # Sleeping 11 seconds, waiting for Redis to timeout...
    # Sleeping 11 seconds, waiting for Redis to timeout...
    # Sleeping 11 seconds, waiting for Redis to timeout...
t/07-reconnect.t ....................... ok
t/08-unix-socket.t ..................... skipped: Define ENV TEST_REDIS_SERVER_SOCK_PATH to test UNIX socket support
t/09-env-redis-server.t ................ ok
t/10-tie-list.t ........................ ok
t/11-timeout.t ......................... ok
t/20-tie-hash.t ........................ ok
t/30-scripts.t ......................... ok
t/42-client_cmds.t ..................... ok
t/44-no-unicode-bug.t .................. ok
t/50-fork_safe.t ....................... ok
t/51-leak.t ............................ ok
t/53-blpop.t ........................... ok
t/53-blpop_and_timeout.t ............... ok
t/53-deep-recursion.t .................. ok
t/53-fail-to-connect.t ................. ok
t/53-password.t ........................ ok
    # 98366.971247812
t/53-signal.t .......................... ok
t/53-timeout-length.t .................. ok
# redis address : 127.0.0.1:40369
# sentinel address: 127.0.0.1:35997
# sentinel2 address: 127.0.0.1:35729
# wait 3 sec for the sentinels and the master to gossip
# shutting down sentinel2
# shutting down sentinel
# shutting down redis
t/60-sentinel.t ........................ ok
All tests successful.
Files=28, Tests=326, 143 wallclock secs ( 0.14 usr  0.04 sys +  6.57 cusr  1.63 csys =  8.38 CPU)
Result: PASS

------------------------------
PREREQUISITES
------------------------------

Prerequisite modules loaded:

requires:

    Module                Need     Have    
    --------------------- -------- --------
    perl                  5.008001 5.037011
    Time::HiRes           1.77     1.9774  
    Try::Tiny             0        0.31    

build_requires:

    Module                Need     Have    
    --------------------- -------- --------
    Digest::SHA           0        6.04    
    ExtUtils::CBuilder    0        0.280238
    File::Temp            0        0.2311  
    Parallel::ForkManager 0        2.02    
    Test::Deep            0        1.204   
    Test::Fatal           0        0.017   
    Test::LeakTrace       0        0.17    
    Test::More            0.98     1.302195
    Test::SharedFork      0        0.35    
    Test::TCP             0        2.22    
    Test::UNIXSock        0        0.4     

configure_requires:

    Module                Need     Have    
    --------------------- -------- --------
    File::Which           0        1.27    
    Module::Build         0.4005   0.4234  
    Module::Build::XSUtil 0.02     0.19    


------------------------------
ENVIRONMENT AND OTHER CONTEXT
------------------------------

Environment variables:

    AUTOMATED_TESTING = 1
    LANG = en_US.UTF-8
    PATH = /home/sand/bin:/usr/local/bin:/usr/local/sbin:/usr/sbin:/usr/bin:/sbin:/bin:/usr/games:/usr/local/games:/snap/bin:/usr/local/perl/bin:/usr/X11/bin
    PERL = /tmp/basesmoker-reloperl-dz5U/bin/perl
    PERL5LIB = /tmp/loop_over_bdir-111627-3IJmKl/CORBA-Python-2.66-0/blib/arch:/tmp/loop_over_bdir-111627-3IJmKl/CORBA-Python-2.66-0/blib/lib:/tmp/loop_over_bdir-111627-3IJmKl/Lingua-YaTeA-0.626-0/blib/arch:/tmp/loop_over_bdir-111627-3IJmKl/Lingua-YaTeA-0.626-0/blib/lib
    PERL5OPT = 
    PERL5_CPANPLUS_IS_RUNNING = 111827
    PERL5_CPAN_IS_RUNNING = 111827
    PERL_CANARY_STABILITY_NOPROMPT = 1
    PERL_MM_USE_DEFAULT = 1
    PERL_USE_UNSAFE_INC = 1
    SHELL = /usr/bin/zsh
    TERM = screen

Perl special variables (and OS-specific diagnostics, for MSWin32):

    $^X = /tmp/basesmoker-reloperl-dz5U/bin/perl
    $UID/$EUID = 1005 / 1005
    $GID = 1005 1005
    $EGID = 1005 1005

Perl module toolchain versions installed:

    Module              Have    
    ------------------- --------
    CPAN                2.35    
    CPAN::Meta          2.150010
    Cwd                 3.89    
    ExtUtils::CBuilder  0.280238
    ExtUtils::Command   7.70    
    ExtUtils::Install   2.22    
    ExtUtils::MakeMaker 7.70    
    ExtUtils::Manifest  1.73    
    ExtUtils::ParseXS   3.50    
    File::Spec          3.88    
    JSON                4.10    
    JSON::PP            4.16    
    Module::Build       0.4234  
    Module::Signature   0.88    
    Parse::CPAN::Meta   2.150010
    Test2               1.302195
    Test::Harness       3.44    
    Test::More          1.302195
    YAML                1.30    
    YAML::Syck          1.34    
    version             0.9929  


--

Summary of my perl5 (revision 5 version 37 subversion 11) configuration:
  Commit id: f94aafcf7b0649f7058ce2679b1be428d0b1bca8
  Platform:
    osname=linux
    osvers=5.4.0-148-generic
    archname=x86_64-linux-ld
    uname='linux k93focal 5.4.0-148-generic #165-ubuntu smp tue apr 18 08:53:12 utc 2023 x86_64 x86_64 x86_64 gnulinux '
    config_args='-Dprefix=/home/sand/src/perl/repoperls/installed-perls/host/k93focal/v5.37.11/d3e4 -Dmyhostname=k93focal -Dinstallusrbinperl=n -Uversiononly -Dusedevel -des -Ui_db -Dlibswanted=cl pthread socket inet nsl gdbm dbm malloc dl ld sun m crypt sec util c cposix posix ucb BSD gdbm_compat -Uuseithreads -Duselongdouble -DEBUGGING=both'
    hint=recommended
    useposix=true
    d_sigaction=define
    useithreads=undef
    usemultiplicity=undef
    use64bitint=define
    use64bitall=define
    uselongdouble=define
    usemymalloc=n
    default_inc_excludes_dot=define
  Compiler:
    cc='cc'
    ccflags ='-fwrapv -DDEBUGGING -fno-strict-aliasing -pipe -fstack-protector-strong -I/usr/local/include -D_LARGEFILE_SOURCE -D_FILE_OFFSET_BITS=64'
    optimize='-O2 -g'
    cppflags='-fwrapv -DDEBUGGING -fno-strict-aliasing -pipe -fstack-protector-strong -I/usr/local/include'
    ccversion=''
    gccversion='9.4.0'
    gccosandvers=''
    intsize=4
    longsize=8
    ptrsize=8
    doublesize=8
    byteorder=12345678
    doublekind=3
    d_longlong=define
    longlongsize=8
    d_longdbl=define
    longdblsize=16
    longdblkind=3
    ivtype='long'
    ivsize=8
    nvtype='long double'
    nvsize=16
    Off_t='off_t'
    lseeksize=8
    alignbytes=16
    prototype=define
  Linker and Libraries:
    ld='cc'
    ldflags =' -fstack-protector-strong -L/usr/local/lib'
    libpth=/usr/local/lib /usr/lib/x86_64-linux-gnu /usr/lib /usr/lib64
    libs=-lpthread -lnsl -ldl -lm -lcrypt -lutil -lc
    perllibs=-lpthread -lnsl -ldl -lm -lcrypt -lutil -lc
    libc=libc-2.31.so
    so=so
    useshrplib=false
    libperl=libperl.a
    gnulibc_version='2.31'
  Dynamic Linking:
    dlsrc=dl_dlopen.xs
    dlext=so
    d_dlsymun=undef
    ccdlflags='-Wl,-E'
    cccdlflags='-fPIC'
    lddlflags='-shared -O2 -g -L/usr/local/lib -fstack-protector-strong'


Characteristics of this binary (from libperl): 
  Compile-time options:
    DEBUGGING
    HAS_LONG_DOUBLE
    HAS_STRTOLD
    HAS_TIMES
    PERLIO_LAYERS
    PERL_COPY_ON_WRITE
    PERL_DONT_CREATE_GVSV
    PERL_HASH_FUNC_SIPHASH13
    PERL_HASH_USE_SBOX32
    PERL_MALLOC_WRAP
    PERL_OP_PARENT
    PERL_PRESERVE_IVUV
    PERL_USE_DEVEL
    PERL_USE_SAFE_PUTENV
    USE_64_BIT_ALL
    USE_64_BIT_INT
    USE_LARGE_FILES
    USE_LOCALE
    USE_LOCALE_COLLATE
    USE_LOCALE_CTYPE
    USE_LOCALE_NUMERIC
    USE_LOCALE_TIME
    USE_LONG_DOUBLE
    USE_PERLIO
    USE_PERL_ATOF
  Built under linux
  Compiled at May  1 2023 21:49:32
  %ENV:
    PERL="/tmp/basesmoker-reloperl-dz5U/bin/perl"
    PERL5LIB="/tmp/loop_over_bdir-111627-3IJmKl/CORBA-Python-2.66-0/blib/arch:/tmp/loop_over_bdir-111627-3IJmKl/CORBA-Python-2.66-0/blib/lib:/tmp/loop_over_bdir-111627-3IJmKl/Lingua-YaTeA-0.626-0/blib/arch:/tmp/loop_over_bdir-111627-3IJmKl/Lingua-YaTeA-0.626-0/blib/lib"
    PERL5OPT=""
    PERL5_CPANPLUS_IS_RUNNING="111827"
    PERL5_CPAN_IS_RUNNING="111827"
    PERL_CANARY_STABILITY_NOPROMPT="1"
    PERL_MM_USE_DEFAULT="1"
    PERL_USE_UNSAFE_INC="1"
  @INC:
    /tmp/loop_over_bdir-111627-3IJmKl/CORBA-Python-2.66-0/blib/arch
    /tmp/loop_over_bdir-111627-3IJmKl/CORBA-Python-2.66-0/blib/lib
    /tmp/loop_over_bdir-111627-3IJmKl/Lingua-YaTeA-0.626-0/blib/arch
    /tmp/loop_over_bdir-111627-3IJmKl/Lingua-YaTeA-0.626-0/blib/lib
    /home/sand/src/perl/repoperls/installed-perls/host/k93focal/v5.37.11/d3e4/lib/site_perl/5.37.11/x86_64-linux-ld
    /home/sand/src/perl/repoperls/installed-perls/host/k93focal/v5.37.11/d3e4/lib/site_perl/5.37.11
    /home/sand/src/perl/repoperls/installed-perls/host/k93focal/v5.37.11/d3e4/lib/5.37.11/x86_64-linux-ld
    /home/sand/src/perl/repoperls/installed-perls/host/k93focal/v5.37.11/d3e4/lib/5.37.11
    .