Apache-ASP v2.62 Perl 5 v5.27.8 x86_64-linux

Status
Pass
From
Slaven Rezić (SREZIC)
Dist
Apache-ASP v2.62
Platform
Perl 5 v5.27.8 x86_64-linux
Date
2018-01-30 06:35:23
ID
c0290d6a-0587-11e8-a86d-ef2df2194dd2
This distribution has been tested as part of the CPAN Testers
project, supporting the Perl programming language.  See
http://wiki.cpantesters.org/ for more information or email
questions to cpan-testers-discuss@perl.org


--
Dear J Chamas,

This is a computer-generated report for Apache-ASP-2.62
on perl 5.27.8, created by CPAN-Reporter-1.2018.

Thank you for uploading your work to CPAN.  Congratulations!
All tests were successful.

Sections of this report:

    * Tester comments
    * Program output
    * Prerequisites
    * Environment and other context

------------------------------
TESTER COMMENTS
------------------------------

Additional comments from tester:

none provided

------------------------------
PROGRAM OUTPUT
------------------------------

Output from '/usr/bin/make test':

PERL_DL_NONLAZY=1 "/bbbike/perl-5.27.8/bin/perl5.27.8" "-MExtUtils::Command::MM" "-MTest::Harness" "-e" "undef *Test::Harness::Switches; test_harness(0, 'blib/lib', 'blib/arch')" t/*.t
t/application.t .......... ok
t/asp-perl1.t ............ ok
t/asp-perl2.t ............ ok
t/asp_object.t ........... ok
t/cache.t ................ ok
t/cgi_headers.t .......... ok
Use of uninitialized value $rv in lc at /tmpfs/.cpan-build-cpansand/2018013003/Apache-ASP-2.62-0/blib/lib/Apache/ASP.pm line 2018.
Use of uninitialized value $rv in lc at /tmpfs/.cpan-build-cpansand/2018013003/Apache-ASP-2.62-0/blib/lib/Apache/ASP.pm line 2018.
Use of uninitialized value $rv in lc at /tmpfs/.cpan-build-cpansand/2018013003/Apache-ASP-2.62-0/blib/lib/Apache/ASP.pm line 2018.
Use of uninitialized value $rv in lc at /tmpfs/.cpan-build-cpansand/2018013003/Apache-ASP-2.62-0/blib/lib/Apache/ASP.pm line 2018.
Use of uninitialized value $rv in lc at /tmpfs/.cpan-build-cpansand/2018013003/Apache-ASP-2.62-0/blib/lib/Apache/ASP.pm line 2018.
Use of uninitialized value $rv in lc at /tmpfs/.cpan-build-cpansand/2018013003/Apache-ASP-2.62-0/blib/lib/Apache/ASP.pm line 2018.
Use of uninitialized value $rv in lc at /tmpfs/.cpan-build-cpansand/2018013003/Apache-ASP-2.62-0/blib/lib/Apache/ASP.pm line 2018.
Use of uninitialized value $rv in lc at /tmpfs/.cpan-build-cpansand/2018013003/Apache-ASP-2.62-0/blib/lib/Apache/ASP.pm line 2018.
Use of uninitialized value $rv in lc at /tmpfs/.cpan-build-cpansand/2018013003/Apache-ASP-2.62-0/blib/lib/Apache/ASP.pm line 2018.
t/closure.t .............. ok
t/collection.t ........... ok
t/collectionitem.t ....... ok
t/cookies.t .............. ok
t/end.t .................. ok
t/general.t .............. ok
t/global_event_end.t ..... ok
t/include.t .............. ok
Use of uninitialized value $rv in lc at /tmpfs/.cpan-build-cpansand/2018013003/Apache-ASP-2.62-0/blib/lib/Apache/ASP.pm line 2018.
 at /tmpfs/.cpan-build-cpansand/2018013003/Apache-ASP-2.62-0/blib/lib/Apache/ASP.pm line 2018.
	Apache::ASP::get_dir_config(Apache::ASP::CGI::Table=HASH(0x1e876b0), "Global") called at /tmpfs/.cpan-build-cpansand/2018013003/Apache-ASP-2.62-0/blib/lib/Apache/ASP.pm line 276
	Apache::ASP::new("Apache::ASP", Apache::ASP::CGI=HASH(0x19c66f8), "t/include_change.t") called at /tmpfs/.cpan-build-cpansand/2018013003/Apache-ASP-2.62-0/blib/lib/Apache/ASP.pm line 184
	Apache::ASP::handler(Apache::ASP::CGI=HASH(0x19c66f8)) called at /tmpfs/.cpan-build-cpansand/2018013003/Apache-ASP-2.62-0/blib/lib/Apache/ASP/CGI.pm line 40
	Apache::ASP::CGI::do_self("NoState", 1, "Debug", 0, "UseStrict", 0) called at t/include_change.t line 5
Use of uninitialized value $rv in lc at /tmpfs/.cpan-build-cpansand/2018013003/Apache-ASP-2.62-0/blib/lib/Apache/ASP.pm line 2018.
 at /tmpfs/.cpan-build-cpansand/2018013003/Apache-ASP-2.62-0/blib/lib/Apache/ASP.pm line 2018.
	Apache::ASP::get_dir_config(Apache::ASP::CGI::Table=HASH(0x1e876b0), "GlobalPackage") called at /tmpfs/.cpan-build-cpansand/2018013003/Apache-ASP-2.62-0/blib/lib/Apache/ASP.pm line 280
	Apache::ASP::new("Apache::ASP", Apache::ASP::CGI=HASH(0x19c66f8), "t/include_change.t") called at /tmpfs/.cpan-build-cpansand/2018013003/Apache-ASP-2.62-0/blib/lib/Apache/ASP.pm line 184
	Apache::ASP::handler(Apache::ASP::CGI=HASH(0x19c66f8)) called at /tmpfs/.cpan-build-cpansand/2018013003/Apache-ASP-2.62-0/blib/lib/Apache/ASP/CGI.pm line 40
	Apache::ASP::CGI::do_self("NoState", 1, "Debug", 0, "UseStrict", 0) called at t/include_change.t line 5
Use of uninitialized value $rv in lc at /tmpfs/.cpan-build-cpansand/2018013003/Apache-ASP-2.62-0/blib/lib/Apache/ASP.pm line 2018.
 at /tmpfs/.cpan-build-cpansand/2018013003/Apache-ASP-2.62-0/blib/lib/Apache/ASP.pm line 2018.
	Apache::ASP::get_dir_config(Apache::ASP::CGI::Table=HASH(0x1e876b0), "InodeNames") called at /tmpfs/.cpan-build-cpansand/2018013003/Apache-ASP-2.62-0/blib/lib/Apache/ASP.pm line 280
	Apache::ASP::new("Apache::ASP", Apache::ASP::CGI=HASH(0x19c66f8), "t/include_change.t") called at /tmpfs/.cpan-build-cpansand/2018013003/Apache-ASP-2.62-0/blib/lib/Apache/ASP.pm line 184
	Apache::ASP::handler(Apache::ASP::CGI=HASH(0x19c66f8)) called at /tmpfs/.cpan-build-cpansand/2018013003/Apache-ASP-2.62-0/blib/lib/Apache/ASP/CGI.pm line 40
	Apache::ASP::CGI::do_self("NoState", 1, "Debug", 0, "UseStrict", 0) called at t/include_change.t line 5
Use of uninitialized value $rv in lc at /tmpfs/.cpan-build-cpansand/2018013003/Apache-ASP-2.62-0/blib/lib/Apache/ASP.pm line 2018.
 at /tmpfs/.cpan-build-cpansand/2018013003/Apache-ASP-2.62-0/blib/lib/Apache/ASP.pm line 2018.
	Apache::ASP::get_dir_config(Apache::ASP::CGI::Table=HASH(0x1e876b0), "NoCache") called at /tmpfs/.cpan-build-cpansand/2018013003/Apache-ASP-2.62-0/blib/lib/Apache/ASP.pm line 280
	Apache::ASP::new("Apache::ASP", Apache::ASP::CGI=HASH(0x19c66f8), "t/include_change.t") called at /tmpfs/.cpan-build-cpansand/2018013003/Apache-ASP-2.62-0/blib/lib/Apache/ASP.pm line 184
	Apache::ASP::handler(Apache::ASP::CGI=HASH(0x19c66f8)) called at /tmpfs/.cpan-build-cpansand/2018013003/Apache-ASP-2.62-0/blib/lib/Apache/ASP/CGI.pm line 40
	Apache::ASP::CGI::do_self("NoState", 1, "Debug", 0, "UseStrict", 0) called at t/include_change.t line 5
Use of uninitialized value $rv in lc at /tmpfs/.cpan-build-cpansand/2018013003/Apache-ASP-2.62-0/blib/lib/Apache/ASP.pm line 2018.
 at /tmpfs/.cpan-build-cpansand/2018013003/Apache-ASP-2.62-0/blib/lib/Apache/ASP.pm line 2018.
	Apache::ASP::get_dir_config(Apache::ASP::CGI::Table=HASH(0x1e876b0), "StatINC") called at /tmpfs/.cpan-build-cpansand/2018013003/Apache-ASP-2.62-0/blib/lib/Apache/ASP.pm line 280
	Apache::ASP::new("Apache::ASP", Apache::ASP::CGI=HASH(0x19c66f8), "t/include_change.t") called at /tmpfs/.cpan-build-cpansand/2018013003/Apache-ASP-2.62-0/blib/lib/Apache/ASP.pm line 184
	Apache::ASP::handler(Apache::ASP::CGI=HASH(0x19c66f8)) called at /tmpfs/.cpan-build-cpansand/2018013003/Apache-ASP-2.62-0/blib/lib/Apache/ASP/CGI.pm line 40
	Apache::ASP::CGI::do_self("NoState", 1, "Debug", 0, "UseStrict", 0) called at t/include_change.t line 5
Use of uninitialized value $rv in lc at /tmpfs/.cpan-build-cpansand/2018013003/Apache-ASP-2.62-0/blib/lib/Apache/ASP.pm line 2018.
 at /tmpfs/.cpan-build-cpansand/2018013003/Apache-ASP-2.62-0/blib/lib/Apache/ASP.pm line 2018.
	Apache::ASP::get_dir_config(Apache::ASP::CGI::Table=HASH(0x1e876b0), "StatINCMatch") called at /tmpfs/.cpan-build-cpansand/2018013003/Apache-ASP-2.62-0/blib/lib/Apache/ASP.pm line 280
	Apache::ASP::new("Apache::ASP", Apache::ASP::CGI=HASH(0x19c66f8), "t/include_change.t") called at /tmpfs/.cpan-build-cpansand/2018013003/Apache-ASP-2.62-0/blib/lib/Apache/ASP.pm line 184
	Apache::ASP::handler(Apache::ASP::CGI=HASH(0x19c66f8)) called at /tmpfs/.cpan-build-cpansand/2018013003/Apache-ASP-2.62-0/blib/lib/Apache/ASP/CGI.pm line 40
	Apache::ASP::CGI::do_self("NoState", 1, "Debug", 0, "UseStrict", 0) called at t/include_change.t line 5
Use of uninitialized value $rv in lc at /tmpfs/.cpan-build-cpansand/2018013003/Apache-ASP-2.62-0/blib/lib/Apache/ASP.pm line 2018.
 at /tmpfs/.cpan-build-cpansand/2018013003/Apache-ASP-2.62-0/blib/lib/Apache/ASP.pm line 2018.
	Apache::ASP::get_dir_config(Apache::ASP::CGI::Table=HASH(0x1e876b0), "XSLT") called at /tmpfs/.cpan-build-cpansand/2018013003/Apache-ASP-2.62-0/blib/lib/Apache/ASP.pm line 280
	Apache::ASP::new("Apache::ASP", Apache::ASP::CGI=HASH(0x19c66f8), "t/include_change.t") called at /tmpfs/.cpan-build-cpansand/2018013003/Apache-ASP-2.62-0/blib/lib/Apache/ASP.pm line 184
	Apache::ASP::handler(Apache::ASP::CGI=HASH(0x19c66f8)) called at /tmpfs/.cpan-build-cpansand/2018013003/Apache-ASP-2.62-0/blib/lib/Apache/ASP/CGI.pm line 40
	Apache::ASP::CGI::do_self("NoState", 1, "Debug", 0, "UseStrict", 0) called at t/include_change.t line 5
Use of uninitialized value $rv in lc at /tmpfs/.cpan-build-cpansand/2018013003/Apache-ASP-2.62-0/blib/lib/Apache/ASP.pm line 2018.
 at /tmpfs/.cpan-build-cpansand/2018013003/Apache-ASP-2.62-0/blib/lib/Apache/ASP.pm line 2018.
	Apache::ASP::get_dir_config(Apache::ASP::CGI::Table=HASH(0x1e876b0), "Filter") called at /tmpfs/.cpan-build-cpansand/2018013003/Apache-ASP-2.62-0/blib/lib/Apache/ASP.pm line 326
	Apache::ASP::new("Apache::ASP", Apache::ASP::CGI=HASH(0x19c66f8), "t/include_change.t") called at /tmpfs/.cpan-build-cpansand/2018013003/Apache-ASP-2.62-0/blib/lib/Apache/ASP.pm line 184
	Apache::ASP::handler(Apache::ASP::CGI=HASH(0x19c66f8)) called at /tmpfs/.cpan-build-cpansand/2018013003/Apache-ASP-2.62-0/blib/lib/Apache/ASP/CGI.pm line 40
	Apache::ASP::CGI::do_self("NoState", 1, "Debug", 0, "UseStrict", 0) called at t/include_change.t line 5
Use of uninitialized value $rv in lc at /tmpfs/.cpan-build-cpansand/2018013003/Apache-ASP-2.62-0/blib/lib/Apache/ASP.pm line 2018.
 at /tmpfs/.cpan-build-cpansand/2018013003/Apache-ASP-2.62-0/blib/lib/Apache/ASP.pm line 2018.
	Apache::ASP::get_dir_config(Apache::ASP::CGI::Table=HASH(0x1e876b0), "CompressGzip") called at /tmpfs/.cpan-build-cpansand/2018013003/Apache-ASP-2.62-0/blib/lib/Apache/ASP.pm line 353
	Apache::ASP::new("Apache::ASP", Apache::ASP::CGI=HASH(0x19c66f8), "t/include_change.t") called at /tmpfs/.cpan-build-cpansand/2018013003/Apache-ASP-2.62-0/blib/lib/Apache/ASP.pm line 184
	Apache::ASP::handler(Apache::ASP::CGI=HASH(0x19c66f8)) called at /tmpfs/.cpan-build-cpansand/2018013003/Apache-ASP-2.62-0/blib/lib/Apache/ASP/CGI.pm line 40
	Apache::ASP::CGI::do_self("NoState", 1, "Debug", 0, "UseStrict", 0) called at t/include_change.t line 5
t/include_change.t ....... ok
t/include_dir_error.t .... ok
t/include_runtime.t ...... ok
t/inode_names.t .......... ok
Use of uninitialized value $rv in lc at /tmpfs/.cpan-build-cpansand/2018013003/Apache-ASP-2.62-0/blib/lib/Apache/ASP.pm line 2018.
Use of uninitialized value $rv in lc at /tmpfs/.cpan-build-cpansand/2018013003/Apache-ASP-2.62-0/blib/lib/Apache/ASP.pm line 2018.
Use of uninitialized value $rv in lc at /tmpfs/.cpan-build-cpansand/2018013003/Apache-ASP-2.62-0/blib/lib/Apache/ASP.pm line 2018.
Use of uninitialized value $rv in lc at /tmpfs/.cpan-build-cpansand/2018013003/Apache-ASP-2.62-0/blib/lib/Apache/ASP.pm line 2018.
Use of uninitialized value $rv in lc at /tmpfs/.cpan-build-cpansand/2018013003/Apache-ASP-2.62-0/blib/lib/Apache/ASP.pm line 2018.
Use of uninitialized value $rv in lc at /tmpfs/.cpan-build-cpansand/2018013003/Apache-ASP-2.62-0/blib/lib/Apache/ASP.pm line 2018.
Use of uninitialized value $rv in lc at /tmpfs/.cpan-build-cpansand/2018013003/Apache-ASP-2.62-0/blib/lib/Apache/ASP.pm line 2018.
Use of uninitialized value $rv in lc at /tmpfs/.cpan-build-cpansand/2018013003/Apache-ASP-2.62-0/blib/lib/Apache/ASP.pm line 2018.
Use of uninitialized value $rv in lc at /tmpfs/.cpan-build-cpansand/2018013003/Apache-ASP-2.62-0/blib/lib/Apache/ASP.pm line 2018.
t/load.t ................. ok
t/long_names.t ........... ok
t/loops.t ................ ok
Use of uninitialized value $rv in lc at /tmpfs/.cpan-build-cpansand/2018013003/Apache-ASP-2.62-0/blib/lib/Apache/ASP.pm line 2018.
Use of uninitialized value $rv in lc at /tmpfs/.cpan-build-cpansand/2018013003/Apache-ASP-2.62-0/blib/lib/Apache/ASP.pm line 2018.
Use of uninitialized value $rv in lc at /tmpfs/.cpan-build-cpansand/2018013003/Apache-ASP-2.62-0/blib/lib/Apache/ASP.pm line 2018.
Use of uninitialized value $rv in lc at /tmpfs/.cpan-build-cpansand/2018013003/Apache-ASP-2.62-0/blib/lib/Apache/ASP.pm line 2018.
Use of uninitialized value $rv in lc at /tmpfs/.cpan-build-cpansand/2018013003/Apache-ASP-2.62-0/blib/lib/Apache/ASP.pm line 2018.
Use of uninitialized value $rv in lc at /tmpfs/.cpan-build-cpansand/2018013003/Apache-ASP-2.62-0/blib/lib/Apache/ASP.pm line 2018.
Use of uninitialized value $rv in lc at /tmpfs/.cpan-build-cpansand/2018013003/Apache-ASP-2.62-0/blib/lib/Apache/ASP.pm line 2018.
Use of uninitialized value $rv in lc at /tmpfs/.cpan-build-cpansand/2018013003/Apache-ASP-2.62-0/blib/lib/Apache/ASP.pm line 2018.
Use of uninitialized value $rv in lc at /tmpfs/.cpan-build-cpansand/2018013003/Apache-ASP-2.62-0/blib/lib/Apache/ASP.pm line 2018.
Use of uninitialized value $rv in lc at /tmpfs/.cpan-build-cpansand/2018013003/Apache-ASP-2.62-0/blib/lib/Apache/ASP.pm line 2018.
t/mail_error.t ........... ok
t/no_cache.t ............. ok
t/raw.t .................. ok
t/raw_include.t .......... ok
Use of uninitialized value $rv in lc at /tmpfs/.cpan-build-cpansand/2018013003/Apache-ASP-2.62-0/blib/lib/Apache/ASP.pm line 2018.
Use of uninitialized value $rv in lc at /tmpfs/.cpan-build-cpansand/2018013003/Apache-ASP-2.62-0/blib/lib/Apache/ASP.pm line 2018.
Use of uninitialized value $rv in lc at /tmpfs/.cpan-build-cpansand/2018013003/Apache-ASP-2.62-0/blib/lib/Apache/ASP.pm line 2018.
Use of uninitialized value $rv in lc at /tmpfs/.cpan-build-cpansand/2018013003/Apache-ASP-2.62-0/blib/lib/Apache/ASP.pm line 2018.
Use of uninitialized value $rv in lc at /tmpfs/.cpan-build-cpansand/2018013003/Apache-ASP-2.62-0/blib/lib/Apache/ASP.pm line 2018.
Use of uninitialized value $rv in lc at /tmpfs/.cpan-build-cpansand/2018013003/Apache-ASP-2.62-0/blib/lib/Apache/ASP.pm line 2018.
Use of uninitialized value $rv in lc at /tmpfs/.cpan-build-cpansand/2018013003/Apache-ASP-2.62-0/blib/lib/Apache/ASP.pm line 2018.
Use of uninitialized value $rv in lc at /tmpfs/.cpan-build-cpansand/2018013003/Apache-ASP-2.62-0/blib/lib/Apache/ASP.pm line 2018.
Use of uninitialized value $rv in lc at /tmpfs/.cpan-build-cpansand/2018013003/Apache-ASP-2.62-0/blib/lib/Apache/ASP.pm line 2018.
Use of uninitialized value $rv in lc at /tmpfs/.cpan-build-cpansand/2018013003/Apache-ASP-2.62-0/blib/lib/Apache/ASP.pm line 2018.
Use of uninitialized value $rv in lc at /tmpfs/.cpan-build-cpansand/2018013003/Apache-ASP-2.62-0/blib/lib/Apache/ASP.pm line 2018.
Use of uninitialized value $rv in lc at /tmpfs/.cpan-build-cpansand/2018013003/Apache-ASP-2.62-0/blib/lib/Apache/ASP.pm line 2018.
Use of uninitialized value $rv in lc at /tmpfs/.cpan-build-cpansand/2018013003/Apache-ASP-2.62-0/blib/lib/Apache/ASP.pm line 2018.
Use of uninitialized value $rv in lc at /tmpfs/.cpan-build-cpansand/2018013003/Apache-ASP-2.62-0/blib/lib/Apache/ASP.pm line 2018.
Use of uninitialized value $rv in lc at /tmpfs/.cpan-build-cpansand/2018013003/Apache-ASP-2.62-0/blib/lib/Apache/ASP.pm line 2018.
Use of uninitialized value $rv in lc at /tmpfs/.cpan-build-cpansand/2018013003/Apache-ASP-2.62-0/blib/lib/Apache/ASP.pm line 2018.
Use of uninitialized value $rv in lc at /tmpfs/.cpan-build-cpansand/2018013003/Apache-ASP-2.62-0/blib/lib/Apache/ASP.pm line 2018.
Use of uninitialized value $rv in lc at /tmpfs/.cpan-build-cpansand/2018013003/Apache-ASP-2.62-0/blib/lib/Apache/ASP.pm line 2018.
Use of uninitialized value $rv in lc at /tmpfs/.cpan-build-cpansand/2018013003/Apache-ASP-2.62-0/blib/lib/Apache/ASP.pm line 2018.
Use of uninitialized value $rv in lc at /tmpfs/.cpan-build-cpansand/2018013003/Apache-ASP-2.62-0/blib/lib/Apache/ASP.pm line 2018.
t/reload_global_asa.t .... ok
t/req_params_none.t ...... ok
t/request.t .............. ok
t/response.t ............. ok
t/response_end.t ......... ok
t/same_name.t ............ ok
t/server.t ............... ok
t/server_mail.t .......... ok
t/server_transfer.t ...... ok
t/session.t .............. ok
t/session_events.t ....... ok
t/session_query_parse.t .. ok
t/session_serialize.t .... ok
t/share.t ................ ok
t/stat_inc.t ............. ok
t/strict_error.t ......... ok
t/taint_check.t .......... ok
t/unique_packages.t ...... ok
t/xmlsubs.t .............. ok
t/xmlsubs_aspargs.t ...... ok
t/xmlsubs_perlargs.t ..... ok
t/xmlsubsmatch.t ......... ok
All tests successful.
Files=47, Tests=341,  9 wallclock secs ( 0.08 usr  0.16 sys +  1.94 cusr  0.40 csys =  2.58 CPU)
Result: PASS

------------------------------
PREREQUISITES
------------------------------

Prerequisite modules loaded:

requires:

    Module              Need Have 
    ------------------- ---- -----
    Carp                0    1.38 
    Class::Struct       0    0.65 
    Data::Dumper        0    2.161
    Digest::MD5         0    2.55 
    Fcntl               0    1.13 
    File::Basename      0    2.85 
    MLDBM               0    2.05 
    MLDBM::Sync         0    0.30 
    SDBM_File           0    1.14 

build_requires:

    Module              Need Have 
    ------------------- ---- -----
    ExtUtils::MakeMaker 0    7.30 


------------------------------
ENVIRONMENT AND OTHER CONTEXT
------------------------------

Environment variables:

    LANG = C
    LC_ALL = de_DE.UTF-8
    PATH = /usr/local/bin:/usr/bin:/bin:/usr/local/sbin:/usr/sbin:/sbin:/home/cpansand/bin/linux-gnu:/home/cpansand/bin/sh:/home/cpansand/bin:/usr/games:/home/cpansand/devel:/home/eserte/src/srezic-misc/scripts
    PERL5LIB = 
    PERL5OPT = 
    PERL5_CPANPLUS_IS_RUNNING = 16349
    PERL5_CPAN_IS_RUNNING = 16349
    PERL5_CPAN_IS_RUNNING_IN_RECURSION = 7414,16349
    PERLDOC = -MPod::Perldoc::ToTextOverstrike
    PERL_BATCH = yes
    PERL_CANARY_STABILITY_NOPROMPT = 1
    PERL_CPAN_REPORTER_CONFIG = /var/tmp/cpansmoker-1023/2018012909/cpanreporter_000_config.ini
    PERL_EXTUTILS_AUTOINSTALL = --defaultdeps
    PERL_PARALLEL_SMOKER = yes
    PERL_USE_UNSAFE_INC = 1
    SHELL = /bin/zsh
    TERM = screen
    TMPDIR = /var/tmp/cpansmoker-1023/2018012909

Perl special variables (and OS-specific diagnostics, for MSWin32):

    $^X = /bbbike/perl-5.27.8/bin/perl5.27.8
    $UID/$EUID = 1023 / 1023
    $GID = 1023 1023
    $EGID = 1023 1023

Perl module toolchain versions installed:

    Module              Have    
    ------------------- --------
    CPAN                2.20    
    CPAN::Meta          2.150010
    Cwd                 3.62    
    ExtUtils::CBuilder  0.280230
    ExtUtils::Command   7.30    
    ExtUtils::Install   2.14    
    ExtUtils::MakeMaker 7.30    
    ExtUtils::Manifest  1.70    
    ExtUtils::ParseXS   3.35    
    File::Spec          3.62    
    JSON                2.97001 
    JSON::PP            2.97001 
    Module::Build       0.4224  
    Module::Signature   0.81    
    Parse::CPAN::Meta   2.150010
    Test::Harness       3.39    
    Test::More          1.302120
    YAML                1.24    
    YAML::Syck          1.30    
    version             0.9918  


--

Summary of my perl5 (revision 5 version 27 subversion 8) configuration:
   
  Platform:
    osname=linux
    osvers=3.16.0-4-amd64
    archname=x86_64-linux
    uname='linux eserte 3.16.0-4-amd64 #1 smp debian 3.16.51-2 (2017-12-03) x86_64 gnulinux '
    config_args='-ds -e -Dprefix=/opt/perl-5.27.8 -Dusedevel -Dusemallocwrap=no -Dcf_email=srezic@cpan.org'
    hint=recommended
    useposix=true
    d_sigaction=define
    useithreads=undef
    usemultiplicity=undef
    use64bitint=define
    use64bitall=define
    uselongdouble=undef
    usemymalloc=n
    default_inc_excludes_dot=define
    bincompat5005=undef
  Compiler:
    cc='cc'
    ccflags ='-fwrapv -fno-strict-aliasing -pipe -fstack-protector-strong -I/usr/local/include -D_LARGEFILE_SOURCE -D_FILE_OFFSET_BITS=64 -D_FORTIFY_SOURCE=2'
    optimize='-O2'
    cppflags='-fwrapv -fno-strict-aliasing -pipe -fstack-protector-strong -I/usr/local/include'
    ccversion=''
    gccversion='4.9.2'
    gccosandvers=''
    intsize=4
    longsize=8
    ptrsize=8
    doublesize=8
    byteorder=12345678
    doublekind=3
    d_longlong=define
    longlongsize=8
    d_longdbl=define
    longdblsize=16
    longdblkind=3
    ivtype='long'
    ivsize=8
    nvtype='double'
    nvsize=8
    Off_t='off_t'
    lseeksize=8
    alignbytes=8
    prototype=define
  Linker and Libraries:
    ld='cc'
    ldflags =' -fstack-protector-strong -L/usr/local/lib'
    libpth=/usr/local/lib /usr/lib/gcc/x86_64-linux-gnu/4.9/include-fixed /usr/include/x86_64-linux-gnu /usr/lib /lib/x86_64-linux-gnu /lib/../lib /usr/lib/x86_64-linux-gnu /usr/lib/../lib /lib
    libs=-lpthread -lnsl -lgdbm -ldb -ldl -lm -lcrypt -lutil -lc -lgdbm_compat
    perllibs=-lpthread -lnsl -ldl -lm -lcrypt -lutil -lc
    libc=libc-2.19.so
    so=so
    useshrplib=false
    libperl=libperl.a
    gnulibc_version='2.19'
  Dynamic Linking:
    dlsrc=dl_dlopen.xs
    dlext=so
    d_dlsymun=undef
    ccdlflags='-Wl,-E'
    cccdlflags='-fPIC'
    lddlflags='-shared -O2 -L/usr/local/lib -fstack-protector-strong'


Characteristics of this binary (from libperl): 
  Compile-time options:
    HAS_TIMES
    PERLIO_LAYERS
    PERL_COPY_ON_WRITE
    PERL_DONT_CREATE_GVSV
    PERL_OP_PARENT
    PERL_PRESERVE_IVUV
    PERL_USE_DEVEL
    USE_64_BIT_ALL
    USE_64_BIT_INT
    USE_LARGE_FILES
    USE_LOCALE
    USE_LOCALE_COLLATE
    USE_LOCALE_CTYPE
    USE_LOCALE_NUMERIC
    USE_LOCALE_TIME
    USE_PERLIO
    USE_PERL_ATOF
  Built under linux
  Compiled at Jan 20 2018 08:24:13
  %ENV:
    PERL5LIB=""
    PERL5OPT=""
    PERL5_CPANPLUS_IS_RUNNING="16349"
    PERL5_CPAN_IS_RUNNING="16349"
    PERL5_CPAN_IS_RUNNING_IN_RECURSION="7414,16349"
    PERLDOC="-MPod::Perldoc::ToTextOverstrike"
    PERL_BATCH="yes"
    PERL_CANARY_STABILITY_NOPROMPT="1"
    PERL_CPAN_REPORTER_CONFIG="/var/tmp/cpansmoker-1023/2018012909/cpanreporter_000_config.ini"
    PERL_EXTUTILS_AUTOINSTALL="--defaultdeps"
    PERL_PARALLEL_SMOKER="yes"
    PERL_USE_UNSAFE_INC="1"
  @INC:
    /opt/perl-5.27.8/lib/site_perl/5.27.8/x86_64-linux
    /opt/perl-5.27.8/lib/site_perl/5.27.8
    /opt/perl-5.27.8/lib/5.27.8/x86_64-linux
    /opt/perl-5.27.8/lib/5.27.8
    .