Sah-Schemas-Perl v0.042 Perl 5 v5.32.1 i386-openbsd
- Status
- Pass
- From
- Alceu Rodrigues de Freitas Junior
- Dist
-
Sah-Schemas-Perl v0.042
- Platform
- Perl 5 v5.32.1 i386-openbsd
- Date
- 2022-06-07 20:45:22
- ID
- c0301230-e6a2-11ec-b737-db65ffa5fe2c
This distribution has been tested as part of the CPAN Testers
project, supporting the Perl programming language. See
http://wiki.cpantesters.org/ for more information or email
questions to cpan-testers-discuss@perl.org
--
Dear perlancar,
This is a computer-generated report for Sah-Schemas-Perl-0.042
on perl 5.32.1, created by CPAN-Reporter-1.2018.
Thank you for uploading your work to CPAN. Congratulations!
All tests were successful.
Sections of this report:
* Tester comments
* Program output
* Prerequisites
* Environment and other context
------------------------------
TESTER COMMENTS
------------------------------
Additional comments from tester:
this report is from an automated smoke testing program
and was not reviewed by a human for accuracy
------------------------------
PROGRAM OUTPUT
------------------------------
Output from '/usr/bin/make test':
PERL_DL_NONLAZY=1 "/usr/bin/perl" "-MExtUtils::Command::MM" "-MTest::Harness" "-e" "undef *Test::Harness::Switches; test_harness(0, 'blib/lib', 'blib/arch')" t/*.t
t/00-compile.t ................. ok
t/author-critic.t .............. skipped: these tests are for testing by the author
t/author-pod-coverage.t ........ skipped: these tests are for testing by the author
t/author-pod-syntax.t .......... skipped: these tests are for testing by the author
t/perl-distname.t .............. ok
t/perl-filename.t .............. ok
t/perl-funcname.t .............. ok
t/perl-modname.t ............... ok
t/perl-modname_or_prefix.t ..... ok
t/perl-modprefix.t ............. ok
t/perl-pm_filename.t ........... ok
t/perl-pod_filename.t .......... ok
t/perl-pod_or_pm_filename.t .... ok
t/perl-qualified_funcname.t .... ok
t/perl-unqualified_funcname.t .. ok
t/perl-version.t ............... ok
t/release-sah-schema.t ......... skipped: these tests are for release candidate testing
All tests successful.
Files=17, Tests=83, 6 wallclock secs ( 0.06 usr 0.09 sys + 2.81 cusr 2.61 csys = 5.57 CPU)
Result: PASS
------------------------------
PREREQUISITES
------------------------------
Prerequisite modules loaded:
requires:
Module Need Have
------------------------------------------------- -------- ----------
Complete::File 0.440 0.443
Complete::Module 0.262 0.262
Complete::Util 0.608 0.611
Data::Dmp 0.241 0.241
Module::CoreList 0 5.20220527
Perinci::Sub::XCompletion::perl_distname 0 0.102
Perinci::Sub::XCompletion::perl_modname 0 0.102
Perinci::Sub::XCompletion::perl_modname_or_prefix 0 0.102
Perinci::Sub::XCompletion::perl_modprefix 0 0.102
perl 5.010001 5.032001
Regexp::Pattern::Perl::Module 0 0.006
strict 0 1.11
warnings 0 1.47
build_requires:
Module Need Have
------------------------------------------------- -------- ----------
Data::Sah 0.911 0.911
ExtUtils::MakeMaker 0 7.64
File::Spec 0 3.78
IO::Handle 0 1.42
IPC::Open3 0 1.21
Module::Path::More 0.32 0.340
Test::More 0.98 1.302190
Test::Needs 0 0.002009
configure_requires:
Module Need Have
------------------------------------------------- -------- ----------
ExtUtils::MakeMaker 0 7.64
------------------------------
ENVIRONMENT AND OTHER CONTEXT
------------------------------
Environment variables:
AUTOMATED_TESTING = 1
PATH = /home/goku/perl5/bin:/usr/bin:/bin:/usr/sbin:/sbin:/usr/X11R6/bin:/usr/local/bin:/usr/local/sbin
PERL5LIB = /home/goku/perl5/lib/perl5
PERL5OPT =
PERL5_CPANPLUS_IS_RUNNING = 45398
PERL5_CPAN_IS_RUNNING = 45398
PERL5_CPAN_IS_RUNNING_IN_RECURSION = 84297,45398
PERL_CR_SMOKER_CURRENT = App-CPANChangesUtils-0.074
PERL_EXTUTILS_AUTOINSTALL = --defaultdeps
PERL_LOCAL_LIB_ROOT = /home/goku/perl5
PERL_MB_OPT = --install_base "/home/goku/perl5"
PERL_MM_OPT = INSTALL_BASE=/home/goku/perl5
PERL_MM_USE_DEFAULT = 1
PERL_USE_UNSAFE_INC = 1
SHELL = /bin/ksh
TERM = xterm-256color
Perl special variables (and OS-specific diagnostics, for MSWin32):
$^X = /usr/bin/perl
$UID/$EUID = 1001 / 1001
$GID = 1002 1002 1001
$EGID = 1002 1002 1001
Perl module toolchain versions installed:
Module Have
------------------- --------
CPAN 2.34
CPAN::Meta 2.150010
Cwd 3.78
ExtUtils::CBuilder 0.280236
ExtUtils::Command 7.64
ExtUtils::Install 2.20
ExtUtils::MakeMaker 7.64
ExtUtils::Manifest 1.72
ExtUtils::ParseXS 3.44
File::Spec 3.78
JSON 4.06
JSON::PP 4.09
Module::Build 0.4231
Module::Signature n/a
Parse::CPAN::Meta 2.150010
Test::Harness 3.44
Test::More 1.302190
YAML 1.30
YAML::Syck 1.34
version 0.9924
--
Summary of my perl5 (revision 5 version 32 subversion 1) configuration:
Platform:
osname=openbsd
osvers=7.1
archname=i386-openbsd
uname='openbsd'
config_args='-dse -Dopenbsd_distribution=defined -Dmksymlinks'
hint=recommended
useposix=true
d_sigaction=define
useithreads=undef
usemultiplicity=undef
use64bitint=undef
use64bitall=undef
uselongdouble=undef
usemymalloc=n
default_inc_excludes_dot=define
bincompat5005=undef
Compiler:
cc='cc'
ccflags ='-DNO_LOCALE_NUMERIC -DNO_LOCALE_COLLATE -fno-strict-aliasing -fno-delete-null-pointer-checks -pipe -fstack-protector-strong -I/usr/local/include'
optimize='-O2'
cppflags='-DBIG_TIME -DNO_LOCALE_NUMERIC -DNO_LOCALE_COLLATE -fno-strict-aliasing -fno-delete-null-pointer-checks -pipe -fstack-protector-strong -I/usr/local/include'
ccversion=''
gccversion='OpenBSD Clang 13.0.0'
gccosandvers=''
intsize=4
longsize=4
ptrsize=4
doublesize=8
byteorder=1234
doublekind=3
d_longlong=define
longlongsize=8
d_longdbl=define
longdblsize=12
longdblkind=3
ivtype='long'
ivsize=4
nvtype='double'
nvsize=8
Off_t='off_t'
lseeksize=8
alignbytes=4
prototype=define
Linker and Libraries:
ld='cc'
ldflags ='-Wl,-E -fstack-protector-strong -L/usr/local/lib'
libpth=/usr/lib /usr/lib/clang/13.0.0/lib /usr/lib
libs=-lm -lc
perllibs=-lm -lc
libc=/usr/lib/libc.so.96.1
so=so
useshrplib=true
libperl=libperl.so.22.0
gnulibc_version=''
Dynamic Linking:
dlsrc=dl_dlopen.xs
dlext=so
d_dlsymun=undef
ccdlflags='-Wl,-R/usr/libdata/perl5/i386-openbsd/CORE'
cccdlflags='-DPIC -fpic '
lddlflags='-shared -fpic -fstack-protector-strong -L/usr/local/lib'
Characteristics of this binary (from libperl):
Compile-time options:
HAS_TIMES
PERLIO_LAYERS
PERL_COPY_ON_WRITE
PERL_DONT_CREATE_GVSV
PERL_MALLOC_WRAP
PERL_OP_PARENT
PERL_PRESERVE_IVUV
USE_LARGE_FILES
USE_LOCALE
USE_LOCALE_CTYPE
USE_LOCALE_TIME
USE_PERLIO
USE_PERL_ATOF
Built under openbsd
%ENV:
PERL5LIB="/home/goku/perl5/lib/perl5"
PERL5OPT=""
PERL5_CPANPLUS_IS_RUNNING="45398"
PERL5_CPAN_IS_RUNNING="45398"
PERL5_CPAN_IS_RUNNING_IN_RECURSION="84297,45398"
PERL_CR_SMOKER_CURRENT="App-CPANChangesUtils-0.074"
PERL_EXTUTILS_AUTOINSTALL="--defaultdeps"
PERL_LOCAL_LIB_ROOT="/home/goku/perl5"
PERL_MB_OPT="--install_base "/home/goku/perl5""
PERL_MM_OPT="INSTALL_BASE=/home/goku/perl5"
PERL_MM_USE_DEFAULT="1"
PERL_USE_UNSAFE_INC="1"
@INC:
/home/goku/perl5/lib/perl5/i386-openbsd
/home/goku/perl5/lib/perl5
/usr/local/libdata/perl5/site_perl/i386-openbsd
/usr/local/libdata/perl5/site_perl
/usr/libdata/perl5/i386-openbsd
/usr/libdata/perl5
.