Back
From: metabase:user:b53c7f44-4c0e-11e4-9ced-a04ade49192c
Subject: PASS Test-MockDBI-0.70 v5.21.10 GNU/Linux
Date: 2015-03-06T08:35:31Z
This distribution has been tested as part of the CPAN Testers
project, supporting the Perl programming language. See
http://wiki.cpantesters.org/ for more information or email
questions to cpan-testers-discuss@perl.org
--
Dear Andreas Faafeng,
This is a computer-generated report for Test-MockDBI-0.70
on perl 5.21.10, created by CPAN-Reporter-1.2011.
Thank you for uploading your work to CPAN. Congratulations!
All tests were successful.
Sections of this report:
* Tester comments
* Program output
* Prerequisites
* Environment and other context
------------------------------
TESTER COMMENTS
------------------------------
Additional comments from tester:
this report is from an automated smoke testing program
and was not reviewed by a human for accuracy
------------------------------
PROGRAM OUTPUT
------------------------------
Output from '/usr/bin/make test':
PERL_DL_NONLAZY=1 "/opt/perl492-32-32-O0-5.21.10/bin/perl" "-MExtUtils::Command::MM" "-MTest::Harness" "-e" "undef *Test::Harness::Switches; test_harness(0, 'blib/lib', 'blib/arch')" t/*.t
# Testing Test::MockDBI 0.70, Perl 5.021010, /opt/perl492-32-32-O0-5.21.10/bin/perl, archname=i686-linux-thread-multi-ld, byteorder=1234
t/00-env.t ........................... ok
t/000-use.t .......................... ok
t/001-connect.t ...................... ok
t/002-prepare.t ...................... ok
t/003-ping.t ......................... ok
t/004-execute.t ...................... ok
t/005-fetchrow_hashref.t ............. ok
t/006-bind_param.t ................... ok
t/007-bind_param_inout.t ............. ok
t/008-rows.t ......................... ok
Constants from lexical variables potentially modified elsewhere are deprecated at /opt/perl492-32-32-O0-5.21.10/lib/5.21.10/constant.pm line 140.
t/009-auto_commit.t .................. ok
t/010-fetchrow_arrayref.t ............ ok
t/011-prepare_cached.t ............... ok
t/012-do.t ........................... ok
Constants from lexical variables potentially modified elsewhere are deprecated at /opt/perl492-32-32-O0-5.21.10/lib/5.21.10/constant.pm line 140.
t/100-set-fake-retval.t .............. ok
t/101-set-fake-retval-coderef.t ...... ok
Constants from lexical variables potentially modified elsewhere are deprecated at /opt/perl492-32-32-O0-5.21.10/lib/5.21.10/constant.pm line 140.
t/102-set-inout-value.t .............. ok
Constants from lexical variables potentially modified elsewhere are deprecated at /opt/perl492-32-32-O0-5.21.10/lib/5.21.10/constant.pm line 140.
t/103-bad_method.t ................... ok
Constants from lexical variables potentially modified elsewhere are deprecated at /opt/perl492-32-32-O0-5.21.10/lib/5.21.10/constant.pm line 140.
t/104-bad-params.t ................... ok
t/800-die-on-unsupported-method.t .... ok
Constants from lexical variables potentially modified elsewhere are deprecated at /opt/perl492-32-32-O0-5.21.10/lib/5.21.10/constant.pm line 140.
t/bad_param-1.t ...................... ok
Constants from lexical variables potentially modified elsewhere are deprecated at /opt/perl492-32-32-O0-5.21.10/lib/5.21.10/constant.pm line 140.
t/bad_param-2.t ...................... ok
Constants from lexical variables potentially modified elsewhere are deprecated at /opt/perl492-32-32-O0-5.21.10/lib/5.21.10/constant.pm line 140.
t/bad_param-ok-2of3.t ................ ok
Constants from lexical variables potentially modified elsewhere are deprecated at /opt/perl492-32-32-O0-5.21.10/lib/5.21.10/constant.pm line 140.
t/bad_param-ok-none.t ................ ok
Constants from lexical variables potentially modified elsewhere are deprecated at /opt/perl492-32-32-O0-5.21.10/lib/5.21.10/constant.pm line 140.
t/coderef-array-1.t .................. ok
Constants from lexical variables potentially modified elsewhere are deprecated at /opt/perl492-32-32-O0-5.21.10/lib/5.21.10/constant.pm line 140.
t/coderef-array-many.t ............... ok
Constants from lexical variables potentially modified elsewhere are deprecated at /opt/perl492-32-32-O0-5.21.10/lib/5.21.10/constant.pm line 140.
t/coderef-scalar-0.t ................. ok
Constants from lexical variables potentially modified elsewhere are deprecated at /opt/perl492-32-32-O0-5.21.10/lib/5.21.10/constant.pm line 140.
t/coderef-scalar-1.t ................. ok
Constants from lexical variables potentially modified elsewhere are deprecated at /opt/perl492-32-32-O0-5.21.10/lib/5.21.10/constant.pm line 140.
t/coderef-scalar-many.t .............. ok
t/connect.t .......................... ok
Constants from lexical variables potentially modified elsewhere are deprecated at /opt/perl492-32-32-O0-5.21.10/lib/5.21.10/constant.pm line 140.
t/fetch-0.t .......................... ok
Constants from lexical variables potentially modified elsewhere are deprecated at /opt/perl492-32-32-O0-5.21.10/lib/5.21.10/constant.pm line 140.
t/fetch-empty.t ...................... ok
Constants from lexical variables potentially modified elsewhere are deprecated at /opt/perl492-32-32-O0-5.21.10/lib/5.21.10/constant.pm line 140.
t/fetchall_arrayref-0.t .............. ok
Constants from lexical variables potentially modified elsewhere are deprecated at /opt/perl492-32-32-O0-5.21.10/lib/5.21.10/constant.pm line 140.
t/fetchall_arrayref-1.t .............. ok
Constants from lexical variables potentially modified elsewhere are deprecated at /opt/perl492-32-32-O0-5.21.10/lib/5.21.10/constant.pm line 140.
t/fetchall_arrayref-many.t ........... ok
Constants from lexical variables potentially modified elsewhere are deprecated at /opt/perl492-32-32-O0-5.21.10/lib/5.21.10/constant.pm line 140.
t/fetchrow_array-0.t ................. ok
Constants from lexical variables potentially modified elsewhere are deprecated at /opt/perl492-32-32-O0-5.21.10/lib/5.21.10/constant.pm line 140.
t/fetchrow_array-1.t ................. ok
Constants from lexical variables potentially modified elsewhere are deprecated at /opt/perl492-32-32-O0-5.21.10/lib/5.21.10/constant.pm line 140.
t/fetchrow_array-different-sql.t ..... ok
Constants from lexical variables potentially modified elsewhere are deprecated at /opt/perl492-32-32-O0-5.21.10/lib/5.21.10/constant.pm line 140.
t/fetchrow_array-many.t .............. ok
Constants from lexical variables potentially modified elsewhere are deprecated at /opt/perl492-32-32-O0-5.21.10/lib/5.21.10/constant.pm line 140.
t/fetchrow_arrayref-0.t .............. ok
Constants from lexical variables potentially modified elsewhere are deprecated at /opt/perl492-32-32-O0-5.21.10/lib/5.21.10/constant.pm line 140.
t/fetchrow_arrayref-1.t .............. ok
Constants from lexical variables potentially modified elsewhere are deprecated at /opt/perl492-32-32-O0-5.21.10/lib/5.21.10/constant.pm line 140.
t/fetchrow_arrayref-different-sql.t .. ok
Constants from lexical variables potentially modified elsewhere are deprecated at /opt/perl492-32-32-O0-5.21.10/lib/5.21.10/constant.pm line 140.
t/fetchrow_arrayref-many.t ........... ok
Constants from lexical variables potentially modified elsewhere are deprecated at /opt/perl492-32-32-O0-5.21.10/lib/5.21.10/constant.pm line 140.
t/fetchrow_hashref-1.t ............... ok
Constants from lexical variables potentially modified elsewhere are deprecated at /opt/perl492-32-32-O0-5.21.10/lib/5.21.10/constant.pm line 140.
t/fetchrow_hashref-2.t ............... ok
Constants from lexical variables potentially modified elsewhere are deprecated at /opt/perl492-32-32-O0-5.21.10/lib/5.21.10/constant.pm line 140.
t/fetchrow_hashref-many.t ............ ok
Constants from lexical variables potentially modified elsewhere are deprecated at /opt/perl492-32-32-O0-5.21.10/lib/5.21.10/constant.pm line 140.
t/set_rows-different-numeric.t ....... ok
Constants from lexical variables potentially modified elsewhere are deprecated at /opt/perl492-32-32-O0-5.21.10/lib/5.21.10/constant.pm line 140.
t/set_rows-no-arg.t .................. ok
Constants from lexical variables potentially modified elsewhere are deprecated at /opt/perl492-32-32-O0-5.21.10/lib/5.21.10/constant.pm line 140.
t/set_rows-numeric.t ................. ok
Constants from lexical variables potentially modified elsewhere are deprecated at /opt/perl492-32-32-O0-5.21.10/lib/5.21.10/constant.pm line 140.
t/set_rows-undef.t ................... ok
All tests successful.
Files=50, Tests=431, 28 wallclock secs ( 1.05 usr 0.15 sys + 19.51 cusr 1.32 csys = 22.03 CPU)
Result: PASS
------------------------------
PREREQUISITES
------------------------------
Prerequisite modules loaded:
requires:
Module Need Have
--------------------- ---- ----------
Carp 0 1.3301
Clone 0 0.38
DBI 0 1.633
File::Spec::Functions 0 3.47
Scalar::Util 0 1.41
Test::Differences 0 0.63
Test::MockObject 0.14 1.20140408
Test::More 0 1.001014
Test::Warn 0 0.30
build_requires:
Module Need Have
--------------------- ---- ----------
CPAN::Meta 0 2.143240
configure_requires:
Module Need Have
--------------------- ---- ----------
ExtUtils::MakeMaker 0 7.04
------------------------------
ENVIRONMENT AND OTHER CONTEXT
------------------------------
Environment variables:
AUTOMATED_TESTING = 1
HARNESS_ACTIVE = 1
HARNESS_PLUGINS = ColorSummary ColorFileVerdicts
HARNESS_VERBOSE = 1
LANG = en_US.utf8
MB_TEST_EXPERIMENTAL = 1
NONINTERACTIVE_TESTING = 1
PATH = /usr/lib/qt-3.3/bin:/usr/kerberos/sbin:/usr/kerberos/bin:/usr/lib/ccache:/usr/local/sbin:/usr/sbin:/sbin:/usr/local/bin:/usr/bin:/bin:/usr/lib/firebird/bin:/opt/real/RealPlayer:/root/bin:/usr/lib/firebird/bin:/opt/real/RealPlayer
PERL5LIB =
PERL5OPT =
PERL5_CPANPLUS_IS_RUNNING = 28807
PERL5_CPAN_IS_RUNNING = 28807
PERL_ANYEVENT_MODEL = POE
PERL_EXTUTILS_AUTOINSTALL = --defaultdeps
PERL_MM_USE_DEFAULT = 1
SHELL = /bin/bash
TERM = xterm
Perl special variables (and OS-specific diagnostics, for MSWin32):
$^X = /opt/perl492-32-32-O0-5.21.10/bin/perl
$UID/$EUID = 0 / 0
$GID = 0 0 1 2 3 4 6 10
$EGID = 0 0 1 2 3 4 6 10
Perl module toolchain versions installed:
Module Have
------------------- --------
CPAN 2.05
CPAN::Meta 2.143240
Cwd 3.47
ExtUtils::CBuilder 0.280220
ExtUtils::Command 1.20
ExtUtils::Install 2.04
ExtUtils::MakeMaker 7.04
ExtUtils::Manifest 1.70
ExtUtils::ParseXS 3.24
File::Spec 3.47
JSON 2.90
JSON::PP 2.27300
Module::Build 0.4211
Module::Signature 0.73
Parse::CPAN::Meta 1.4414
Test::Harness 3.35
Test::More 1.001014
YAML 1.14
YAML::Syck 1.29
version 0.9912
--
Summary of my perl5 (revision 5 version 21 subversion 10) configuration:
Snapshot of: adc55e020e9dd90e3092c97ee7db0912097c4a7e
Platform:
osname=linux, osvers=2.6.32.63, archname=i686-linux-thread-multi-ld
uname='linux localhost.localdomain 2.6.32.63 #2 smp fri jan 30 10:45:01 pst 2015 i686 i686 i386 gnulinux '
config_args='-Dcc=/opt/492/bin/gcc -Dprefix=/opt/perl492-32-32-O0-5.21.10 -DDEBUGGING'
hint=recommended, useposix=true, d_sigaction=define
useithreads=define, usemultiplicity=define
use64bitint=undef, use64bitall=undef, uselongdouble=define
usemymalloc=y, bincompat5005=undef
Compiler:
cc='/opt/492/bin/gcc', ccflags ='-D_REENTRANT -D_GNU_SOURCE -fwrapv -DDEBUGGING -fno-strict-aliasing -pipe -fstack-protector-strong -I/usr/local/include -D_LARGEFILE_SOURCE -D_FILE_OFFSET_BITS=64 -D_FORTIFY_SOURCE=2',
optimize='-O0 -g',
cppflags='-D_REENTRANT -D_GNU_SOURCE -fwrapv -DDEBUGGING -fno-strict-aliasing -pipe -fstack-protector-strong -I/usr/local/include'
ccversion='', gccversion='4.9.2', gccosandvers=''
intsize=4, longsize=4, ptrsize=4, doublesize=8, byteorder=1234, doublekind=3
d_longlong=define, longlongsize=8, d_longdbl=define, longdblsize=12, longdblkind=3
ivtype='long', ivsize=4, nvtype='long double', nvsize=12, Off_t='off_t', lseeksize=8
alignbytes=4, prototype=define
Linker and Libraries:
ld='/opt/492/bin/gcc', ldflags =' -fstack-protector-strong -L/usr/local/lib'
libpth=/usr/local/lib /opt/492/lib /opt/492/lib/gcc/i686-pc-linux-gnu/4.9.2/include-fixed /usr/lib /lib
libs=-lpthread -lnsl -lgdbm -ldb -ldl -lm -lcrypt -lutil -lc
perllibs=-lpthread -lnsl -ldl -lm -lcrypt -lutil -lc
libc=libc-2.8.so, so=so, useshrplib=true, libperl=libperl.so
gnulibc_version='2.8'
Dynamic Linking:
dlsrc=dl_dlopen.xs, dlext=so, d_dlsymun=undef, ccdlflags='-Wl,-E -Wl,-rpath,/opt/perl492-32-32-O0-5.21.10/lib/5.21.10/i686-linux-thread-multi-ld/CORE'
cccdlflags='-fPIC', lddlflags='-shared -O0 -g -L/usr/local/lib -fstack-protector-strong'
Characteristics of this binary (from libperl):
Compile-time options: DEBUGGING HAS_TIMES MULTIPLICITY MYMALLOC
PERLIO_LAYERS PERL_DONT_CREATE_GVSV
PERL_HASH_FUNC_ONE_AT_A_TIME_HARD
PERL_IMPLICIT_CONTEXT PERL_MALLOC_WRAP
PERL_NEW_COPY_ON_WRITE PERL_PRESERVE_IVUV
PERL_TRACK_MEMPOOL USE_FAST_STDIO USE_ITHREADS
USE_LARGE_FILES USE_LOCALE USE_LOCALE_COLLATE
USE_LOCALE_CTYPE USE_LOCALE_NUMERIC USE_LOCALE_TIME
USE_LONG_DOUBLE USE_PERLIO USE_PERL_ATOF
USE_REENTRANT_API
Built under linux
Compiled at Feb 27 2015 00:52:50
%ENV:
PERL5LIB=""
PERL5OPT=""
PERL5_CPANPLUS_IS_RUNNING="28807"
PERL5_CPAN_IS_RUNNING="28807"
PERL_ANYEVENT_MODEL="POE"
PERL_EXTUTILS_AUTOINSTALL="--defaultdeps"
PERL_MM_USE_DEFAULT="1"
@INC:
/opt/perl492-32-32-O0-5.21.10/lib/site_perl/5.21.10/i686-linux-thread-multi-ld
/opt/perl492-32-32-O0-5.21.10/lib/site_perl/5.21.10
/opt/perl492-32-32-O0-5.21.10/lib/5.21.10/i686-linux-thread-multi-ld
/opt/perl492-32-32-O0-5.21.10/lib/5.21.10
.