Test-Script v1.29 Perl 5 v5.32.1 darwin-2level

Status
Pass
From
Stanislaw Pusep
Dist
Test-Script v1.29
Platform
Perl 5 v5.32.1 darwin-2level
Date
2021-05-15 10:38:56
ID
c047be78-b569-11eb-8e8c-a10f12e322f8
This distribution has been tested as part of the CPAN Testers
project, supporting the Perl programming language.  See
http://wiki.cpantesters.org/ for more information or email
questions to cpan-testers-discuss@perl.org


--
Dear PLICEASE,

This is a computer-generated report for Test-Script-1.29
on perl 5.32.1, created by App::cpanminus::reporter 0.17 (1.7044).

Thank you for uploading your work to CPAN.  Congratulations!
All tests were successful.

Sections of this report:

    * Tester comments
    * Program output
    * Prerequisites
    * Environment and other context

------------------------------
TESTER COMMENTS
------------------------------

Additional comments from tester:

none provided

------------------------------
PROGRAM OUTPUT
------------------------------

Output from '':

Building and testing Test-Script-1.29
cp lib/Test/Script.pm blib/lib/Test/Script.pm
Manifying 1 pod document
PERL_DL_NONLAZY=1 "/Users/stan/perl5/perlbrew/perls/perl-5.32.1/bin/perl" "-MExtUtils::Command::MM" "-MTest::Harness" "-e" "undef *Test::Harness::Switches; test_harness(0, 'blib/lib', 'blib/arch')" t/*.t
# 
# 
# 
# HARNESS_ACTIVE=1
# HARNESS_VERSION=3.42
# LANG=en_US.UTF-8
# LC_ALL=en_US.UTF-8
# LC_CTYPE=UTF-8
# LC_TERMINAL=iTerm2
# LC_TERMINAL_VERSION=3.4.6
# PERL5LIB=/Users/stan/.cpanm/work/1621075073.95834/Test-Script-1.29/blib/lib:/Users/stan/.cpanm/work/1621075073.95834/Test-Script-1.29/blib/arch
# PERLBREW_HOME=/Users/stan/.perlbrew
# PERLBREW_MANPATH=/Users/stan/perl5/perlbrew/perls/perl-5.32.1/man
# PERLBREW_PATH=/Users/stan/perl5/perlbrew/bin:/Users/stan/perl5/perlbrew/perls/perl-5.32.1/bin
# PERLBREW_PERL=perl-5.32.1
# PERLBREW_ROOT=/Users/stan/perl5/perlbrew
# PERLBREW_SHELLRC_VERSION=0.91
# PERLBREW_VERSION=0.91
# PERL_DL_NONLAZY=1
# PERL_MM_USE_DEFAULT=1
# PERL_USE_UNSAFE_INC=1
# SHELL=/usr/local/bin/zsh
# 
# 
# 
# PERL5LIB path
# /Users/stan/.cpanm/work/1621075073.95834/Test-Script-1.29/blib/lib
# /Users/stan/.cpanm/work/1621075073.95834/Test-Script-1.29/blib/arch
# 
# 
# 
# perl                5.032001 darwin darwin-2level
# Capture::Tiny       0.48
# ExtUtils::MakeMaker 7.62
# File::Spec          3.78
# IO::Handle          1.45
# Probe::Perl         0.03
# Test2::API          1.302183
# Test2::V0           0.000140
# Text::ParseWords    3.30
# 
# 
# 
t/00_diag.t ....................... ok
t/01_use.t ........................ ok
t/bug_gh9.t ....................... ok
t/test_script__exports.t .......... ok
t/test_script__fails.t ............ ok
t/test_script__import.t ........... ok
t/test_script__program_runs.t ..... ok
t/test_script__program_stderr.t ... ok
t/test_script__program_stdout.t ... ok
t/test_script__script_compiles.t .. ok
t/test_script__script_runs.t ...... ok
t/test_script__script_stderr.t .... ok
t/test_script__script_stdout.t .... ok
All tests successful.
Files=13, Tests=91,  3 wallclock secs ( 0.05 usr  0.03 sys +  1.75 cusr  0.55 csys =  2.38 CPU)
Result: PASS

------------------------------
PREREQUISITES
------------------------------

Prerequisite modules loaded:

    No requirements found

------------------------------
ENVIRONMENT AND OTHER CONTEXT
------------------------------

Environment variables:

    LANG = en_US.UTF-8
    LC_ALL = en_US.UTF-8
    LC_CTYPE = UTF-8
    LC_TERMINAL = iTerm2
    LC_TERMINAL_VERSION = 3.4.6
    LDFLAGS = -L/usr/local/opt/curl/lib
    PATH = /Users/stan/.vim/bin:/Users/stan/bin:/Users/stan/node_modules/.bin:/usr/local/sbin:/usr/local/opt/curl/bin:/Users/stan/perl5/perlbrew/bin:/Users/stan/perl5/perlbrew/perls/perl-5.32.1/bin:/usr/local/bin:/usr/bin:/bin:/usr/sbin:/sbin:/Users/stan/.vim/bin:/Users/stan/bin:/Users/stan/node_modules/.bin:/usr/local/sbin:/usr/local/opt/curl/bin
    PERLBREW_HOME = /Users/stan/.perlbrew
    PERLBREW_MANPATH = /Users/stan/perl5/perlbrew/perls/perl-5.32.1/man
    PERLBREW_PATH = /Users/stan/perl5/perlbrew/bin:/Users/stan/perl5/perlbrew/perls/perl-5.32.1/bin
    PERLBREW_PERL = perl-5.32.1
    PERLBREW_ROOT = /Users/stan/perl5/perlbrew
    PERLBREW_SHELLRC_VERSION = 0.91
    PERLBREW_VERSION = 0.91
    PERL_MM_USE_DEFAULT = 1
    SHELL = /usr/local/bin/zsh
    TERM = screen
    TMPDIR = /var/folders/tk/hx6fvpsj3yzbyd1k1br945mc0000gn/T/

Perl special variables (and OS-specific diagnostics, for MSWin32):

    EGID = 20 20 12 61 79 80 81 98 701 33 100 204 250 395 398 101 400
    EUID = 501
    EXECUTABLE_NAME = /Users/stan/perl5/perlbrew/perls/perl-5.32.1/bin/perl
    GID = 20 20 12 61 79 80 81 98 701 33 100 204 250 395 398 101 400
    UID = 501

Perl module toolchain versions installed:

    Module              Have    
    ------------------- --------
    CPAN                2.28    
    CPAN::Meta          2.150010
    Cwd                 3.78    
    ExtUtils::CBuilder  0.280236
    ExtUtils::Command   7.62    
    ExtUtils::Install   2.20    
    ExtUtils::MakeMaker 7.62    
    ExtUtils::Manifest  1.73    
    ExtUtils::ParseXS   3.40    
    File::Spec          3.78    
    JSON                4.03    
    JSON::PP            4.06    
    Module::Build       0.4231  
    Module::Signature   0.87    
    Parse::CPAN::Meta   2.150010
    Test::Harness       3.42    
    Test::More          1.302183
    YAML                1.30    
    YAML::Syck          n/a     
    version             0.9929  


--

Summary of my perl5 (revision 5 version 32 subversion 1) configuration:
   
  Platform:
    osname=darwin
    osvers=20.3.0
    archname=darwin-2level
    uname='darwin imac.fritz.box 20.3.0 darwin kernel version 20.3.0: thu jan 21 00:07:06 pst 2021; root:xnu-7195.81.3~1release_x86_64 x86_64 '
    config_args='-de -Dprefix=/Users/stan/perl5/perlbrew/perls/perl-5.32.1 -Aeval:scriptdir=/Users/stan/perl5/perlbrew/perls/perl-5.32.1/bin'
    hint=recommended
    useposix=true
    d_sigaction=define
    useithreads=undef
    usemultiplicity=undef
    use64bitint=define
    use64bitall=define
    uselongdouble=undef
    usemymalloc=n
    default_inc_excludes_dot=define
    bincompat5005=undef
  Compiler:
    cc='cc'
    ccflags ='-fno-common -DPERL_DARWIN -mmacosx-version-min=11.2 -fno-strict-aliasing -pipe -fstack-protector-strong -I/usr/local/include -DPERL_USE_SAFE_PUTENV'
    optimize='-O3'
    cppflags='-fno-common -DPERL_DARWIN -mmacosx-version-min=11.2 -fno-strict-aliasing -pipe -fstack-protector-strong -I/usr/local/include'
    ccversion=''
    gccversion='Apple LLVM 12.0.0 (clang-1200.0.32.29)'
    gccosandvers=''
    intsize=4
    longsize=8
    ptrsize=8
    doublesize=8
    byteorder=12345678
    doublekind=3
    d_longlong=define
    longlongsize=8
    d_longdbl=define
    longdblsize=16
    longdblkind=3
    ivtype='long'
    ivsize=8
    nvtype='double'
    nvsize=8
    Off_t='off_t'
    lseeksize=8
    alignbytes=8
    prototype=define
  Linker and Libraries:
    ld='cc'
    ldflags =' -mmacosx-version-min=11.2 -fstack-protector-strong -L/usr/local/lib'
    libpth=/usr/local/lib /Library/Developer/CommandLineTools/usr/lib/clang/12.0.0/lib /Library/Developer/CommandLineTools/SDKs/MacOSX.sdk/usr/lib /Library/Developer/CommandLineTools/usr/lib /usr/lib
    libs=-lgdbm
    perllibs=
    libc=
    so=dylib
    useshrplib=false
    libperl=libperl.a
    gnulibc_version=''
  Dynamic Linking:
    dlsrc=dl_dlopen.xs
    dlext=bundle
    d_dlsymun=undef
    ccdlflags=' '
    cccdlflags=' '
    lddlflags=' -mmacosx-version-min=11.2 -bundle -undefined dynamic_lookup -L/usr/local/lib -fstack-protector-strong'


Characteristics of this binary (from libperl): 
  Compile-time options:
    HAS_TIMES
    PERLIO_LAYERS
    PERL_COPY_ON_WRITE
    PERL_DONT_CREATE_GVSV
    PERL_MALLOC_WRAP
    PERL_OP_PARENT
    PERL_PRESERVE_IVUV
    PERL_USE_SAFE_PUTENV
    USE_64_BIT_ALL
    USE_64_BIT_INT
    USE_LARGE_FILES
    USE_LOCALE
    USE_LOCALE_COLLATE
    USE_LOCALE_CTYPE
    USE_LOCALE_NUMERIC
    USE_LOCALE_TIME
    USE_PERLIO
    USE_PERL_ATOF
  Locally applied patches:
    Devel::PatchPerl 2.08
  Built under darwin
  Compiled at Feb 19 2021 18:52:46
  %ENV:
    PERLBREW_HOME="/Users/stan/.perlbrew"
    PERLBREW_MANPATH="/Users/stan/perl5/perlbrew/perls/perl-5.32.1/man"
    PERLBREW_PATH="/Users/stan/perl5/perlbrew/bin:/Users/stan/perl5/perlbrew/perls/perl-5.32.1/bin"
    PERLBREW_PERL="perl-5.32.1"
    PERLBREW_ROOT="/Users/stan/perl5/perlbrew"
    PERLBREW_SHELLRC_VERSION="0.91"
    PERLBREW_VERSION="0.91"
    PERL_MM_USE_DEFAULT="1"
  @INC:
    /Users/stan/perl5/perlbrew/perls/perl-5.32.1/lib/site_perl/5.32.1/darwin-2level
    /Users/stan/perl5/perlbrew/perls/perl-5.32.1/lib/site_perl/5.32.1
    /Users/stan/perl5/perlbrew/perls/perl-5.32.1/lib/5.32.1/darwin-2level
    /Users/stan/perl5/perlbrew/perls/perl-5.32.1/lib/5.32.1